Workbook

Sheet Organisateur
A1: Lieu - date - numéro projet
A2: Num Cible | B2: Saisie libre des informations de Localisation | C2: Choix du type de cible (liste) | E2: Distance connue ou inconnue ? | F2: Saisie Distances parcours | L2: Rappel distances de la sélection | U2: Contrôle saisies distances des piquets | Z2: Contrôle Distances inter-piquets | AH2: Contrôle U13
L3: Rouge | N3: Bleu | P3: Blanc | R3: Orange | S3: Rose
F4: Rouge | G4: Bleu | H4: Blanc | I4: Orange | J4: Rose | L4: mini | M4: maxi | N4: mini | O4: maxi | P4: mini | Q4: maxi | R4: maxi | S4: mini | T4: maxi | U4: Rouge | V4: Bleu | W4: Blanc | X4: Orange | Y4: Rose | Z4: Rouge | AA4: Bleu | AB4: Bleu | AC4: Blanc | AD4: Blanc | AE4: Orange | AF4: Blanc | AG4: Rose | AH4: Orange
A5: Exemple | B5: Près du greffe | C5: 1 cible de 60 cm | E5: Connues | F5: 35 | G5: 30 | H5: 25 | I5: 20 | J5: 17 | L5: =IF($E5=0," ",IF($E5=$D$31,VLOOKUP($C5,'Valeurs Règlement Campagne'!$A$4:$AB$7,14,FALSE),VLOOKUP($C5,'Valeurs Règlement Campagne'!$A$4:$M$7,4,FALSE))) -> 35 | M5: =IF($E5=0," ",IF($E5=$D$31,VLOOKUP($C5,'Valeurs Règlement Campagne'!$A$4:$AB$7,16,FALSE),VLOOKUP($C5,'Valeurs Règlement Campagne'!$A$4:$AB$7,5,FALSE))) -> 45 | N5: =IF($E5=0," ",IF($E5=$D$31,VLOOKUP($C5,'Valeurs Règlement Campagne'!$A$4:$AB$7,17,FALSE),VLOOKUP($C5,'Valeurs Règlement Campagne'!$A$4:$AB$7,6,FALSE))) -> 30 | O5: =IF($E5=0," ",IF($E5=$D$31,VLOOKUP($C5,'Valeurs Règlement Campagne'!$A$4:$AB$7,19,FALSE),VLOOKUP($C5,'Valeurs Règlement Campagne'!$A$4:$AB$7,7,FALSE))) -> 40 | P5: =IF($E5=0," ",IF($E5=$D$31,VLOOKUP($C5,'Valeurs Règlement Campagne'!$A$4:$AB$7,20,FALSE),VLOOKUP($C5,'Valeurs Règlement Campagne'!$A$4:$AB$7,8,FALSE))) -> 20 | Q5: =IF($E5=0," ",IF($E5=$D$31,VLOOKUP($C5,'Valeurs Règlement Campagne'!$A$4:$AB$7,22,FALSE),VLOOKUP($C5,'Valeurs Règlement Campagne'!$A$4:$AB$7,9,FALSE))) -> 30 | R5: =IF($E5=0," ",IF($E5=$D$31,VLOOKUP($C5,'Valeurs Règlement Campagne'!$A$4:$AB$7,25,FALSE),VLOOKUP($C5,'Valeurs Règlement Campagne'!$A$4:$AB$7,11,FALSE))) -> 30 | S5: =IF($E5=0," ",IF($E5=$D$31,VLOOKUP($C5,'Valeurs Règlement Campagne'!$A$4:$AB$7,26,FALSE),VLOOKUP($C5,'Valeurs Règlement Campagne'!$A$4:$AB$7,12,FALSE))) -> 15 | T5: =IF($E5=0," ",IF($E5=$D$31,VLOOKUP($C5,'Valeurs Règlement Campagne'!$A$4:$AB$7,28,FALSE),VLOOKUP($C5,'Valeurs Règlement Campagne'!$A$4:$AB$7,13,FALSE))) -> 20 | U5: =IFERROR(IF(OR(C5="",C5=" ")," ",IF(NOT(ISNUMBER(F5))," ",IF(E5="Inconnues",AND(F5>=L5,F5<=M5),IF(E5="Connues",IF('Valeurs Règlement Campagne'!$L$14="OUI",IF(IF(ABS(F5-VLOOKUP(C5,'Valeurs Règlement Campagne'!$A$4:$AB$7,14,FALSE))<=2,VLOOKUP(C5,'Valeurs Règlement Campagne'!$A$4:$AB$7,14,FALSE),IF(ABS(F5-VLOOKUP(C5,'Valeurs Règlement Campagne'!$A$4:$AB$7,15,FALSE))<=2,VLOOKUP(C5,'Valeurs Règlement Campagne'!$A$4:$AB$7,15,FALSE),IF(ABS(F5-VLOOKUP(C5,'Valeurs Règlement Campagne'!$A$4:$AB$7,16,FALSE))<=2,VLOOKUP(C5,'Valeurs Règlement Campagne'!$A$4:$AB$7,16,FALSE),"")))="",FALSE,IF(COUNTIFS($C$5:C5,C5,$E$5:E5,"Connues",$F$5:F5,">="&(IF(ABS(F5-VLOOKUP(C5,'Valeurs Règlement Campagne'!$A$4:$AB$7,14,FALSE))<=2,VLOOKUP(C5,'Valeurs Règlement Campagne'!$A$4:$AB$7,14,FALSE),IF(ABS(F5-VLOOKUP(C5,'Valeurs Règlement Campagne'!$A$4:$AB$7,15,FALSE))<=2,VLOOKUP(C5,'Valeurs Règlement Campagne'!$A$4:$AB$7,15,FALSE),IF(ABS(F5-VLOOKUP(C5,'Valeurs Règlement Campagne'!$A$4:$AB$7,16,FALSE))<=2,VLOOKUP(C5,'Valeurs Règlement Campagne'!$A$4:$AB$7,16,FALSE),"")))-2),$F$5:F5,"<="&(IF(ABS(F5-VLOOKUP(C5,'Valeurs Règlement Campagne'!$A$4:$AB$7,14,FALSE))<=2,VLOOKUP(C5,'Valeurs Règlement Campagne'!$A$4:$AB$7,14,FALSE),IF(ABS(F5-VLOOKUP(C5,'Valeurs Règlement Campagne'!$A$4:$AB$7,15,FALSE))<=2,VLOOKUP(C5,'Valeurs Règlement Campagne'!$A$4:$AB$7,15,FALSE),IF(ABS(F5-VLOOKUP(C5,'Valeurs Règlement Campagne'!$A$4:$AB$7,16,FALSE))<=2,VLOOKUP(C5,'Valeurs Règlement Campagne'!$A$4:$AB$7,16,FALSE),"")))+2))>(IF(VLOOKUP(C5,'Valeurs Règlement Campagne'!$A$4:$AB$7,14,FALSE)=IF(ABS(F5-VLOOKUP(C5,'Valeurs Règlement Campagne'!$A$4:$AB$7,14,FALSE))<=2,VLOOKUP(C5,'Valeurs Règlement Campagne'!$A$4:$AB$7,14,FALSE),IF(ABS(F5-VLOOKUP(C5,'Valeurs Règlement Campagne'!$A$4:$AB$7,15,FALSE))<=2,VLOOKUP(C5,'Valeurs Règlement Campagne'!$A$4:$AB$7,15,FALSE),IF(ABS(F5-VLOOKUP(C5,'Valeurs Règlement Campagne'!$A$4:$AB$7,16,FALSE))<=2,VLOOKUP(C5,'Valeurs Règlement Campagne'!$A$4:$AB$7,16,FALSE),""))),1,0)+IF(VLOOKUP(C5,'Valeurs Règlement Campagne'!$A$4:$AB$7,15,FALSE)=IF(ABS(F5-VLOOKUP(C5,'Valeurs Règlement Campagne'!$A$4:$AB$7,14,FALSE))<=2,VLOOKUP(C5,'Valeurs Règlement Campagne'!$A$4:$AB$7,14,FALSE),IF(ABS(F5-VLOOKUP(C5,'Valeurs Règlement Campagne'!$A$4:$AB$7,15,FALSE))<=2,VLOOKUP(C5,'Valeurs Règlement Campagne'!$A$4:$AB$7,15,FALSE),IF(ABS(F5-VLOOKUP(C5,'Valeurs Règlement Campagne'!$A$4:$AB$7,16,FALSE))<=2,VLOOKUP(C5,'Valeurs Règlement Campagne'!$A$4:$AB$7,16,FALSE),""))),1,0)+IF(VLOOKUP(C5,'Valeurs Règlement Campagne'!$A$4:$AB$7,16,FALSE)=IF(ABS(F5-VLOOKUP(C5,'Valeurs Règlement Campagne'!$A$4:$AB$7,14,FALSE))<=2,VLOOKUP(C5,'Valeurs Règlement Campagne'!$A$4:$AB$7,14,FALSE),IF(ABS(F5-VLOOKUP(C5,'Valeurs Règlement Campagne'!$A$4:$AB$7,15,FALSE))<=2,VLOOKUP(C5,'Valeurs Règlement Campagne'!$A$4:$AB$7,15,FALSE),IF(ABS(F5-VLOOKUP(C5,'Valeurs Règlement Campagne'!$A$4:$AB$7,16,FALSE))<=2,VLOOKUP(C5,'Valeurs Règlement Campagne'!$A$4:$AB$7,16,FALSE),""))),1,0)),"Doublon",TRUE)),IF(IF(F5=VLOOKUP(C5,'Valeurs Règlement Campagne'!$A$4:$AB$7,14,FALSE),VLOOKUP(C5,'Valeurs Règlement Campagne'!$A$4:$AB$7,14,FALSE),IF(F5=VLOOKUP(C5,'Valeurs Règlement Campagne'!$A$4:$AB$7,15,FALSE),VLOOKUP(C5,'Valeurs Règlement Campagne'!$A$4:$AB$7,15,FALSE),IF(F5=VLOOKUP(C5,'Valeurs Règlement Campagne'!$A$4:$AB$7,16,FALSE),VLOOKUP(C5,'Valeurs Règlement Campagne'!$A$4:$AB$7,16,FALSE),"")))="",FALSE,IF(COUNTIFS($C$5:C5,C5,$E$5:E5,"Connues",$F$5:F5,IF(F5=VLOOKUP(C5,'Valeurs Règlement Campagne'!$A$4:$AB$7,14,FALSE),VLOOKUP(C5,'Valeurs Règlement Campagne'!$A$4:$AB$7,14,FALSE),IF(F5=VLOOKUP(C5,'Valeurs Règlement Campagne'!$A$4:$AB$7,15,FALSE),VLOOKUP(C5,'Valeurs Règlement Campagne'!$A$4:$AB$7,15,FALSE),IF(F5=VLOOKUP(C5,'Valeurs Règlement Campagne'!$A$4:$AB$7,16,FALSE),VLOOKUP(C5,'Valeurs Règlement Campagne'!$A$4:$AB$7,16,FALSE),""))))>(IF(VLOOKUP(C5,'Valeurs Règlement Campagne'!$A$4:$AB$7,14,FALSE)=IF(F5=VLOOKUP(C5,'Valeurs Règlement Campagne'!$A$4:$AB$7,14,FALSE),VLOOKUP(C5,'Valeurs Règlement Campagne'!$A$4:$AB$7,14,FALSE),IF(F5=VLOOKUP(C5,'Valeurs Règlement Campagne'!$A$4:$AB$7,15,FALSE),VLOOKUP(C5,'Valeurs Règlement Campagne'!$A$4:$AB$7,15,FALSE),IF(F5=VLOOKUP(C5,'Valeurs Règlement Campagne'!$A$4:$AB$7,16,FALSE),VLOOKUP(C5,'Valeurs Règlement Campagne'!$A$4:$AB$7,16,FALSE),""))),1,0)+IF(VLOOKUP(C5,'Valeurs Règlement Campagne'!$A$4:$AB$7,15,FALSE)=IF(F5=VLOOKUP(C5,'Valeurs Règlement Campagne'!$A$4:$AB$7,14,FALSE),VLOOKUP(C5,'Valeurs Règlement Campagne'!$A$4:$AB$7,14,FALSE),IF(F5=VLOOKUP(C5,'Valeurs Règlement Campagne'!$A$4:$AB$7,15,FALSE),VLOOKUP(C5,'Valeurs Règlement Campagne'!$A$4:$AB$7,15,FALSE),IF(F5=VLOOKUP(C5,'Valeurs Règlement Campagne'!$A$4:$AB$7,16,FALSE),VLOOKUP(C5,'Valeurs Règlement Campagne'!$A$4:$AB$7,16,FALSE),""))),1,0)+IF(VLOOKUP(C5,'Valeurs Règlement Campagne'!$A$4:$AB$7,16,FALSE)=IF(F5=VLOOKUP(C5,'Valeurs Règlement Campagne'!$A$4:$AB$7,14,FALSE),VLOOKUP(C5,'Valeurs Règlement Campagne'!$A$4:$AB$7,14,FALSE),IF(F5=VLOOKUP(C5,'Valeurs Règlement Campagne'!$A$4:$AB$7,15,FALSE),VLOOKUP(C5,'Valeurs Règlement Campagne'!$A$4:$AB$7,15,FALSE),IF(F5=VLOOKUP(C5,'Valeurs Règlement Campagne'!$A$4:$AB$7,16,FALSE),VLOOKUP(C5,'Valeurs Règlement Campagne'!$A$4:$AB$7,16,FALSE),""))),1,0)),"Doublon",TRUE)))," "))))," ") -> TRUE | V5: =IFERROR(IF(OR(C5="",C5=" ")," ",IF(NOT(ISNUMBER(G5))," ",IF(E5="Inconnues",AND(G5>=N5,G5<=O5),IF(E5="Connues",IF('Valeurs Règlement Campagne'!$L$14="OUI",IF(IF(ABS(G5-VLOOKUP(C5,'Valeurs Règlement Campagne'!$A$4:$AB$7,17,FALSE))<=2,VLOOKUP(C5,'Valeurs Règlement Campagne'!$A$4:$AB$7,17,FALSE),IF(ABS(G5-VLOOKUP(C5,'Valeurs Règlement Campagne'!$A$4:$AB$7,18,FALSE))<=2,VLOOKUP(C5,'Valeurs Règlement Campagne'!$A$4:$AB$7,18,FALSE),IF(ABS(G5-VLOOKUP(C5,'Valeurs Règlement Campagne'!$A$4:$AB$7,19,FALSE))<=2,VLOOKUP(C5,'Valeurs Règlement Campagne'!$A$4:$AB$7,19,FALSE),"")))="",FALSE,IF(COUNTIFS($C$5:C5,C5,$E$5:E5,"Connues",$G$5:G5,">="&(IF(ABS(G5-VLOOKUP(C5,'Valeurs Règlement Campagne'!$A$4:$AB$7,17,FALSE))<=2,VLOOKUP(C5,'Valeurs Règlement Campagne'!$A$4:$AB$7,17,FALSE),IF(ABS(G5-VLOOKUP(C5,'Valeurs Règlement Campagne'!$A$4:$AB$7,18,FALSE))<=2,VLOOKUP(C5,'Valeurs Règlement Campagne'!$A$4:$AB$7,18,FALSE),IF(ABS(G5-VLOOKUP(C5,'Valeurs Règlement Campagne'!$A$4:$AB$7,19,FALSE))<=2,VLOOKUP(C5,'Valeurs Règlement Campagne'!$A$4:$AB$7,19,FALSE),"")))-2),$G$5:G5,"<="&(IF(ABS(G5-VLOOKUP(C5,'Valeurs Règlement Campagne'!$A$4:$AB$7,17,FALSE))<=2,VLOOKUP(C5,'Valeurs Règlement Campagne'!$A$4:$AB$7,17,FALSE),IF(ABS(G5-VLOOKUP(C5,'Valeurs Règlement Campagne'!$A$4:$AB$7,18,FALSE))<=2,VLOOKUP(C5,'Valeurs Règlement Campagne'!$A$4:$AB$7,18,FALSE),IF(ABS(G5-VLOOKUP(C5,'Valeurs Règlement Campagne'!$A$4:$AB$7,19,FALSE))<=2,VLOOKUP(C5,'Valeurs Règlement Campagne'!$A$4:$AB$7,19,FALSE),"")))+2))>(IF(VLOOKUP(C5,'Valeurs Règlement Campagne'!$A$4:$AB$7,17,FALSE)=IF(ABS(G5-VLOOKUP(C5,'Valeurs Règlement Campagne'!$A$4:$AB$7,17,FALSE))<=2,VLOOKUP(C5,'Valeurs Règlement Campagne'!$A$4:$AB$7,17,FALSE),IF(ABS(G5-VLOOKUP(C5,'Valeurs Règlement Campagne'!$A$4:$AB$7,18,FALSE))<=2,VLOOKUP(C5,'Valeurs Règlement Campagne'!$A$4:$AB$7,18,FALSE),IF(ABS(G5-VLOOKUP(C5,'Valeurs Règlement Campagne'!$A$4:$AB$7,19,FALSE))<=2,VLOOKUP(C5,'Valeurs Règlement Campagne'!$A$4:$AB$7,19,FALSE),""))),1,0)+IF(VLOOKUP(C5,'Valeurs Règlement Campagne'!$A$4:$AB$7,18,FALSE)=IF(ABS(G5-VLOOKUP(C5,'Valeurs Règlement Campagne'!$A$4:$AB$7,17,FALSE))<=2,VLOOKUP(C5,'Valeurs Règlement Campagne'!$A$4:$AB$7,17,FALSE),IF(ABS(G5-VLOOKUP(C5,'Valeurs Règlement Campagne'!$A$4:$AB$7,18,FALSE))<=2,VLOOKUP(C5,'Valeurs Règlement Campagne'!$A$4:$AB$7,18,FALSE),IF(ABS(G5-VLOOKUP(C5,'Valeurs Règlement Campagne'!$A$4:$AB$7,19,FALSE))<=2,VLOOKUP(C5,'Valeurs Règlement Campagne'!$A$4:$AB$7,19,FALSE),""))),1,0)+IF(VLOOKUP(C5,'Valeurs Règlement Campagne'!$A$4:$AB$7,19,FALSE)=IF(ABS(G5-VLOOKUP(C5,'Valeurs Règlement Campagne'!$A$4:$AB$7,17,FALSE))<=2,VLOOKUP(C5,'Valeurs Règlement Campagne'!$A$4:$AB$7,17,FALSE),IF(ABS(G5-VLOOKUP(C5,'Valeurs Règlement Campagne'!$A$4:$AB$7,18,FALSE))<=2,VLOOKUP(C5,'Valeurs Règlement Campagne'!$A$4:$AB$7,18,FALSE),IF(ABS(G5-VLOOKUP(C5,'Valeurs Règlement Campagne'!$A$4:$AB$7,19,FALSE))<=2,VLOOKUP(C5,'Valeurs Règlement Campagne'!$A$4:$AB$7,19,FALSE),""))),1,0)),"Doublon",TRUE)),IF(IF(G5=VLOOKUP(C5,'Valeurs Règlement Campagne'!$A$4:$AB$7,17,FALSE),VLOOKUP(C5,'Valeurs Règlement Campagne'!$A$4:$AB$7,17,FALSE),IF(G5=VLOOKUP(C5,'Valeurs Règlement Campagne'!$A$4:$AB$7,18,FALSE),VLOOKUP(C5,'Valeurs Règlement Campagne'!$A$4:$AB$7,18,FALSE),IF(G5=VLOOKUP(C5,'Valeurs Règlement Campagne'!$A$4:$AB$7,19,FALSE),VLOOKUP(C5,'Valeurs Règlement Campagne'!$A$4:$AB$7,19,FALSE),"")))="",FALSE,IF(COUNTIFS($C$5:C5,C5,$E$5:E5,"Connues",$G$5:G5,IF(G5=VLOOKUP(C5,'Valeurs Règlement Campagne'!$A$4:$AB$7,17,FALSE),VLOOKUP(C5,'Valeurs Règlement Campagne'!$A$4:$AB$7,17,FALSE),IF(G5=VLOOKUP(C5,'Valeurs Règlement Campagne'!$A$4:$AB$7,18,FALSE),VLOOKUP(C5,'Valeurs Règlement Campagne'!$A$4:$AB$7,18,FALSE),IF(G5=VLOOKUP(C5,'Valeurs Règlement Campagne'!$A$4:$AB$7,19,FALSE),VLOOKUP(C5,'Valeurs Règlement Campagne'!$A$4:$AB$7,19,FALSE),""))))>(IF(VLOOKUP(C5,'Valeurs Règlement Campagne'!$A$4:$AB$7,17,FALSE)=IF(G5=VLOOKUP(C5,'Valeurs Règlement Campagne'!$A$4:$AB$7,17,FALSE),VLOOKUP(C5,'Valeurs Règlement Campagne'!$A$4:$AB$7,17,FALSE),IF(G5=VLOOKUP(C5,'Valeurs Règlement Campagne'!$A$4:$AB$7,18,FALSE),VLOOKUP(C5,'Valeurs Règlement Campagne'!$A$4:$AB$7,18,FALSE),IF(G5=VLOOKUP(C5,'Valeurs Règlement Campagne'!$A$4:$AB$7,19,FALSE),VLOOKUP(C5,'Valeurs Règlement Campagne'!$A$4:$AB$7,19,FALSE),""))),1,0)+IF(VLOOKUP(C5,'Valeurs Règlement Campagne'!$A$4:$AB$7,18,FALSE)=IF(G5=VLOOKUP(C5,'Valeurs Règlement Campagne'!$A$4:$AB$7,17,FALSE),VLOOKUP(C5,'Valeurs Règlement Campagne'!$A$4:$AB$7,17,FALSE),IF(G5=VLOOKUP(C5,'Valeurs Règlement Campagne'!$A$4:$AB$7,18,FALSE),VLOOKUP(C5,'Valeurs Règlement Campagne'!$A$4:$AB$7,18,FALSE),IF(G5=VLOOKUP(C5,'Valeurs Règlement Campagne'!$A$4:$AB$7,19,FALSE),VLOOKUP(C5,'Valeurs Règlement Campagne'!$A$4:$AB$7,19,FALSE),""))),1,0)+IF(VLOOKUP(C5,'Valeurs Règlement Campagne'!$A$4:$AB$7,19,FALSE)=IF(G5=VLOOKUP(C5,'Valeurs Règlement Campagne'!$A$4:$AB$7,17,FALSE),VLOOKUP(C5,'Valeurs Règlement Campagne'!$A$4:$AB$7,17,FALSE),IF(G5=VLOOKUP(C5,'Valeurs Règlement Campagne'!$A$4:$AB$7,18,FALSE),VLOOKUP(C5,'Valeurs Règlement Campagne'!$A$4:$AB$7,18,FALSE),IF(G5=VLOOKUP(C5,'Valeurs Règlement Campagne'!$A$4:$AB$7,19,FALSE),VLOOKUP(C5,'Valeurs Règlement Campagne'!$A$4:$AB$7,19,FALSE),""))),1,0)),"Doublon",TRUE)))," "))))," ") -> TRUE | W5: =IFERROR(IF(OR(C5="",C5=" ")," ",IF(NOT(ISNUMBER(H5))," ",IF(E5="Inconnues",AND(H5>=P5,H5<=Q5),IF(E5="Connues",IF('Valeurs Règlement Campagne'!$L$14="OUI",IF(IF(ABS(H5-VLOOKUP(C5,'Valeurs Règlement Campagne'!$A$4:$AB$7,20,FALSE))<=2,VLOOKUP(C5,'Valeurs Règlement Campagne'!$A$4:$AB$7,20,FALSE),IF(ABS(H5-VLOOKUP(C5,'Valeurs Règlement Campagne'!$A$4:$AB$7,21,FALSE))<=2,VLOOKUP(C5,'Valeurs Règlement Campagne'!$A$4:$AB$7,21,FALSE),IF(ABS(H5-VLOOKUP(C5,'Valeurs Règlement Campagne'!$A$4:$AB$7,22,FALSE))<=2,VLOOKUP(C5,'Valeurs Règlement Campagne'!$A$4:$AB$7,22,FALSE),"")))="",FALSE,IF(COUNTIFS($C$5:C5,C5,$E$5:E5,"Connues",$H$5:H5,">="&(IF(ABS(H5-VLOOKUP(C5,'Valeurs Règlement Campagne'!$A$4:$AB$7,20,FALSE))<=2,VLOOKUP(C5,'Valeurs Règlement Campagne'!$A$4:$AB$7,20,FALSE),IF(ABS(H5-VLOOKUP(C5,'Valeurs Règlement Campagne'!$A$4:$AB$7,21,FALSE))<=2,VLOOKUP(C5,'Valeurs Règlement Campagne'!$A$4:$AB$7,21,FALSE),IF(ABS(H5-VLOOKUP(C5,'Valeurs Règlement Campagne'!$A$4:$AB$7,22,FALSE))<=2,VLOOKUP(C5,'Valeurs Règlement Campagne'!$A$4:$AB$7,22,FALSE),"")))-2),$H$5:H5,"<="&(IF(ABS(H5-VLOOKUP(C5,'Valeurs Règlement Campagne'!$A$4:$AB$7,20,FALSE))<=2,VLOOKUP(C5,'Valeurs Règlement Campagne'!$A$4:$AB$7,20,FALSE),IF(ABS(H5-VLOOKUP(C5,'Valeurs Règlement Campagne'!$A$4:$AB$7,21,FALSE))<=2,VLOOKUP(C5,'Valeurs Règlement Campagne'!$A$4:$AB$7,21,FALSE),IF(ABS(H5-VLOOKUP(C5,'Valeurs Règlement Campagne'!$A$4:$AB$7,22,FALSE))<=2,VLOOKUP(C5,'Valeurs Règlement Campagne'!$A$4:$AB$7,22,FALSE),"")))+2))>(IF(VLOOKUP(C5,'Valeurs Règlement Campagne'!$A$4:$AB$7,20,FALSE)=IF(ABS(H5-VLOOKUP(C5,'Valeurs Règlement Campagne'!$A$4:$AB$7,20,FALSE))<=2,VLOOKUP(C5,'Valeurs Règlement Campagne'!$A$4:$AB$7,20,FALSE),IF(ABS(H5-VLOOKUP(C5,'Valeurs Règlement Campagne'!$A$4:$AB$7,21,FALSE))<=2,VLOOKUP(C5,'Valeurs Règlement Campagne'!$A$4:$AB$7,21,FALSE),IF(ABS(H5-VLOOKUP(C5,'Valeurs Règlement Campagne'!$A$4:$AB$7,22,FALSE))<=2,VLOOKUP(C5,'Valeurs Règlement Campagne'!$A$4:$AB$7,22,FALSE),""))),1,0)+IF(VLOOKUP(C5,'Valeurs Règlement Campagne'!$A$4:$AB$7,21,FALSE)=IF(ABS(H5-VLOOKUP(C5,'Valeurs Règlement Campagne'!$A$4:$AB$7,20,FALSE))<=2,VLOOKUP(C5,'Valeurs Règlement Campagne'!$A$4:$AB$7,20,FALSE),IF(ABS(H5-VLOOKUP(C5,'Valeurs Règlement Campagne'!$A$4:$AB$7,21,FALSE))<=2,VLOOKUP(C5,'Valeurs Règlement Campagne'!$A$4:$AB$7,21,FALSE),IF(ABS(H5-VLOOKUP(C5,'Valeurs Règlement Campagne'!$A$4:$AB$7,22,FALSE))<=2,VLOOKUP(C5,'Valeurs Règlement Campagne'!$A$4:$AB$7,22,FALSE),""))),1,0)+IF(VLOOKUP(C5,'Valeurs Règlement Campagne'!$A$4:$AB$7,22,FALSE)=IF(ABS(H5-VLOOKUP(C5,'Valeurs Règlement Campagne'!$A$4:$AB$7,20,FALSE))<=2,VLOOKUP(C5,'Valeurs Règlement Campagne'!$A$4:$AB$7,20,FALSE),IF(ABS(H5-VLOOKUP(C5,'Valeurs Règlement Campagne'!$A$4:$AB$7,21,FALSE))<=2,VLOOKUP(C5,'Valeurs Règlement Campagne'!$A$4:$AB$7,21,FALSE),IF(ABS(H5-VLOOKUP(C5,'Valeurs Règlement Campagne'!$A$4:$AB$7,22,FALSE))<=2,VLOOKUP(C5,'Valeurs Règlement Campagne'!$A$4:$AB$7,22,FALSE),""))),1,0)),"Doublon",TRUE)),IF(IF(H5=VLOOKUP(C5,'Valeurs Règlement Campagne'!$A$4:$AB$7,20,FALSE),VLOOKUP(C5,'Valeurs Règlement Campagne'!$A$4:$AB$7,20,FALSE),IF(H5=VLOOKUP(C5,'Valeurs Règlement Campagne'!$A$4:$AB$7,21,FALSE),VLOOKUP(C5,'Valeurs Règlement Campagne'!$A$4:$AB$7,21,FALSE),IF(H5=VLOOKUP(C5,'Valeurs Règlement Campagne'!$A$4:$AB$7,22,FALSE),VLOOKUP(C5,'Valeurs Règlement Campagne'!$A$4:$AB$7,22,FALSE),"")))="",FALSE,IF(COUNTIFS($C$5:C5,C5,$E$5:E5,"Connues",$H$5:H5,IF(H5=VLOOKUP(C5,'Valeurs Règlement Campagne'!$A$4:$AB$7,20,FALSE),VLOOKUP(C5,'Valeurs Règlement Campagne'!$A$4:$AB$7,20,FALSE),IF(H5=VLOOKUP(C5,'Valeurs Règlement Campagne'!$A$4:$AB$7,21,FALSE),VLOOKUP(C5,'Valeurs Règlement Campagne'!$A$4:$AB$7,21,FALSE),IF(H5=VLOOKUP(C5,'Valeurs Règlement Campagne'!$A$4:$AB$7,22,FALSE),VLOOKUP(C5,'Valeurs Règlement Campagne'!$A$4:$AB$7,22,FALSE),""))))>(IF(VLOOKUP(C5,'Valeurs Règlement Campagne'!$A$4:$AB$7,20,FALSE)=IF(H5=VLOOKUP(C5,'Valeurs Règlement Campagne'!$A$4:$AB$7,20,FALSE),VLOOKUP(C5,'Valeurs Règlement Campagne'!$A$4:$AB$7,20,FALSE),IF(H5=VLOOKUP(C5,'Valeurs Règlement Campagne'!$A$4:$AB$7,21,FALSE),VLOOKUP(C5,'Valeurs Règlement Campagne'!$A$4:$AB$7,21,FALSE),IF(H5=VLOOKUP(C5,'Valeurs Règlement Campagne'!$A$4:$AB$7,22,FALSE),VLOOKUP(C5,'Valeurs Règlement Campagne'!$A$4:$AB$7,22,FALSE),""))),1,0)+IF(VLOOKUP(C5,'Valeurs Règlement Campagne'!$A$4:$AB$7,21,FALSE)=IF(H5=VLOOKUP(C5,'Valeurs Règlement Campagne'!$A$4:$AB$7,20,FALSE),VLOOKUP(C5,'Valeurs Règlement Campagne'!$A$4:$AB$7,20,FALSE),IF(H5=VLOOKUP(C5,'Valeurs Règlement Campagne'!$A$4:$AB$7,21,FALSE),VLOOKUP(C5,'Valeurs Règlement Campagne'!$A$4:$AB$7,21,FALSE),IF(H5=VLOOKUP(C5,'Valeurs Règlement Campagne'!$A$4:$AB$7,22,FALSE),VLOOKUP(C5,'Valeurs Règlement Campagne'!$A$4:$AB$7,22,FALSE),""))),1,0)+IF(VLOOKUP(C5,'Valeurs Règlement Campagne'!$A$4:$AB$7,22,FALSE)=IF(H5=VLOOKUP(C5,'Valeurs Règlement Campagne'!$A$4:$AB$7,20,FALSE),VLOOKUP(C5,'Valeurs Règlement Campagne'!$A$4:$AB$7,20,FALSE),IF(H5=VLOOKUP(C5,'Valeurs Règlement Campagne'!$A$4:$AB$7,21,FALSE),VLOOKUP(C5,'Valeurs Règlement Campagne'!$A$4:$AB$7,21,FALSE),IF(H5=VLOOKUP(C5,'Valeurs Règlement Campagne'!$A$4:$AB$7,22,FALSE),VLOOKUP(C5,'Valeurs Règlement Campagne'!$A$4:$AB$7,22,FALSE),""))),1,0)),"Doublon",TRUE)))," "))))," ") -> TRUE | X5: =IFERROR(IF(OR(C5="",C5=" ")," ",IF(NOT(ISNUMBER(I5))," ",IF(E5="Inconnues",AND(I5>=P5,I5<=R5),IF(E5="Connues",IF('Valeurs Règlement Campagne'!$L$14="OUI",IF(IF(ABS(I5-VLOOKUP(C5,'Valeurs Règlement Campagne'!$A$4:$AB$7,23,FALSE))<=2,VLOOKUP(C5,'Valeurs Règlement Campagne'!$A$4:$AB$7,23,FALSE),IF(ABS(I5-VLOOKUP(C5,'Valeurs Règlement Campagne'!$A$4:$AB$7,24,FALSE))<=2,VLOOKUP(C5,'Valeurs Règlement Campagne'!$A$4:$AB$7,24,FALSE),IF(ABS(I5-VLOOKUP(C5,'Valeurs Règlement Campagne'!$A$4:$AB$7,25,FALSE))<=2,VLOOKUP(C5,'Valeurs Règlement Campagne'!$A$4:$AB$7,25,FALSE),"")))="",FALSE,IF(COUNTIFS($C$5:C5,C5,$E$5:E5,"Connues",$I$5:I5,">="&(IF(ABS(I5-VLOOKUP(C5,'Valeurs Règlement Campagne'!$A$4:$AB$7,23,FALSE))<=2,VLOOKUP(C5,'Valeurs Règlement Campagne'!$A$4:$AB$7,23,FALSE),IF(ABS(I5-VLOOKUP(C5,'Valeurs Règlement Campagne'!$A$4:$AB$7,24,FALSE))<=2,VLOOKUP(C5,'Valeurs Règlement Campagne'!$A$4:$AB$7,24,FALSE),IF(ABS(I5-VLOOKUP(C5,'Valeurs Règlement Campagne'!$A$4:$AB$7,25,FALSE))<=2,VLOOKUP(C5,'Valeurs Règlement Campagne'!$A$4:$AB$7,25,FALSE),"")))-2),$I$5:I5,"<="&(IF(ABS(I5-VLOOKUP(C5,'Valeurs Règlement Campagne'!$A$4:$AB$7,23,FALSE))<=2,VLOOKUP(C5,'Valeurs Règlement Campagne'!$A$4:$AB$7,23,FALSE),IF(ABS(I5-VLOOKUP(C5,'Valeurs Règlement Campagne'!$A$4:$AB$7,24,FALSE))<=2,VLOOKUP(C5,'Valeurs Règlement Campagne'!$A$4:$AB$7,24,FALSE),IF(ABS(I5-VLOOKUP(C5,'Valeurs Règlement Campagne'!$A$4:$AB$7,25,FALSE))<=2,VLOOKUP(C5,'Valeurs Règlement Campagne'!$A$4:$AB$7,25,FALSE),"")))+2))>(IF(VLOOKUP(C5,'Valeurs Règlement Campagne'!$A$4:$AB$7,23,FALSE)=IF(ABS(I5-VLOOKUP(C5,'Valeurs Règlement Campagne'!$A$4:$AB$7,23,FALSE))<=2,VLOOKUP(C5,'Valeurs Règlement Campagne'!$A$4:$AB$7,23,FALSE),IF(ABS(I5-VLOOKUP(C5,'Valeurs Règlement Campagne'!$A$4:$AB$7,24,FALSE))<=2,VLOOKUP(C5,'Valeurs Règlement Campagne'!$A$4:$AB$7,24,FALSE),IF(ABS(I5-VLOOKUP(C5,'Valeurs Règlement Campagne'!$A$4:$AB$7,25,FALSE))<=2,VLOOKUP(C5,'Valeurs Règlement Campagne'!$A$4:$AB$7,25,FALSE),""))),1,0)+IF(VLOOKUP(C5,'Valeurs Règlement Campagne'!$A$4:$AB$7,24,FALSE)=IF(ABS(I5-VLOOKUP(C5,'Valeurs Règlement Campagne'!$A$4:$AB$7,23,FALSE))<=2,VLOOKUP(C5,'Valeurs Règlement Campagne'!$A$4:$AB$7,23,FALSE),IF(ABS(I5-VLOOKUP(C5,'Valeurs Règlement Campagne'!$A$4:$AB$7,24,FALSE))<=2,VLOOKUP(C5,'Valeurs Règlement Campagne'!$A$4:$AB$7,24,FALSE),IF(ABS(I5-VLOOKUP(C5,'Valeurs Règlement Campagne'!$A$4:$AB$7,25,FALSE))<=2,VLOOKUP(C5,'Valeurs Règlement Campagne'!$A$4:$AB$7,25,FALSE),""))),1,0)+IF(VLOOKUP(C5,'Valeurs Règlement Campagne'!$A$4:$AB$7,25,FALSE)=IF(ABS(I5-VLOOKUP(C5,'Valeurs Règlement Campagne'!$A$4:$AB$7,23,FALSE))<=2,VLOOKUP(C5,'Valeurs Règlement Campagne'!$A$4:$AB$7,23,FALSE),IF(ABS(I5-VLOOKUP(C5,'Valeurs Règlement Campagne'!$A$4:$AB$7,24,FALSE))<=2,VLOOKUP(C5,'Valeurs Règlement Campagne'!$A$4:$AB$7,24,FALSE),IF(ABS(I5-VLOOKUP(C5,'Valeurs Règlement Campagne'!$A$4:$AB$7,25,FALSE))<=2,VLOOKUP(C5,'Valeurs Règlement Campagne'!$A$4:$AB$7,25,FALSE),""))),1,0)),"Doublon",TRUE)),IF(IF(I5=VLOOKUP(C5,'Valeurs Règlement Campagne'!$A$4:$AB$7,23,FALSE),VLOOKUP(C5,'Valeurs Règlement Campagne'!$A$4:$AB$7,23,FALSE),IF(I5=VLOOKUP(C5,'Valeurs Règlement Campagne'!$A$4:$AB$7,24,FALSE),VLOOKUP(C5,'Valeurs Règlement Campagne'!$A$4:$AB$7,24,FALSE),IF(I5=VLOOKUP(C5,'Valeurs Règlement Campagne'!$A$4:$AB$7,25,FALSE),VLOOKUP(C5,'Valeurs Règlement Campagne'!$A$4:$AB$7,25,FALSE),"")))="",FALSE,IF(COUNTIFS($C$5:C5,C5,$E$5:E5,"Connues",$I$5:I5,IF(I5=VLOOKUP(C5,'Valeurs Règlement Campagne'!$A$4:$AB$7,23,FALSE),VLOOKUP(C5,'Valeurs Règlement Campagne'!$A$4:$AB$7,23,FALSE),IF(I5=VLOOKUP(C5,'Valeurs Règlement Campagne'!$A$4:$AB$7,24,FALSE),VLOOKUP(C5,'Valeurs Règlement Campagne'!$A$4:$AB$7,24,FALSE),IF(I5=VLOOKUP(C5,'Valeurs Règlement Campagne'!$A$4:$AB$7,25,FALSE),VLOOKUP(C5,'Valeurs Règlement Campagne'!$A$4:$AB$7,25,FALSE),""))))>(IF(VLOOKUP(C5,'Valeurs Règlement Campagne'!$A$4:$AB$7,23,FALSE)=IF(I5=VLOOKUP(C5,'Valeurs Règlement Campagne'!$A$4:$AB$7,23,FALSE),VLOOKUP(C5,'Valeurs Règlement Campagne'!$A$4:$AB$7,23,FALSE),IF(I5=VLOOKUP(C5,'Valeurs Règlement Campagne'!$A$4:$AB$7,24,FALSE),VLOOKUP(C5,'Valeurs Règlement Campagne'!$A$4:$AB$7,24,FALSE),IF(I5=VLOOKUP(C5,'Valeurs Règlement Campagne'!$A$4:$AB$7,25,FALSE),VLOOKUP(C5,'Valeurs Règlement Campagne'!$A$4:$AB$7,25,FALSE),""))),1,0)+IF(VLOOKUP(C5,'Valeurs Règlement Campagne'!$A$4:$AB$7,24,FALSE)=IF(I5=VLOOKUP(C5,'Valeurs Règlement Campagne'!$A$4:$AB$7,23,FALSE),VLOOKUP(C5,'Valeurs Règlement Campagne'!$A$4:$AB$7,23,FALSE),IF(I5=VLOOKUP(C5,'Valeurs Règlement Campagne'!$A$4:$AB$7,24,FALSE),VLOOKUP(C5,'Valeurs Règlement Campagne'!$A$4:$AB$7,24,FALSE),IF(I5=VLOOKUP(C5,'Valeurs Règlement Campagne'!$A$4:$AB$7,25,FALSE),VLOOKUP(C5,'Valeurs Règlement Campagne'!$A$4:$AB$7,25,FALSE),""))),1,0)+IF(VLOOKUP(C5,'Valeurs Règlement Campagne'!$A$4:$AB$7,25,FALSE)=IF(I5=VLOOKUP(C5,'Valeurs Règlement Campagne'!$A$4:$AB$7,23,FALSE),VLOOKUP(C5,'Valeurs Règlement Campagne'!$A$4:$AB$7,23,FALSE),IF(I5=VLOOKUP(C5,'Valeurs Règlement Campagne'!$A$4:$AB$7,24,FALSE),VLOOKUP(C5,'Valeurs Règlement Campagne'!$A$4:$AB$7,24,FALSE),IF(I5=VLOOKUP(C5,'Valeurs Règlement Campagne'!$A$4:$AB$7,25,FALSE),VLOOKUP(C5,'Valeurs Règlement Campagne'!$A$4:$AB$7,25,FALSE),""))),1,0)),"Doublon",TRUE)))," "))))," ") -> TRUE | Y5: =IFERROR(IF(OR(C5="",C5=" ")," ",IF(NOT(ISNUMBER(J5))," ",IF(E5="Inconnues",AND(J5>=S5,J5<=T5),IF(E5="Connues",IF('Valeurs Règlement Campagne'!$L$14="OUI",IF(IF(ABS(J5-VLOOKUP(C5,'Valeurs Règlement Campagne'!$A$4:$AB$7,26,FALSE))<=2,VLOOKUP(C5,'Valeurs Règlement Campagne'!$A$4:$AB$7,26,FALSE),IF(ABS(J5-VLOOKUP(C5,'Valeurs Règlement Campagne'!$A$4:$AB$7,27,FALSE))<=2,VLOOKUP(C5,'Valeurs Règlement Campagne'!$A$4:$AB$7,27,FALSE),IF(ABS(J5-VLOOKUP(C5,'Valeurs Règlement Campagne'!$A$4:$AB$7,28,FALSE))<=2,VLOOKUP(C5,'Valeurs Règlement Campagne'!$A$4:$AB$7,28,FALSE),"")))="",FALSE,IF(COUNTIFS($C$5:C5,C5,$E$5:E5,"Connues",$J$5:J5,">="&(IF(ABS(J5-VLOOKUP(C5,'Valeurs Règlement Campagne'!$A$4:$AB$7,26,FALSE))<=2,VLOOKUP(C5,'Valeurs Règlement Campagne'!$A$4:$AB$7,26,FALSE),IF(ABS(J5-VLOOKUP(C5,'Valeurs Règlement Campagne'!$A$4:$AB$7,27,FALSE))<=2,VLOOKUP(C5,'Valeurs Règlement Campagne'!$A$4:$AB$7,27,FALSE),IF(ABS(J5-VLOOKUP(C5,'Valeurs Règlement Campagne'!$A$4:$AB$7,28,FALSE))<=2,VLOOKUP(C5,'Valeurs Règlement Campagne'!$A$4:$AB$7,28,FALSE),"")))-2),$J$5:J5,"<="&(IF(ABS(J5-VLOOKUP(C5,'Valeurs Règlement Campagne'!$A$4:$AB$7,26,FALSE))<=2,VLOOKUP(C5,'Valeurs Règlement Campagne'!$A$4:$AB$7,26,FALSE),IF(ABS(J5-VLOOKUP(C5,'Valeurs Règlement Campagne'!$A$4:$AB$7,27,FALSE))<=2,VLOOKUP(C5,'Valeurs Règlement Campagne'!$A$4:$AB$7,27,FALSE),IF(ABS(J5-VLOOKUP(C5,'Valeurs Règlement Campagne'!$A$4:$AB$7,28,FALSE))<=2,VLOOKUP(C5,'Valeurs Règlement Campagne'!$A$4:$AB$7,28,FALSE),"")))+2))>(IF(VLOOKUP(C5,'Valeurs Règlement Campagne'!$A$4:$AB$7,26,FALSE)=IF(ABS(J5-VLOOKUP(C5,'Valeurs Règlement Campagne'!$A$4:$AB$7,26,FALSE))<=2,VLOOKUP(C5,'Valeurs Règlement Campagne'!$A$4:$AB$7,26,FALSE),IF(ABS(J5-VLOOKUP(C5,'Valeurs Règlement Campagne'!$A$4:$AB$7,27,FALSE))<=2,VLOOKUP(C5,'Valeurs Règlement Campagne'!$A$4:$AB$7,27,FALSE),IF(ABS(J5-VLOOKUP(C5,'Valeurs Règlement Campagne'!$A$4:$AB$7,28,FALSE))<=2,VLOOKUP(C5,'Valeurs Règlement Campagne'!$A$4:$AB$7,28,FALSE),""))),1,0)+IF(VLOOKUP(C5,'Valeurs Règlement Campagne'!$A$4:$AB$7,27,FALSE)=IF(ABS(J5-VLOOKUP(C5,'Valeurs Règlement Campagne'!$A$4:$AB$7,26,FALSE))<=2,VLOOKUP(C5,'Valeurs Règlement Campagne'!$A$4:$AB$7,26,FALSE),IF(ABS(J5-VLOOKUP(C5,'Valeurs Règlement Campagne'!$A$4:$AB$7,27,FALSE))<=2,VLOOKUP(C5,'Valeurs Règlement Campagne'!$A$4:$AB$7,27,FALSE),IF(ABS(J5-VLOOKUP(C5,'Valeurs Règlement Campagne'!$A$4:$AB$7,28,FALSE))<=2,VLOOKUP(C5,'Valeurs Règlement Campagne'!$A$4:$AB$7,28,FALSE),""))),1,0)+IF(VLOOKUP(C5,'Valeurs Règlement Campagne'!$A$4:$AB$7,28,FALSE)=IF(ABS(J5-VLOOKUP(C5,'Valeurs Règlement Campagne'!$A$4:$AB$7,26,FALSE))<=2,VLOOKUP(C5,'Valeurs Règlement Campagne'!$A$4:$AB$7,26,FALSE),IF(ABS(J5-VLOOKUP(C5,'Valeurs Règlement Campagne'!$A$4:$AB$7,27,FALSE))<=2,VLOOKUP(C5,'Valeurs Règlement Campagne'!$A$4:$AB$7,27,FALSE),IF(ABS(J5-VLOOKUP(C5,'Valeurs Règlement Campagne'!$A$4:$AB$7,28,FALSE))<=2,VLOOKUP(C5,'Valeurs Règlement Campagne'!$A$4:$AB$7,28,FALSE),""))),1,0)),"Doublon",TRUE)),IF(IF(J5=VLOOKUP(C5,'Valeurs Règlement Campagne'!$A$4:$AB$7,26,FALSE),VLOOKUP(C5,'Valeurs Règlement Campagne'!$A$4:$AB$7,26,FALSE),IF(J5=VLOOKUP(C5,'Valeurs Règlement Campagne'!$A$4:$AB$7,27,FALSE),VLOOKUP(C5,'Valeurs Règlement Campagne'!$A$4:$AB$7,27,FALSE),IF(J5=VLOOKUP(C5,'Valeurs Règlement Campagne'!$A$4:$AB$7,28,FALSE),VLOOKUP(C5,'Valeurs Règlement Campagne'!$A$4:$AB$7,28,FALSE),"")))="",FALSE,IF(COUNTIFS($C$5:C5,C5,$E$5:E5,"Connues",$J$5:J5,IF(J5=VLOOKUP(C5,'Valeurs Règlement Campagne'!$A$4:$AB$7,26,FALSE),VLOOKUP(C5,'Valeurs Règlement Campagne'!$A$4:$AB$7,26,FALSE),IF(J5=VLOOKUP(C5,'Valeurs Règlement Campagne'!$A$4:$AB$7,27,FALSE),VLOOKUP(C5,'Valeurs Règlement Campagne'!$A$4:$AB$7,27,FALSE),IF(J5=VLOOKUP(C5,'Valeurs Règlement Campagne'!$A$4:$AB$7,28,FALSE),VLOOKUP(C5,'Valeurs Règlement Campagne'!$A$4:$AB$7,28,FALSE),""))))>(IF(VLOOKUP(C5,'Valeurs Règlement Campagne'!$A$4:$AB$7,26,FALSE)=IF(J5=VLOOKUP(C5,'Valeurs Règlement Campagne'!$A$4:$AB$7,26,FALSE),VLOOKUP(C5,'Valeurs Règlement Campagne'!$A$4:$AB$7,26,FALSE),IF(J5=VLOOKUP(C5,'Valeurs Règlement Campagne'!$A$4:$AB$7,27,FALSE),VLOOKUP(C5,'Valeurs Règlement Campagne'!$A$4:$AB$7,27,FALSE),IF(J5=VLOOKUP(C5,'Valeurs Règlement Campagne'!$A$4:$AB$7,28,FALSE),VLOOKUP(C5,'Valeurs Règlement Campagne'!$A$4:$AB$7,28,FALSE),""))),1,0)+IF(VLOOKUP(C5,'Valeurs Règlement Campagne'!$A$4:$AB$7,27,FALSE)=IF(J5=VLOOKUP(C5,'Valeurs Règlement Campagne'!$A$4:$AB$7,26,FALSE),VLOOKUP(C5,'Valeurs Règlement Campagne'!$A$4:$AB$7,26,FALSE),IF(J5=VLOOKUP(C5,'Valeurs Règlement Campagne'!$A$4:$AB$7,27,FALSE),VLOOKUP(C5,'Valeurs Règlement Campagne'!$A$4:$AB$7,27,FALSE),IF(J5=VLOOKUP(C5,'Valeurs Règlement Campagne'!$A$4:$AB$7,28,FALSE),VLOOKUP(C5,'Valeurs Règlement Campagne'!$A$4:$AB$7,28,FALSE),""))),1,0)+IF(VLOOKUP(C5,'Valeurs Règlement Campagne'!$A$4:$AB$7,28,FALSE)=IF(J5=VLOOKUP(C5,'Valeurs Règlement Campagne'!$A$4:$AB$7,26,FALSE),VLOOKUP(C5,'Valeurs Règlement Campagne'!$A$4:$AB$7,26,FALSE),IF(J5=VLOOKUP(C5,'Valeurs Règlement Campagne'!$A$4:$AB$7,27,FALSE),VLOOKUP(C5,'Valeurs Règlement Campagne'!$A$4:$AB$7,27,FALSE),IF(J5=VLOOKUP(C5,'Valeurs Règlement Campagne'!$A$4:$AB$7,28,FALSE),VLOOKUP(C5,'Valeurs Règlement Campagne'!$A$4:$AB$7,28,FALSE),""))),1,0)),"Doublon",TRUE)))," "))))," ") -> TRUE | Z5: =IFERROR(IF(OR(NOT(ISNUMBER(F5)),NOT(ISNUMBER(G5)))," ",IF(OR(U5="Doublon",V5="Doublon"),"Doublon",IF(F5>=G5,IF(AND(U5=TRUE,V5=TRUE),"ok","faux"),"faux")))," ") -> ok | AB5: =IFERROR(IF(OR(NOT(ISNUMBER(G5)),NOT(ISNUMBER(H5)))," ",IF(OR(V5="Doublon",W5="Doublon"),"Doublon",IF(G5>=H5,IF(AND(V5=TRUE,W5=TRUE),"ok","faux"),"faux")))," ") -> ok | AD5: =IFERROR(IF(OR(NOT(ISNUMBER(H5)),NOT(ISNUMBER(I5)))," ",IF(OR(W5="Doublon",X5="Doublon"),"Doublon",IF(H5>=I5,IF(AND(W5=TRUE,X5=TRUE),"ok","faux"),"faux")))," ") -> ok | AF5: =IFERROR(IF(OR(NOT(ISNUMBER(H5)),NOT(ISNUMBER(J5)))," ",IF(OR(W5="Doublon",Y5="Doublon"),"Doublon",IF(H5>=J5,IF(AND(W5=TRUE,Y5=TRUE),"ok","faux"),"faux")))," ") -> ok | AH5: =IF(AND(E5="Inconnues",LEFT(C5,1)="1",ISNUMBER(I5)),"Obligatoire",IF(AND(E5="Connues",LEFT(C5,1)="1"),"Possible",IF(AND(E5="Inconnues",LEFT(C5,1)="1",NOT(ISNUMBER(I5))),"Manque orange",""))) -> Possible
