Workbook

Sheet Organisateur
A1: Lieu - date - numéro projet
A2: Num Cible | B2: Saisie libre des informations de Localisation | C2: Choix du type de cible (liste) | E2: Distance connue ou inconnue ? | F2: Saisie Distances parcours | L2: Rappel distances de la sélection | U2: Contrôle saisies distances des piquets | Z2: Contrôle Distances inter-piquets | AH2: Contrôle U13
L3: Rouge | N3: Bleu | P3: Blanc | R3: Orange | S3: Rose
F4: Rouge | G4: Bleu | H4: Blanc | I4: Orange | J4: Rose | L4: mini | M4: maxi | N4: mini | O4: maxi | P4: mini | Q4: maxi | R4: maxi | S4: mini | T4: maxi | U4: Rouge | V4: Bleu | W4: Blanc | X4: Orange | Y4: Rose | Z4: Rouge | AA4: Bleu | AB4: Bleu | AC4: Blanc | AD4: Blanc | AE4: Orange | AF4: Blanc | AG4: Rose | AH4: Orange
A5: Exemple | B5: Près du greffe | C5: 1 cible de 60 cm | E5: Connues | F5: 35 | G5: 30 | H5: 25 | I5: 20 | J5: 17 | L5: =IF($E5=0," ",IF($E5=$D$31,VLOOKUP($C5,'Valeurs Règlement Campagne'!$A$4:$AB$7,14,FALSE),VLOOKUP($C5,'Valeurs Règlement Campagne'!$A$4:$M$7,4,FALSE))) -> 35 | M5: =IF($E5=0," ",IF($E5=$D$31,VLOOKUP($C5,'Valeurs Règlement Campagne'!$A$4:$AB$7,16,FALSE),VLOOKUP($C5,'Valeurs Règlement Campagne'!$A$4:$AB$7,5,FALSE))) -> 45 | N5: =IF($E5=0," ",IF($E5=$D$31,VLOOKUP($C5,'Valeurs Règlement Campagne'!$A$4:$AB$7,17,FALSE),VLOOKUP($C5,'Valeurs Règlement Campagne'!$A$4:$AB$7,6,FALSE))) -> 30 | O5: =IF($E5=0," ",IF($E5=$D$31,VLOOKUP($C5,'Valeurs Règlement Campagne'!$A$4:$AB$7,19,FALSE),VLOOKUP($C5,'Valeurs Règlement Campagne'!$A$4:$AB$7,7,FALSE))) -> 40 | P5: =IF($E5=0," ",IF($E5=$D$31,VLOOKUP($C5,'Valeurs Règlement Campagne'!$A$4:$AB$7,20,FALSE),VLOOKUP($C5,'Valeurs Règlement Campagne'!$A$4:$AB$7,8,FALSE))) -> 20 | Q5: =IF($E5=0," ",IF($E5=$D$31,VLOOKUP($C5,'Valeurs Règlement Campagne'!$A$4:$AB$7,22,FALSE),VLOOKUP($C5,'Valeurs Règlement Campagne'!$A$4:$AB$7,9,FALSE))) -> 30 | R5: =IF($E5=0," ",IF($E5=$D$31,VLOOKUP($C5,'Valeurs Règlement Campagne'!$A$4:$AB$7,25,FALSE),VLOOKUP($C5,'Valeurs Règlement Campagne'!$A$4:$AB$7,11,FALSE))) -> 30 | S5: =IF($E5=0," ",IF($E5=$D$31,VLOOKUP($C5,'Valeurs Règlement Campagne'!$A$4:$AB$7,26,FALSE),VLOOKUP($C5,'Valeurs Règlement Campagne'!$A$4:$AB$7,12,FALSE))) -> 15 | T5: =IF($E5=0," ",IF($E5=$D$31,VLOOKUP($C5,'Valeurs Règlement Campagne'!$A$4:$AB$7,28,FALSE),VLOOKUP($C5,'Valeurs Règlement Campagne'!$A$4:$AB$7,13,FALSE))) -> 20 | U5: =IFERROR(IF(OR(C5="",C5=" ")," ",IF(NOT(ISNUMBER(F5))," ",IF(E5="Inconnues",AND(F5>=L5,F5<=M5),IF(E5="Connues",IF('Valeurs Règlement Campagne'!$L$14="OUI",IF(IF(ABS(F5-VLOOKUP(C5,'Valeurs Règlement Campagne'!$A$4:$AB$7,14,FALSE))<=2,VLOOKUP(C5,'Valeurs Règlement Campagne'!$A$4:$AB$7,14,FALSE),IF(ABS(F5-VLOOKUP(C5,'Valeurs Règlement Campagne'!$A$4:$AB$7,15,FALSE))<=2,VLOOKUP(C5,'Valeurs Règlement Campagne'!$A$4:$AB$7,15,FALSE),IF(ABS(F5-VLOOKUP(C5,'Valeurs Règlement Campagne'!$A$4:$AB$7,16,FALSE))<=2,VLOOKUP(C5,'Valeurs Règlement Campagne'!$A$4:$AB$7,16,FALSE),"")))="",FALSE,IF(COUNTIFS($C$5:C5,C5,$E$5:E5,"Connues",$F$5:F5,">="&(IF(ABS(F5-VLOOKUP(C5,'Valeurs Règlement Campagne'!$A$4:$AB$7,14,FALSE))<=2,VLOOKUP(C5,'Valeurs Règlement Campagne'!$A$4:$AB$7,14,FALSE),IF(ABS(F5-VLOOKUP(C5,'Valeurs Règlement Campagne'!$A$4:$AB$7,15,FALSE))<=2,VLOOKUP(C5,'Valeurs Règlement Campagne'!$A$4:$AB$7,15,FALSE),IF(ABS(F5-VLOOKUP(C5,'Valeurs Règlement Campagne'!$A$4:$AB$7,16,FALSE))<=2,VLOOKUP(C5,'Valeurs Règlement Campagne'!$A$4:$AB$7,16,FALSE),"")))-2),$F$5:F5,"<="&(IF(ABS(F5-VLOOKUP(C5,'Valeurs Règlement Campagne'!$A$4:$AB$7,14,FALSE))<=2,VLOOKUP(C5,'Valeurs Règlement Campagne'!$A$4:$AB$7,14,FALSE),IF(ABS(F5-VLOOKUP(C5,'Valeurs Règlement Campagne'!$A$4:$AB$7,15,FALSE))<=2,VLOOKUP(C5,'Valeurs Règlement Campagne'!$A$4:$AB$7,15,FALSE),IF(ABS(F5-VLOOKUP(C5,'Valeurs Règlement Campagne'!$A$4:$AB$7,16,FALSE))<=2,VLOOKUP(C5,'Valeurs Règlement Campagne'!$A$4:$AB$7,16,FALSE),"")))+2))>(IF(VLOOKUP(C5,'Valeurs Règlement Campagne'!$A$4:$AB$7,14,FALSE)=IF(ABS(F5-VLOOKUP(C5,'Valeurs Règlement Campagne'!$A$4:$AB$7,14,FALSE))<=2,VLOOKUP(C5,'Valeurs Règlement Campagne'!$A$4:$AB$7,14,FALSE),IF(ABS(F5-VLOOKUP(C5,'Valeurs Règlement Campagne'!$A$4:$AB$7,15,FALSE))<=2,VLOOKUP(C5,'Valeurs Règlement Campagne'!$A$4:$AB$7,15,FALSE),IF(ABS(F5-VLOOKUP(C5,'Valeurs Règlement Campagne'!$A$4:$AB$7,16,FALSE))<=2,VLOOKUP(C5,'Valeurs Règlement Campagne'!$A$4:$AB$7,16,FALSE),""))),1,0)+IF(VLOOKUP(C5,'Valeurs Règlement Campagne'!$A$4:$AB$7,15,FALSE)=IF(ABS(F5-VLOOKUP(C5,'Valeurs Règlement Campagne'!$A$4:$AB$7,14,FALSE))<=2,VLOOKUP(C5,'Valeurs Règlement Campagne'!$A$4:$AB$7,14,FALSE),IF(ABS(F5-VLOOKUP(C5,'Valeurs Règlement Campagne'!$A$4:$AB$7,15,FALSE))<=2,VLOOKUP(C5,'Valeurs Règlement Campagne'!$A$4:$AB$7,15,FALSE),IF(ABS(F5-VLOOKUP(C5,'Valeurs Règlement Campagne'!$A$4:$AB$7,16,FALSE))<=2,VLOOKUP(C5,'Valeurs Règlement Campagne'!$A$4:$AB$7,16,FALSE),""))),1,0)+IF(VLOOKUP(C5,'Valeurs Règlement Campagne'!$A$4:$AB$7,16,FALSE)=IF(ABS(F5-VLOOKUP(C5,'Valeurs Règlement Campagne'!$A$4:$AB$7,14,FALSE))<=2,VLOOKUP(C5,'Valeurs Règlement Campagne'!$A$4:$AB$7,14,FALSE),IF(ABS(F5-VLOOKUP(C5,'Valeurs Règlement Campagne'!$A$4:$AB$7,15,FALSE))<=2,VLOOKUP(C5,'Valeurs Règlement Campagne'!$A$4:$AB$7,15,FALSE),IF(ABS(F5-VLOOKUP(C5,'Valeurs Règlement Campagne'!$A$4:$AB$7,16,FALSE))<=2,VLOOKUP(C5,'Valeurs Règlement Campagne'!$A$4:$AB$7,16,FALSE),""))),1,0)),"Doublon",TRUE)),IF(IF(F5=VLOOKUP(C5,'Valeurs Règlement Campagne'!$A$4:$AB$7,14,FALSE),VLOOKUP(C5,'Valeurs Règlement Campagne'!$A$4:$AB$7,14,FALSE),IF(F5=VLOOKUP(C5,'Valeurs Règlement Campagne'!$A$4:$AB$7,15,FALSE),VLOOKUP(C5,'Valeurs Règlement Campagne'!$A$4:$AB$7,15,FALSE),IF(F5=VLOOKUP(C5,'Valeurs Règlement Campagne'!$A$4:$AB$7,16,FALSE),VLOOKUP(C5,'Valeurs Règlement Campagne'!$A$4:$AB$7,16,FALSE),"")))="",FALSE,IF(COUNTIFS($C$5:C5,C5,$E$5:E5,"Connues",$F$5:F5,IF(F5=VLOOKUP(C5,'Valeurs Règlement Campagne'!$A$4:$AB$7,14,FALSE),VLOOKUP(C5,'Valeurs Règlement Campagne'!$A$4:$AB$7,14,FALSE),IF(F5=VLOOKUP(C5,'Valeurs Règlement Campagne'!$A$4:$AB$7,15,FALSE),VLOOKUP(C5,'Valeurs Règlement Campagne'!$A$4:$AB$7,15,FALSE),IF(F5=VLOOKUP(C5,'Valeurs Règlement Campagne'!$A$4:$AB$7,16,FALSE),VLOOKUP(C5,'Valeurs Règlement Campagne'!$A$4:$AB$7,16,FALSE),""))))>(IF(VLOOKUP(C5,'Valeurs Règlement Campagne'!$A$4:$AB$7,14,FALSE)=IF(F5=VLOOKUP(C5,'Valeurs Règlement Campagne'!$A$4:$AB$7,14,FALSE),VLOOKUP(C5,'Valeurs Règlement Campagne'!$A$4:$AB$7,14,FALSE),IF(F5=VLOOKUP(C5,'Valeurs Règlement Campagne'!$A$4:$AB$7,15,FALSE),VLOOKUP(C5,'Valeurs Règlement Campagne'!$A$4:$AB$7,15,FALSE),IF(F5=VLOOKUP(C5,'Valeurs Règlement Campagne'!$A$4:$AB$7,16,FALSE),VLOOKUP(C5,'Valeurs Règlement Campagne'!$A$4:$AB$7,16,FALSE),""))),1,0)+IF(VLOOKUP(C5,'Valeurs Règlement Campagne'!$A$4:$AB$7,15,FALSE)=IF(F5=VLOOKUP(C5,'Valeurs Règlement Campagne'!$A$4:$AB$7,14,FALSE),VLOOKUP(C5,'Valeurs Règlement Campagne'!$A$4:$AB$7,14,FALSE),IF(F5=VLOOKUP(C5,'Valeurs Règlement Campagne'!$A$4:$AB$7,15,FALSE),VLOOKUP(C5,'Valeurs Règlement Campagne'!$A$4:$AB$7,15,FALSE),IF(F5=VLOOKUP(C5,'Valeurs Règlement Campagne'!$A$4:$AB$7,16,FALSE),VLOOKUP(C5,'Valeurs Règlement Campagne'!$A$4:$AB$7,16,FALSE),""))),1,0)+IF(VLOOKUP(C5,'Valeurs Règlement Campagne'!$A$4:$AB$7,16,FALSE)=IF(F5=VLOOKUP(C5,'Valeurs Règlement Campagne'!$A$4:$AB$7,14,FALSE),VLOOKUP(C5,'Valeurs Règlement Campagne'!$A$4:$AB$7,14,FALSE),IF(F5=VLOOKUP(C5,'Valeurs Règlement Campagne'!$A$4:$AB$7,15,FALSE),VLOOKUP(C5,'Valeurs Règlement Campagne'!$A$4:$AB$7,15,FALSE),IF(F5=VLOOKUP(C5,'Valeurs Règlement Campagne'!$A$4:$AB$7,16,FALSE),VLOOKUP(C5,'Valeurs Règlement Campagne'!$A$4:$AB$7,16,FALSE),""))),1,0)),"Doublon",TRUE)))," "))))," ") -> TRUE | V5: =IFERROR(IF(OR(C5="",C5=" ")," ",IF(NOT(ISNUMBER(G5))," ",IF(E5="Inconnues",AND(G5>=N5,G5<=O5),IF(E5="Connues",IF('Valeurs Règlement Campagne'!$L$14="OUI",IF(IF(ABS(G5-VLOOKUP(C5,'Valeurs Règlement Campagne'!$A$4:$AB$7,17,FALSE))<=2,VLOOKUP(C5,'Valeurs Règlement Campagne'!$A$4:$AB$7,17,FALSE),IF(ABS(G5-VLOOKUP(C5,'Valeurs Règlement Campagne'!$A$4:$AB$7,18,FALSE))<=2,VLOOKUP(C5,'Valeurs Règlement Campagne'!$A$4:$AB$7,18,FALSE),IF(ABS(G5-VLOOKUP(C5,'Valeurs Règlement Campagne'!$A$4:$AB$7,19,FALSE))<=2,VLOOKUP(C5,'Valeurs Règlement Campagne'!$A$4:$AB$7,19,FALSE),"")))="",FALSE,IF(COUNTIFS($C$5:C5,C5,$E$5:E5,"Connues",$G$5:G5,">="&(IF(ABS(G5-VLOOKUP(C5,'Valeurs Règlement Campagne'!$A$4:$AB$7,17,FALSE))<=2,VLOOKUP(C5,'Valeurs Règlement Campagne'!$A$4:$AB$7,17,FALSE),IF(ABS(G5-VLOOKUP(C5,'Valeurs Règlement Campagne'!$A$4:$AB$7,18,FALSE))<=2,VLOOKUP(C5,'Valeurs Règlement Campagne'!$A$4:$AB$7,18,FALSE),IF(ABS(G5-VLOOKUP(C5,'Valeurs Règlement Campagne'!$A$4:$AB$7,19,FALSE))<=2,VLOOKUP(C5,'Valeurs Règlement Campagne'!$A$4:$AB$7,19,FALSE),"")))-2),$G$5:G5,"<="&(IF(ABS(G5-VLOOKUP(C5,'Valeurs Règlement Campagne'!$A$4:$AB$7,17,FALSE))<=2,VLOOKUP(C5,'Valeurs Règlement Campagne'!$A$4:$AB$7,17,FALSE),IF(ABS(G5-VLOOKUP(C5,'Valeurs Règlement Campagne'!$A$4:$AB$7,18,FALSE))<=2,VLOOKUP(C5,'Valeurs Règlement Campagne'!$A$4:$AB$7,18,FALSE),IF(ABS(G5-VLOOKUP(C5,'Valeurs Règlement Campagne'!$A$4:$AB$7,19,FALSE))<=2,VLOOKUP(C5,'Valeurs Règlement Campagne'!$A$4:$AB$7,19,FALSE),"")))+2))>(IF(VLOOKUP(C5,'Valeurs Règlement Campagne'!$A$4:$AB$7,17,FALSE)=IF(ABS(G5-VLOOKUP(C5,'Valeurs Règlement Campagne'!$A$4:$AB$7,17,FALSE))<=2,VLOOKUP(C5,'Valeurs Règlement Campagne'!$A$4:$AB$7,17,FALSE),IF(ABS(G5-VLOOKUP(C5,'Valeurs Règlement Campagne'!$A$4:$AB$7,18,FALSE))<=2,VLOOKUP(C5,'Valeurs Règlement Campagne'!$A$4:$AB$7,18,FALSE),IF(ABS(G5-VLOOKUP(C5,'Valeurs Règlement Campagne'!$A$4:$AB$7,19,FALSE))<=2,VLOOKUP(C5,'Valeurs Règlement Campagne'!$A$4:$AB$7,19,FALSE),""))),1,0)+IF(VLOOKUP(C5,'Valeurs Règlement Campagne'!$A$4:$AB$7,18,FALSE)=IF(ABS(G5-VLOOKUP(C5,'Valeurs Règlement Campagne'!$A$4:$AB$7,17,FALSE))<=2,VLOOKUP(C5,'Valeurs Règlement Campagne'!$A$4:$AB$7,17,FALSE),IF(ABS(G5-VLOOKUP(C5,'Valeurs Règlement Campagne'!$A$4:$AB$7,18,FALSE))<=2,VLOOKUP(C5,'Valeurs Règlement Campagne'!$A$4:$AB$7,18,FALSE),IF(ABS(G5-VLOOKUP(C5,'Valeurs Règlement Campagne'!$A$4:$AB$7,19,FALSE))<=2,VLOOKUP(C5,'Valeurs Règlement Campagne'!$A$4:$AB$7,19,FALSE),""))),1,0)+IF(VLOOKUP(C5,'Valeurs Règlement Campagne'!$A$4:$AB$7,19,FALSE)=IF(ABS(G5-VLOOKUP(C5,'Valeurs Règlement Campagne'!$A$4:$AB$7,17,FALSE))<=2,VLOOKUP(C5,'Valeurs Règlement Campagne'!$A$4:$AB$7,17,FALSE),IF(ABS(G5-VLOOKUP(C5,'Valeurs Règlement Campagne'!$A$4:$AB$7,18,FALSE))<=2,VLOOKUP(C5,'Valeurs Règlement Campagne'!$A$4:$AB$7,18,FALSE),IF(ABS(G5-VLOOKUP(C5,'Valeurs Règlement Campagne'!$A$4:$AB$7,19,FALSE))<=2,VLOOKUP(C5,'Valeurs Règlement Campagne'!$A$4:$AB$7,19,FALSE),""))),1,0)),"Doublon",TRUE)),IF(IF(G5=VLOOKUP(C5,'Valeurs Règlement Campagne'!$A$4:$AB$7,17,FALSE),VLOOKUP(C5,'Valeurs Règlement Campagne'!$A$4:$AB$7,17,FALSE),IF(G5=VLOOKUP(C5,'Valeurs Règlement Campagne'!$A$4:$AB$7,18,FALSE),VLOOKUP(C5,'Valeurs Règlement Campagne'!$A$4:$AB$7,18,FALSE),IF(G5=VLOOKUP(C5,'Valeurs Règlement Campagne'!$A$4:$AB$7,19,FALSE),VLOOKUP(C5,'Valeurs Règlement Campagne'!$A$4:$AB$7,19,FALSE),"")))="",FALSE,IF(COUNTIFS($C$5:C5,C5,$E$5:E5,"Connues",$G$5:G5,IF(G5=VLOOKUP(C5,'Valeurs Règlement Campagne'!$A$4:$AB$7,17,FALSE),VLOOKUP(C5,'Valeurs Règlement Campagne'!$A$4:$AB$7,17,FALSE),IF(G5=VLOOKUP(C5,'Valeurs Règlement Campagne'!$A$4:$AB$7,18,FALSE),VLOOKUP(C5,'Valeurs Règlement Campagne'!$A$4:$AB$7,18,FALSE),IF(G5=VLOOKUP(C5,'Valeurs Règlement Campagne'!$A$4:$AB$7,19,FALSE),VLOOKUP(C5,'Valeurs Règlement Campagne'!$A$4:$AB$7,19,FALSE),""))))>(IF(VLOOKUP(C5,'Valeurs Règlement Campagne'!$A$4:$AB$7,17,FALSE)=IF(G5=VLOOKUP(C5,'Valeurs Règlement Campagne'!$A$4:$AB$7,17,FALSE),VLOOKUP(C5,'Valeurs Règlement Campagne'!$A$4:$AB$7,17,FALSE),IF(G5=VLOOKUP(C5,'Valeurs Règlement Campagne'!$A$4:$AB$7,18,FALSE),VLOOKUP(C5,'Valeurs Règlement Campagne'!$A$4:$AB$7,18,FALSE),IF(G5=VLOOKUP(C5,'Valeurs Règlement Campagne'!$A$4:$AB$7,19,FALSE),VLOOKUP(C5,'Valeurs Règlement Campagne'!$A$4:$AB$7,19,FALSE),""))),1,0)+IF(VLOOKUP(C5,'Valeurs Règlement Campagne'!$A$4:$AB$7,18,FALSE)=IF(G5=VLOOKUP(C5,'Valeurs Règlement Campagne'!$A$4:$AB$7,17,FALSE),VLOOKUP(C5,'Valeurs Règlement Campagne'!$A$4:$AB$7,17,FALSE),IF(G5=VLOOKUP(C5,'Valeurs Règlement Campagne'!$A$4:$AB$7,18,FALSE),VLOOKUP(C5,'Valeurs Règlement Campagne'!$A$4:$AB$7,18,FALSE),IF(G5=VLOOKUP(C5,'Valeurs Règlement Campagne'!$A$4:$AB$7,19,FALSE),VLOOKUP(C5,'Valeurs Règlement Campagne'!$A$4:$AB$7,19,FALSE),""))),1,0)+IF(VLOOKUP(C5,'Valeurs Règlement Campagne'!$A$4:$AB$7,19,FALSE)=IF(G5=VLOOKUP(C5,'Valeurs Règlement Campagne'!$A$4:$AB$7,17,FALSE),VLOOKUP(C5,'Valeurs Règlement Campagne'!$A$4:$AB$7,17,FALSE),IF(G5=VLOOKUP(C5,'Valeurs Règlement Campagne'!$A$4:$AB$7,18,FALSE),VLOOKUP(C5,'Valeurs Règlement Campagne'!$A$4:$AB$7,18,FALSE),IF(G5=VLOOKUP(C5,'Valeurs Règlement Campagne'!$A$4:$AB$7,19,FALSE),VLOOKUP(C5,'Valeurs Règlement Campagne'!$A$4:$AB$7,19,FALSE),""))),1,0)),"Doublon",TRUE)))," "))))," ") -> TRUE | W5: =IFERROR(IF(OR(C5="",C5=" ")," ",IF(NOT(ISNUMBER(H5))," ",IF(E5="Inconnues",AND(H5>=P5,H5<=Q5),IF(E5="Connues",IF('Valeurs Règlement Campagne'!$L$14="OUI",IF(IF(ABS(H5-VLOOKUP(C5,'Valeurs Règlement Campagne'!$A$4:$AB$7,20,FALSE))<=2,VLOOKUP(C5,'Valeurs Règlement Campagne'!$A$4:$AB$7,20,FALSE),IF(ABS(H5-VLOOKUP(C5,'Valeurs Règlement Campagne'!$A$4:$AB$7,21,FALSE))<=2,VLOOKUP(C5,'Valeurs Règlement Campagne'!$A$4:$AB$7,21,FALSE),IF(ABS(H5-VLOOKUP(C5,'Valeurs Règlement Campagne'!$A$4:$AB$7,22,FALSE))<=2,VLOOKUP(C5,'Valeurs Règlement Campagne'!$A$4:$AB$7,22,FALSE),"")))="",FALSE,IF(COUNTIFS($C$5:C5,C5,$E$5:E5,"Connues",$H$5:H5,">="&(IF(ABS(H5-VLOOKUP(C5,'Valeurs Règlement Campagne'!$A$4:$AB$7,20,FALSE))<=2,VLOOKUP(C5,'Valeurs Règlement Campagne'!$A$4:$AB$7,20,FALSE),IF(ABS(H5-VLOOKUP(C5,'Valeurs Règlement Campagne'!$A$4:$AB$7,21,FALSE))<=2,VLOOKUP(C5,'Valeurs Règlement Campagne'!$A$4:$AB$7,21,FALSE),IF(ABS(H5-VLOOKUP(C5,'Valeurs Règlement Campagne'!$A$4:$AB$7,22,FALSE))<=2,VLOOKUP(C5,'Valeurs Règlement Campagne'!$A$4:$AB$7,22,FALSE),"")))-2),$H$5:H5,"<="&(IF(ABS(H5-VLOOKUP(C5,'Valeurs Règlement Campagne'!$A$4:$AB$7,20,FALSE))<=2,VLOOKUP(C5,'Valeurs Règlement Campagne'!$A$4:$AB$7,20,FALSE),IF(ABS(H5-VLOOKUP(C5,'Valeurs Règlement Campagne'!$A$4:$AB$7,21,FALSE))<=2,VLOOKUP(C5,'Valeurs Règlement Campagne'!$A$4:$AB$7,21,FALSE),IF(ABS(H5-VLOOKUP(C5,'Valeurs Règlement Campagne'!$A$4:$AB$7,22,FALSE))<=2,VLOOKUP(C5,'Valeurs Règlement Campagne'!$A$4:$AB$7,22,FALSE),"")))+2))>(IF(VLOOKUP(C5,'Valeurs Règlement Campagne'!$A$4:$AB$7,20,FALSE)=IF(ABS(H5-VLOOKUP(C5,'Valeurs Règlement Campagne'!$A$4:$AB$7,20,FALSE))<=2,VLOOKUP(C5,'Valeurs Règlement Campagne'!$A$4:$AB$7,20,FALSE),IF(ABS(H5-VLOOKUP(C5,'Valeurs Règlement Campagne'!$A$4:$AB$7,21,FALSE))<=2,VLOOKUP(C5,'Valeurs Règlement Campagne'!$A$4:$AB$7,21,FALSE),IF(ABS(H5-VLOOKUP(C5,'Valeurs Règlement Campagne'!$A$4:$AB$7,22,FALSE))<=2,VLOOKUP(C5,'Valeurs Règlement Campagne'!$A$4:$AB$7,22,FALSE),""))),1,0)+IF(VLOOKUP(C5,'Valeurs Règlement Campagne'!$A$4:$AB$7,21,FALSE)=IF(ABS(H5-VLOOKUP(C5,'Valeurs Règlement Campagne'!$A$4:$AB$7,20,FALSE))<=2,VLOOKUP(C5,'Valeurs Règlement Campagne'!$A$4:$AB$7,20,FALSE),IF(ABS(H5-VLOOKUP(C5,'Valeurs Règlement Campagne'!$A$4:$AB$7,21,FALSE))<=2,VLOOKUP(C5,'Valeurs Règlement Campagne'!$A$4:$AB$7,21,FALSE),IF(ABS(H5-VLOOKUP(C5,'Valeurs Règlement Campagne'!$A$4:$AB$7,22,FALSE))<=2,VLOOKUP(C5,'Valeurs Règlement Campagne'!$A$4:$AB$7,22,FALSE),""))),1,0)+IF(VLOOKUP(C5,'Valeurs Règlement Campagne'!$A$4:$AB$7,22,FALSE)=IF(ABS(H5-VLOOKUP(C5,'Valeurs Règlement Campagne'!$A$4:$AB$7,20,FALSE))<=2,VLOOKUP(C5,'Valeurs Règlement Campagne'!$A$4:$AB$7,20,FALSE),IF(ABS(H5-VLOOKUP(C5,'Valeurs Règlement Campagne'!$A$4:$AB$7,21,FALSE))<=2,VLOOKUP(C5,'Valeurs Règlement Campagne'!$A$4:$AB$7,21,FALSE),IF(ABS(H5-VLOOKUP(C5,'Valeurs Règlement Campagne'!$A$4:$AB$7,22,FALSE))<=2,VLOOKUP(C5,'Valeurs Règlement Campagne'!$A$4:$AB$7,22,FALSE),""))),1,0)),"Doublon",TRUE)),IF(IF(H5=VLOOKUP(C5,'Valeurs Règlement Campagne'!$A$4:$AB$7,20,FALSE),VLOOKUP(C5,'Valeurs Règlement Campagne'!$A$4:$AB$7,20,FALSE),IF(H5=VLOOKUP(C5,'Valeurs Règlement Campagne'!$A$4:$AB$7,21,FALSE),VLOOKUP(C5,'Valeurs Règlement Campagne'!$A$4:$AB$7,21,FALSE),IF(H5=VLOOKUP(C5,'Valeurs Règlement Campagne'!$A$4:$AB$7,22,FALSE),VLOOKUP(C5,'Valeurs Règlement Campagne'!$A$4:$AB$7,22,FALSE),"")))="",FALSE,IF(COUNTIFS($C$5:C5,C5,$E$5:E5,"Connues",$H$5:H5,IF(H5=VLOOKUP(C5,'Valeurs Règlement Campagne'!$A$4:$AB$7,20,FALSE),VLOOKUP(C5,'Valeurs Règlement Campagne'!$A$4:$AB$7,20,FALSE),IF(H5=VLOOKUP(C5,'Valeurs Règlement Campagne'!$A$4:$AB$7,21,FALSE),VLOOKUP(C5,'Valeurs Règlement Campagne'!$A$4:$AB$7,21,FALSE),IF(H5=VLOOKUP(C5,'Valeurs Règlement Campagne'!$A$4:$AB$7,22,FALSE),VLOOKUP(C5,'Valeurs Règlement Campagne'!$A$4:$AB$7,22,FALSE),""))))>(IF(VLOOKUP(C5,'Valeurs Règlement Campagne'!$A$4:$AB$7,20,FALSE)=IF(H5=VLOOKUP(C5,'Valeurs Règlement Campagne'!$A$4:$AB$7,20,FALSE),VLOOKUP(C5,'Valeurs Règlement Campagne'!$A$4:$AB$7,20,FALSE),IF(H5=VLOOKUP(C5,'Valeurs Règlement Campagne'!$A$4:$AB$7,21,FALSE),VLOOKUP(C5,'Valeurs Règlement Campagne'!$A$4:$AB$7,21,FALSE),IF(H5=VLOOKUP(C5,'Valeurs Règlement Campagne'!$A$4:$AB$7,22,FALSE),VLOOKUP(C5,'Valeurs Règlement Campagne'!$A$4:$AB$7,22,FALSE),""))),1,0)+IF(VLOOKUP(C5,'Valeurs Règlement Campagne'!$A$4:$AB$7,21,FALSE)=IF(H5=VLOOKUP(C5,'Valeurs Règlement Campagne'!$A$4:$AB$7,20,FALSE),VLOOKUP(C5,'Valeurs Règlement Campagne'!$A$4:$AB$7,20,FALSE),IF(H5=VLOOKUP(C5,'Valeurs Règlement Campagne'!$A$4:$AB$7,21,FALSE),VLOOKUP(C5,'Valeurs Règlement Campagne'!$A$4:$AB$7,21,FALSE),IF(H5=VLOOKUP(C5,'Valeurs Règlement Campagne'!$A$4:$AB$7,22,FALSE),VLOOKUP(C5,'Valeurs Règlement Campagne'!$A$4:$AB$7,22,FALSE),""))),1,0)+IF(VLOOKUP(C5,'Valeurs Règlement Campagne'!$A$4:$AB$7,22,FALSE)=IF(H5=VLOOKUP(C5,'Valeurs Règlement Campagne'!$A$4:$AB$7,20,FALSE),VLOOKUP(C5,'Valeurs Règlement Campagne'!$A$4:$AB$7,20,FALSE),IF(H5=VLOOKUP(C5,'Valeurs Règlement Campagne'!$A$4:$AB$7,21,FALSE),VLOOKUP(C5,'Valeurs Règlement Campagne'!$A$4:$AB$7,21,FALSE),IF(H5=VLOOKUP(C5,'Valeurs Règlement Campagne'!$A$4:$AB$7,22,FALSE),VLOOKUP(C5,'Valeurs Règlement Campagne'!$A$4:$AB$7,22,FALSE),""))),1,0)),"Doublon",TRUE)))," "))))," ") -> TRUE | X5: =IFERROR(IF(OR(C5="",C5=" ")," ",IF(NOT(ISNUMBER(I5))," ",IF(E5="Inconnues",AND(I5>=P5,I5<=R5),IF(E5="Connues",IF('Valeurs Règlement Campagne'!$L$14="OUI",IF(IF(ABS(I5-VLOOKUP(C5,'Valeurs Règlement Campagne'!$A$4:$AB$7,23,FALSE))<=2,VLOOKUP(C5,'Valeurs Règlement Campagne'!$A$4:$AB$7,23,FALSE),IF(ABS(I5-VLOOKUP(C5,'Valeurs Règlement Campagne'!$A$4:$AB$7,24,FALSE))<=2,VLOOKUP(C5,'Valeurs Règlement Campagne'!$A$4:$AB$7,24,FALSE),IF(ABS(I5-VLOOKUP(C5,'Valeurs Règlement Campagne'!$A$4:$AB$7,25,FALSE))<=2,VLOOKUP(C5,'Valeurs Règlement Campagne'!$A$4:$AB$7,25,FALSE),"")))="",FALSE,IF(COUNTIFS($C$5:C5,C5,$E$5:E5,"Connues",$I$5:I5,">="&(IF(ABS(I5-VLOOKUP(C5,'Valeurs Règlement Campagne'!$A$4:$AB$7,23,FALSE))<=2,VLOOKUP(C5,'Valeurs Règlement Campagne'!$A$4:$AB$7,23,FALSE),IF(ABS(I5-VLOOKUP(C5,'Valeurs Règlement Campagne'!$A$4:$AB$7,24,FALSE))<=2,VLOOKUP(C5,'Valeurs Règlement Campagne'!$A$4:$AB$7,24,FALSE),IF(ABS(I5-VLOOKUP(C5,'Valeurs Règlement Campagne'!$A$4:$AB$7,25,FALSE))<=2,VLOOKUP(C5,'Valeurs Règlement Campagne'!$A$4:$AB$7,25,FALSE),"")))-2),$I$5:I5,"<="&(IF(ABS(I5-VLOOKUP(C5,'Valeurs Règlement Campagne'!$A$4:$AB$7,23,FALSE))<=2,VLOOKUP(C5,'Valeurs Règlement Campagne'!$A$4:$AB$7,23,FALSE),IF(ABS(I5-VLOOKUP(C5,'Valeurs Règlement Campagne'!$A$4:$AB$7,24,FALSE))<=2,VLOOKUP(C5,'Valeurs Règlement Campagne'!$A$4:$AB$7,24,FALSE),IF(ABS(I5-VLOOKUP(C5,'Valeurs Règlement Campagne'!$A$4:$AB$7,25,FALSE))<=2,VLOOKUP(C5,'Valeurs Règlement Campagne'!$A$4:$AB$7,25,FALSE),"")))+2))>(IF(VLOOKUP(C5,'Valeurs Règlement Campagne'!$A$4:$AB$7,23,FALSE)=IF(ABS(I5-VLOOKUP(C5,'Valeurs Règlement Campagne'!$A$4:$AB$7,23,FALSE))<=2,VLOOKUP(C5,'Valeurs Règlement Campagne'!$A$4:$AB$7,23,FALSE),IF(ABS(I5-VLOOKUP(C5,'Valeurs Règlement Campagne'!$A$4:$AB$7,24,FALSE))<=2,VLOOKUP(C5,'Valeurs Règlement Campagne'!$A$4:$AB$7,24,FALSE),IF(ABS(I5-VLOOKUP(C5,'Valeurs Règlement Campagne'!$A$4:$AB$7,25,FALSE))<=2,VLOOKUP(C5,'Valeurs Règlement Campagne'!$A$4:$AB$7,25,FALSE),""))),1,0)+IF(VLOOKUP(C5,'Valeurs Règlement Campagne'!$A$4:$AB$7,24,FALSE)=IF(ABS(I5-VLOOKUP(C5,'Valeurs Règlement Campagne'!$A$4:$AB$7,23,FALSE))<=2,VLOOKUP(C5,'Valeurs Règlement Campagne'!$A$4:$AB$7,23,FALSE),IF(ABS(I5-VLOOKUP(C5,'Valeurs Règlement Campagne'!$A$4:$AB$7,24,FALSE))<=2,VLOOKUP(C5,'Valeurs Règlement Campagne'!$A$4:$AB$7,24,FALSE),IF(ABS(I5-VLOOKUP(C5,'Valeurs Règlement Campagne'!$A$4:$AB$7,25,FALSE))<=2,VLOOKUP(C5,'Valeurs Règlement Campagne'!$A$4:$AB$7,25,FALSE),""))),1,0)+IF(VLOOKUP(C5,'Valeurs Règlement Campagne'!$A$4:$AB$7,25,FALSE)=IF(ABS(I5-VLOOKUP(C5,'Valeurs Règlement Campagne'!$A$4:$AB$7,23,FALSE))<=2,VLOOKUP(C5,'Valeurs Règlement Campagne'!$A$4:$AB$7,23,FALSE),IF(ABS(I5-VLOOKUP(C5,'Valeurs Règlement Campagne'!$A$4:$AB$7,24,FALSE))<=2,VLOOKUP(C5,'Valeurs Règlement Campagne'!$A$4:$AB$7,24,FALSE),IF(ABS(I5-VLOOKUP(C5,'Valeurs Règlement Campagne'!$A$4:$AB$7,25,FALSE))<=2,VLOOKUP(C5,'Valeurs Règlement Campagne'!$A$4:$AB$7,25,FALSE),""))),1,0)),"Doublon",TRUE)),IF(IF(I5=VLOOKUP(C5,'Valeurs Règlement Campagne'!$A$4:$AB$7,23,FALSE),VLOOKUP(C5,'Valeurs Règlement Campagne'!$A$4:$AB$7,23,FALSE),IF(I5=VLOOKUP(C5,'Valeurs Règlement Campagne'!$A$4:$AB$7,24,FALSE),VLOOKUP(C5,'Valeurs Règlement Campagne'!$A$4:$AB$7,24,FALSE),IF(I5=VLOOKUP(C5,'Valeurs Règlement Campagne'!$A$4:$AB$7,25,FALSE),VLOOKUP(C5,'Valeurs Règlement Campagne'!$A$4:$AB$7,25,FALSE),"")))="",FALSE,IF(COUNTIFS($C$5:C5,C5,$E$5:E5,"Connues",$I$5:I5,IF(I5=VLOOKUP(C5,'Valeurs Règlement Campagne'!$A$4:$AB$7,23,FALSE),VLOOKUP(C5,'Valeurs Règlement Campagne'!$A$4:$AB$7,23,FALSE),IF(I5=VLOOKUP(C5,'Valeurs Règlement Campagne'!$A$4:$AB$7,24,FALSE),VLOOKUP(C5,'Valeurs Règlement Campagne'!$A$4:$AB$7,24,FALSE),IF(I5=VLOOKUP(C5,'Valeurs Règlement Campagne'!$A$4:$AB$7,25,FALSE),VLOOKUP(C5,'Valeurs Règlement Campagne'!$A$4:$AB$7,25,FALSE),""))))>(IF(VLOOKUP(C5,'Valeurs Règlement Campagne'!$A$4:$AB$7,23,FALSE)=IF(I5=VLOOKUP(C5,'Valeurs Règlement Campagne'!$A$4:$AB$7,23,FALSE),VLOOKUP(C5,'Valeurs Règlement Campagne'!$A$4:$AB$7,23,FALSE),IF(I5=VLOOKUP(C5,'Valeurs Règlement Campagne'!$A$4:$AB$7,24,FALSE),VLOOKUP(C5,'Valeurs Règlement Campagne'!$A$4:$AB$7,24,FALSE),IF(I5=VLOOKUP(C5,'Valeurs Règlement Campagne'!$A$4:$AB$7,25,FALSE),VLOOKUP(C5,'Valeurs Règlement Campagne'!$A$4:$AB$7,25,FALSE),""))),1,0)+IF(VLOOKUP(C5,'Valeurs Règlement Campagne'!$A$4:$AB$7,24,FALSE)=IF(I5=VLOOKUP(C5,'Valeurs Règlement Campagne'!$A$4:$AB$7,23,FALSE),VLOOKUP(C5,'Valeurs Règlement Campagne'!$A$4:$AB$7,23,FALSE),IF(I5=VLOOKUP(C5,'Valeurs Règlement Campagne'!$A$4:$AB$7,24,FALSE),VLOOKUP(C5,'Valeurs Règlement Campagne'!$A$4:$AB$7,24,FALSE),IF(I5=VLOOKUP(C5,'Valeurs Règlement Campagne'!$A$4:$AB$7,25,FALSE),VLOOKUP(C5,'Valeurs Règlement Campagne'!$A$4:$AB$7,25,FALSE),""))),1,0)+IF(VLOOKUP(C5,'Valeurs Règlement Campagne'!$A$4:$AB$7,25,FALSE)=IF(I5=VLOOKUP(C5,'Valeurs Règlement Campagne'!$A$4:$AB$7,23,FALSE),VLOOKUP(C5,'Valeurs Règlement Campagne'!$A$4:$AB$7,23,FALSE),IF(I5=VLOOKUP(C5,'Valeurs Règlement Campagne'!$A$4:$AB$7,24,FALSE),VLOOKUP(C5,'Valeurs Règlement Campagne'!$A$4:$AB$7,24,FALSE),IF(I5=VLOOKUP(C5,'Valeurs Règlement Campagne'!$A$4:$AB$7,25,FALSE),VLOOKUP(C5,'Valeurs Règlement Campagne'!$A$4:$AB$7,25,FALSE),""))),1,0)),"Doublon",TRUE)))," "))))," ") -> TRUE | Y5: =IFERROR(IF(OR(C5="",C5=" ")," ",IF(NOT(ISNUMBER(J5))," ",IF(E5="Inconnues",AND(J5>=S5,J5<=T5),IF(E5="Connues",IF('Valeurs Règlement Campagne'!$L$14="OUI",IF(IF(ABS(J5-VLOOKUP(C5,'Valeurs Règlement Campagne'!$A$4:$AB$7,26,FALSE))<=2,VLOOKUP(C5,'Valeurs Règlement Campagne'!$A$4:$AB$7,26,FALSE),IF(ABS(J5-VLOOKUP(C5,'Valeurs Règlement Campagne'!$A$4:$AB$7,27,FALSE))<=2,VLOOKUP(C5,'Valeurs Règlement Campagne'!$A$4:$AB$7,27,FALSE),IF(ABS(J5-VLOOKUP(C5,'Valeurs Règlement Campagne'!$A$4:$AB$7,28,FALSE))<=2,VLOOKUP(C5,'Valeurs Règlement Campagne'!$A$4:$AB$7,28,FALSE),"")))="",FALSE,IF(COUNTIFS($C$5:C5,C5,$E$5:E5,"Connues",$J$5:J5,">="&(IF(ABS(J5-VLOOKUP(C5,'Valeurs Règlement Campagne'!$A$4:$AB$7,26,FALSE))<=2,VLOOKUP(C5,'Valeurs Règlement Campagne'!$A$4:$AB$7,26,FALSE),IF(ABS(J5-VLOOKUP(C5,'Valeurs Règlement Campagne'!$A$4:$AB$7,27,FALSE))<=2,VLOOKUP(C5,'Valeurs Règlement Campagne'!$A$4:$AB$7,27,FALSE),IF(ABS(J5-VLOOKUP(C5,'Valeurs Règlement Campagne'!$A$4:$AB$7,28,FALSE))<=2,VLOOKUP(C5,'Valeurs Règlement Campagne'!$A$4:$AB$7,28,FALSE),"")))-2),$J$5:J5,"<="&(IF(ABS(J5-VLOOKUP(C5,'Valeurs Règlement Campagne'!$A$4:$AB$7,26,FALSE))<=2,VLOOKUP(C5,'Valeurs Règlement Campagne'!$A$4:$AB$7,26,FALSE),IF(ABS(J5-VLOOKUP(C5,'Valeurs Règlement Campagne'!$A$4:$AB$7,27,FALSE))<=2,VLOOKUP(C5,'Valeurs Règlement Campagne'!$A$4:$AB$7,27,FALSE),IF(ABS(J5-VLOOKUP(C5,'Valeurs Règlement Campagne'!$A$4:$AB$7,28,FALSE))<=2,VLOOKUP(C5,'Valeurs Règlement Campagne'!$A$4:$AB$7,28,FALSE),"")))+2))>(IF(VLOOKUP(C5,'Valeurs Règlement Campagne'!$A$4:$AB$7,26,FALSE)=IF(ABS(J5-VLOOKUP(C5,'Valeurs Règlement Campagne'!$A$4:$AB$7,26,FALSE))<=2,VLOOKUP(C5,'Valeurs Règlement Campagne'!$A$4:$AB$7,26,FALSE),IF(ABS(J5-VLOOKUP(C5,'Valeurs Règlement Campagne'!$A$4:$AB$7,27,FALSE))<=2,VLOOKUP(C5,'Valeurs Règlement Campagne'!$A$4:$AB$7,27,FALSE),IF(ABS(J5-VLOOKUP(C5,'Valeurs Règlement Campagne'!$A$4:$AB$7,28,FALSE))<=2,VLOOKUP(C5,'Valeurs Règlement Campagne'!$A$4:$AB$7,28,FALSE),""))),1,0)+IF(VLOOKUP(C5,'Valeurs Règlement Campagne'!$A$4:$AB$7,27,FALSE)=IF(ABS(J5-VLOOKUP(C5,'Valeurs Règlement Campagne'!$A$4:$AB$7,26,FALSE))<=2,VLOOKUP(C5,'Valeurs Règlement Campagne'!$A$4:$AB$7,26,FALSE),IF(ABS(J5-VLOOKUP(C5,'Valeurs Règlement Campagne'!$A$4:$AB$7,27,FALSE))<=2,VLOOKUP(C5,'Valeurs Règlement Campagne'!$A$4:$AB$7,27,FALSE),IF(ABS(J5-VLOOKUP(C5,'Valeurs Règlement Campagne'!$A$4:$AB$7,28,FALSE))<=2,VLOOKUP(C5,'Valeurs Règlement Campagne'!$A$4:$AB$7,28,FALSE),""))),1,0)+IF(VLOOKUP(C5,'Valeurs Règlement Campagne'!$A$4:$AB$7,28,FALSE)=IF(ABS(J5-VLOOKUP(C5,'Valeurs Règlement Campagne'!$A$4:$AB$7,26,FALSE))<=2,VLOOKUP(C5,'Valeurs Règlement Campagne'!$A$4:$AB$7,26,FALSE),IF(ABS(J5-VLOOKUP(C5,'Valeurs Règlement Campagne'!$A$4:$AB$7,27,FALSE))<=2,VLOOKUP(C5,'Valeurs Règlement Campagne'!$A$4:$AB$7,27,FALSE),IF(ABS(J5-VLOOKUP(C5,'Valeurs Règlement Campagne'!$A$4:$AB$7,28,FALSE))<=2,VLOOKUP(C5,'Valeurs Règlement Campagne'!$A$4:$AB$7,28,FALSE),""))),1,0)),"Doublon",TRUE)),IF(IF(J5=VLOOKUP(C5,'Valeurs Règlement Campagne'!$A$4:$AB$7,26,FALSE),VLOOKUP(C5,'Valeurs Règlement Campagne'!$A$4:$AB$7,26,FALSE),IF(J5=VLOOKUP(C5,'Valeurs Règlement Campagne'!$A$4:$AB$7,27,FALSE),VLOOKUP(C5,'Valeurs Règlement Campagne'!$A$4:$AB$7,27,FALSE),IF(J5=VLOOKUP(C5,'Valeurs Règlement Campagne'!$A$4:$AB$7,28,FALSE),VLOOKUP(C5,'Valeurs Règlement Campagne'!$A$4:$AB$7,28,FALSE),"")))="",FALSE,IF(COUNTIFS($C$5:C5,C5,$E$5:E5,"Connues",$J$5:J5,IF(J5=VLOOKUP(C5,'Valeurs Règlement Campagne'!$A$4:$AB$7,26,FALSE),VLOOKUP(C5,'Valeurs Règlement Campagne'!$A$4:$AB$7,26,FALSE),IF(J5=VLOOKUP(C5,'Valeurs Règlement Campagne'!$A$4:$AB$7,27,FALSE),VLOOKUP(C5,'Valeurs Règlement Campagne'!$A$4:$AB$7,27,FALSE),IF(J5=VLOOKUP(C5,'Valeurs Règlement Campagne'!$A$4:$AB$7,28,FALSE),VLOOKUP(C5,'Valeurs Règlement Campagne'!$A$4:$AB$7,28,FALSE),""))))>(IF(VLOOKUP(C5,'Valeurs Règlement Campagne'!$A$4:$AB$7,26,FALSE)=IF(J5=VLOOKUP(C5,'Valeurs Règlement Campagne'!$A$4:$AB$7,26,FALSE),VLOOKUP(C5,'Valeurs Règlement Campagne'!$A$4:$AB$7,26,FALSE),IF(J5=VLOOKUP(C5,'Valeurs Règlement Campagne'!$A$4:$AB$7,27,FALSE),VLOOKUP(C5,'Valeurs Règlement Campagne'!$A$4:$AB$7,27,FALSE),IF(J5=VLOOKUP(C5,'Valeurs Règlement Campagne'!$A$4:$AB$7,28,FALSE),VLOOKUP(C5,'Valeurs Règlement Campagne'!$A$4:$AB$7,28,FALSE),""))),1,0)+IF(VLOOKUP(C5,'Valeurs Règlement Campagne'!$A$4:$AB$7,27,FALSE)=IF(J5=VLOOKUP(C5,'Valeurs Règlement Campagne'!$A$4:$AB$7,26,FALSE),VLOOKUP(C5,'Valeurs Règlement Campagne'!$A$4:$AB$7,26,FALSE),IF(J5=VLOOKUP(C5,'Valeurs Règlement Campagne'!$A$4:$AB$7,27,FALSE),VLOOKUP(C5,'Valeurs Règlement Campagne'!$A$4:$AB$7,27,FALSE),IF(J5=VLOOKUP(C5,'Valeurs Règlement Campagne'!$A$4:$AB$7,28,FALSE),VLOOKUP(C5,'Valeurs Règlement Campagne'!$A$4:$AB$7,28,FALSE),""))),1,0)+IF(VLOOKUP(C5,'Valeurs Règlement Campagne'!$A$4:$AB$7,28,FALSE)=IF(J5=VLOOKUP(C5,'Valeurs Règlement Campagne'!$A$4:$AB$7,26,FALSE),VLOOKUP(C5,'Valeurs Règlement Campagne'!$A$4:$AB$7,26,FALSE),IF(J5=VLOOKUP(C5,'Valeurs Règlement Campagne'!$A$4:$AB$7,27,FALSE),VLOOKUP(C5,'Valeurs Règlement Campagne'!$A$4:$AB$7,27,FALSE),IF(J5=VLOOKUP(C5,'Valeurs Règlement Campagne'!$A$4:$AB$7,28,FALSE),VLOOKUP(C5,'Valeurs Règlement Campagne'!$A$4:$AB$7,28,FALSE),""))),1,0)),"Doublon",TRUE)))," "))))," ") -> TRUE | Z5: =IFERROR(IF(OR(NOT(ISNUMBER(F5)),NOT(ISNUMBER(G5)))," ",IF(OR(U5="Doublon",V5="Doublon"),"Doublon",IF(F5>=G5,IF(AND(U5=TRUE,V5=TRUE),"ok","faux"),"faux")))," ") -> ok | AB5: =IFERROR(IF(OR(NOT(ISNUMBER(G5)),NOT(ISNUMBER(H5)))," ",IF(OR(V5="Doublon",W5="Doublon"),"Doublon",IF(G5>=H5,IF(AND(V5=TRUE,W5=TRUE),"ok","faux"),"faux")))," ") -> ok | AD5: =IFERROR(IF(OR(NOT(ISNUMBER(H5)),NOT(ISNUMBER(I5)))," ",IF(OR(W5="Doublon",X5="Doublon"),"Doublon",IF(H5>=I5,IF(AND(W5=TRUE,X5=TRUE),"ok","faux"),"faux")))," ") -> ok | AF5: =IFERROR(IF(OR(NOT(ISNUMBER(H5)),NOT(ISNUMBER(J5)))," ",IF(OR(W5="Doublon",Y5="Doublon"),"Doublon",IF(H5>=J5,IF(AND(W5=TRUE,Y5=TRUE),"ok","faux"),"faux")))," ") -> ok | AH5: =IF(AND(E5="Inconnues",LEFT(C5,1)="1",ISNUMBER(I5)),"Obligatoire",IF(AND(E5="Connues",LEFT(C5,1)="1"),"Possible",IF(AND(E5="Inconnues",LEFT(C5,1)="1",NOT(ISNUMBER(I5))),"Manque orange",""))) -> Possible
A6: 1 | L6: =IF($E6=0," ",IF($E6=$D$31,VLOOKUP($C6,'Valeurs Règlement Campagne'!$A$4:$AB$7,14,FALSE),VLOOKUP($C6,'Valeurs Règlement Campagne'!$A$4:$M$7,4,FALSE))) | M6: =IF($E6=0," ",IF($E6=$D$31,VLOOKUP($C6,'Valeurs Règlement Campagne'!$A$4:$AB$7,16,FALSE),VLOOKUP($C6,'Valeurs Règlement Campagne'!$A$4:$AB$7,5,FALSE))) | N6: =IF($E6=0," ",IF($E6=$D$31,VLOOKUP($C6,'Valeurs Règlement Campagne'!$A$4:$AB$7,17,FALSE),VLOOKUP($C6,'Valeurs Règlement Campagne'!$A$4:$AB$7,6,FALSE))) | O6: =IF($E6=0," ",IF($E6=$D$31,VLOOKUP($C6,'Valeurs Règlement Campagne'!$A$4:$AB$7,19,FALSE),VLOOKUP($C6,'Valeurs Règlement Campagne'!$A$4:$AB$7,7,FALSE))) | P6: =IF($E6=0," ",IF($E6=$D$31,VLOOKUP($C6,'Valeurs Règlement Campagne'!$A$4:$AB$7,20,FALSE),VLOOKUP($C6,'Valeurs Règlement Campagne'!$A$4:$AB$7,8,FALSE))) | Q6: =IF($E6=0," ",IF($E6=$D$31,VLOOKUP($C6,'Valeurs Règlement Campagne'!$A$4:$AB$7,22,FALSE),VLOOKUP($C6,'Valeurs Règlement Campagne'!$A$4:$AB$7,9,FALSE))) | R6: =IF($E6=0," ",IF($E6=$D$31,VLOOKUP($C6,'Valeurs Règlement Campagne'!$A$4:$AB$7,25,FALSE),VLOOKUP($C6,'Valeurs Règlement Campagne'!$A$4:$AB$7,11,FALSE))) | S6: =IF($E6=0," ",IF($E6=$D$31,VLOOKUP($C6,'Valeurs Règlement Campagne'!$A$4:$AB$7,26,FALSE),VLOOKUP($C6,'Valeurs Règlement Campagne'!$A$4:$AB$7,12,FALSE))) | T6: =IF($E6=0," ",IF($E6=$D$31,VLOOKUP($C6,'Valeurs Règlement Campagne'!$A$4:$AB$7,28,FALSE),VLOOKUP($C6,'Valeurs Règlement Campagne'!$A$4:$AB$7,13,FALSE))) | U6: {=IFERROR(IF(OR(C6="",C6=" ")," ",IF(NOT(ISNUMBER(F6))," ",IF(E6="Inconnues",AND(F6>=L6,F6<=M6),IF(E6="Connues",IF('Valeurs Règlement Campagne'!$L$14="OUI",IF(IF(ABS(F6-VLOOKUP(C6,'Valeurs Règlement Campagne'!$A$4:$AB$7,14,FALSE))<=2,VLOOKUP(C6,'Valeurs Règlement Campagne'!$A$4:$AB$7,14,FALSE),IF(ABS(F6-VLOOKUP(C6,'Valeurs Règlement Campagne'!$A$4:$AB$7,15,FALSE))<=2,VLOOKUP(C6,'Valeurs Règlement Campagne'!$A$4:$AB$7,15,FALSE),IF(ABS(F6-VLOOKUP(C6,'Valeurs Règlement Campagne'!$A$4:$AB$7,16,FALSE))<=2,VLOOKUP(C6,'Valeurs Règlement Campagne'!$A$4:$AB$7,16,FALSE),"")))="",FALSE,IF(COUNTIFS($C$6:C6,C6,$E$6:E6,"Connues",$F$6:F6,">="&(IF(ABS(F6-VLOOKUP(C6,'Valeurs Règlement Campagne'!$A$4:$AB$7,14,FALSE))<=2,VLOOKUP(C6,'Valeurs Règlement Campagne'!$A$4:$AB$7,14,FALSE),IF(ABS(F6-VLOOKUP(C6,'Valeurs Règlement Campagne'!$A$4:$AB$7,15,FALSE))<=2,VLOOKUP(C6,'Valeurs Règlement Campagne'!$A$4:$AB$7,15,FALSE),IF(ABS(F6-VLOOKUP(C6,'Valeurs Règlement Campagne'!$A$4:$AB$7,16,FALSE))<=2,VLOOKUP(C6,'Valeurs Règlement Campagne'!$A$4:$AB$7,16,FALSE),"")))-2),$F$6:F6,"<="&(IF(ABS(F6-VLOOKUP(C6,'Valeurs Règlement Campagne'!$A$4:$AB$7,14,FALSE))<=2,VLOOKUP(C6,'Valeurs Règlement Campagne'!$A$4:$AB$7,14,FALSE),IF(ABS(F6-VLOOKUP(C6,'Valeurs Règlement Campagne'!$A$4:$AB$7,15,FALSE))<=2,VLOOKUP(C6,'Valeurs Règlement Campagne'!$A$4:$AB$7,15,FALSE),IF(ABS(F6-VLOOKUP(C6,'Valeurs Règlement Campagne'!$A$4:$AB$7,16,FALSE))<=2,VLOOKUP(C6,'Valeurs Règlement Campagne'!$A$4:$AB$7,16,FALSE),"")))+2))>(IF(VLOOKUP(C6,'Valeurs Règlement Campagne'!$A$4:$AB$7,14,FALSE)=IF(ABS(F6-VLOOKUP(C6,'Valeurs Règlement Campagne'!$A$4:$AB$7,14,FALSE))<=2,VLOOKUP(C6,'Valeurs Règlement Campagne'!$A$4:$AB$7,14,FALSE),IF(ABS(F6-VLOOKUP(C6,'Valeurs Règlement Campagne'!$A$4:$AB$7,15,FALSE))<=2,VLOOKUP(C6,'Valeurs Règlement Campagne'!$A$4:$AB$7,15,FALSE),IF(ABS(F6-VLOOKUP(C6,'Valeurs Règlement Campagne'!$A$4:$AB$7,16,FALSE))<=2,VLOOKUP(C6,'Valeurs Règlement Campagne'!$A$4:$AB$7,16,FALSE),""))),1,0)+IF(VLOOKUP(C6,'Valeurs Règlement Campagne'!$A$4:$AB$7,15,FALSE)=IF(ABS(F6-VLOOKUP(C6,'Valeurs Règlement Campagne'!$A$4:$AB$7,14,FALSE))<=2,VLOOKUP(C6,'Valeurs Règlement Campagne'!$A$4:$AB$7,14,FALSE),IF(ABS(F6-VLOOKUP(C6,'Valeurs Règlement Campagne'!$A$4:$AB$7,15,FALSE))<=2,VLOOKUP(C6,'Valeurs Règlement Campagne'!$A$4:$AB$7,15,FALSE),IF(ABS(F6-VLOOKUP(C6,'Valeurs Règlement Campagne'!$A$4:$AB$7,16,FALSE))<=2,VLOOKUP(C6,'Valeurs Règlement Campagne'!$A$4:$AB$7,16,FALSE),""))),1,0)+IF(VLOOKUP(C6,'Valeurs Règlement Campagne'!$A$4:$AB$7,16,FALSE)=IF(ABS(F6-VLOOKUP(C6,'Valeurs Règlement Campagne'!$A$4:$AB$7,14,FALSE))<=2,VLOOKUP(C6,'Valeurs Règlement Campagne'!$A$4:$AB$7,14,FALSE),IF(ABS(F6-VLOOKUP(C6,'Valeurs Règlement Campagne'!$A$4:$AB$7,15,FALSE))<=2,VLOOKUP(C6,'Valeurs Règlement Campagne'!$A$4:$AB$7,15,FALSE),IF(ABS(F6-VLOOKUP(C6,'Valeurs Règlement Campagne'!$A$4:$AB$7,16,FALSE))<=2,VLOOKUP(C6,'Valeurs Règlement Campagne'!$A$4:$AB$7,16,FALSE),""))),1,0)),"Doublon",TRUE)),IF(IF(F6=VLOOKUP(C6,'Valeurs Règlement Campagne'!$A$4:$AB$7,14,FALSE),VLOOKUP(C6,'Valeurs Règlement Campagne'!$A$4:$AB$7,14,FALSE),IF(F6=VLOOKUP(C6,'Valeurs Règlement Campagne'!$A$4:$AB$7,15,FALSE),VLOOKUP(C6,'Valeurs Règlement Campagne'!$A$4:$AB$7,15,FALSE),IF(F6=VLOOKUP(C6,'Valeurs Règlement Campagne'!$A$4:$AB$7,16,FALSE),VLOOKUP(C6,'Valeurs Règlement Campagne'!$A$4:$AB$7,16,FALSE),"")))="",FALSE,IF(COUNTIFS($C$6:C6,C6,$E$6:E6,"Connues",$F$6:F6,IF(F6=VLOOKUP(C6,'Valeurs Règlement Campagne'!$A$4:$AB$7,14,FALSE),VLOOKUP(C6,'Valeurs Règlement Campagne'!$A$4:$AB$7,14,FALSE),IF(F6=VLOOKUP(C6,'Valeurs Règlement Campagne'!$A$4:$AB$7,15,FALSE),VLOOKUP(C6,'Valeurs Règlement Campagne'!$A$4:$AB$7,15,FALSE),IF(F6=VLOOKUP(C6,'Valeurs Règlement Campagne'!$A$4:$AB$7,16,FALSE),VLOOKUP(C6,'Valeurs Règlement Campagne'!$A$4:$AB$7,16,FALSE),""))))>(IF(VLOOKUP(C6,'Valeurs Règlement Campagne'!$A$4:$AB$7,14,FALSE)=IF(F6=VLOOKUP(C6,'Valeurs Règlement Campagne'!$A$4:$AB$7,14,FALSE),VLOOKUP(C6,'Valeurs Règlement Campagne'!$A$4:$AB$7,14,FALSE),IF(F6=VLOOKUP(C6,'Valeurs Règlement Campagne'!$A$4:$AB$7,15,FALSE),VLOOKUP(C6,'Valeurs Règlement Campagne'!$A$4:$AB$7,15,FALSE),IF(F6=VLOOKUP(C6,'Valeurs Règlement Campagne'!$A$4:$AB$7,16,FALSE),VLOOKUP(C6,'Valeurs Règlement Campagne'!$A$4:$AB$7,16,FALSE),""))),1,0)+IF(VLOOKUP(C6,'Valeurs Règlement Campagne'!$A$4:$AB$7,15,FALSE)=IF(F6=VLOOKUP(C6,'Valeurs Règlement Campagne'!$A$4:$AB$7,14,FALSE),VLOOKUP(C6,'Valeurs Règlement Campagne'!$A$4:$AB$7,14,FALSE),IF(F6=VLOOKUP(C6,'Valeurs Règlement Campagne'!$A$4:$AB$7,15,FALSE),VLOOKUP(C6,'Valeurs Règlement Campagne'!$A$4:$AB$7,15,FALSE),IF(F6=VLOOKUP(C6,'Valeurs Règlement Campagne'!$A$4:$AB$7,16,FALSE),VLOOKUP(C6,'Valeurs Règlement Campagne'!$A$4:$AB$7,16,FALSE),""))),1,0)+IF(VLOOKUP(C6,'Valeurs Règlement Campagne'!$A$4:$AB$7,16,FALSE)=IF(F6=VLOOKUP(C6,'Valeurs Règlement Campagne'!$A$4:$AB$7,14,FALSE),VLOOKUP(C6,'Valeurs Règlement Campagne'!$A$4:$AB$7,14,FALSE),IF(F6=VLOOKUP(C6,'Valeurs Règlement Campagne'!$A$4:$AB$7,15,FALSE),VLOOKUP(C6,'Valeurs Règlement Campagne'!$A$4:$AB$7,15,FALSE),IF(F6=VLOOKUP(C6,'Valeurs Règlement Campagne'!$A$4:$AB$7,16,FALSE),VLOOKUP(C6,'Valeurs Règlement Campagne'!$A$4:$AB$7,16,FALSE),""))),1,0)),"Doublon",TRUE)))," "))))," ")} | V6: {=IFERROR(IF(OR(C6="",C6=" ")," ",IF(NOT(ISNUMBER(G6))," ",IF(E6="Inconnues",AND(G6>=N6,G6<=O6),IF(E6="Connues",IF('Valeurs Règlement Campagne'!$L$14="OUI",IF(IF(ABS(G6-VLOOKUP(C6,'Valeurs Règlement Campagne'!$A$4:$AB$7,17,FALSE))<=2,VLOOKUP(C6,'Valeurs Règlement Campagne'!$A$4:$AB$7,17,FALSE),IF(ABS(G6-VLOOKUP(C6,'Valeurs Règlement Campagne'!$A$4:$AB$7,18,FALSE))<=2,VLOOKUP(C6,'Valeurs Règlement Campagne'!$A$4:$AB$7,18,FALSE),IF(ABS(G6-VLOOKUP(C6,'Valeurs Règlement Campagne'!$A$4:$AB$7,19,FALSE))<=2,VLOOKUP(C6,'Valeurs Règlement Campagne'!$A$4:$AB$7,19,FALSE),"")))="",FALSE,IF(COUNTIFS($C$6:C6,C6,$E$6:E6,"Connues",$G$6:G6,">="&(IF(ABS(G6-VLOOKUP(C6,'Valeurs Règlement Campagne'!$A$4:$AB$7,17,FALSE))<=2,VLOOKUP(C6,'Valeurs Règlement Campagne'!$A$4:$AB$7,17,FALSE),IF(ABS(G6-VLOOKUP(C6,'Valeurs Règlement Campagne'!$A$4:$AB$7,18,FALSE))<=2,VLOOKUP(C6,'Valeurs Règlement Campagne'!$A$4:$AB$7,18,FALSE),IF(ABS(G6-VLOOKUP(C6,'Valeurs Règlement Campagne'!$A$4:$AB$7,19,FALSE))<=2,VLOOKUP(C6,'Valeurs Règlement Campagne'!$A$4:$AB$7,19,FALSE),"")))-2),$G$6:G6,"<="&(IF(ABS(G6-VLOOKUP(C6,'Valeurs Règlement Campagne'!$A$4:$AB$7,17,FALSE))<=2,VLOOKUP(C6,'Valeurs Règlement Campagne'!$A$4:$AB$7,17,FALSE),IF(ABS(G6-VLOOKUP(C6,'Valeurs Règlement Campagne'!$A$4:$AB$7,18,FALSE))<=2,VLOOKUP(C6,'Valeurs Règlement Campagne'!$A$4:$AB$7,18,FALSE),IF(ABS(G6-VLOOKUP(C6,'Valeurs Règlement Campagne'!$A$4:$AB$7,19,FALSE))<=2,VLOOKUP(C6,'Valeurs Règlement Campagne'!$A$4:$AB$7,19,FALSE),"")))+2))>(IF(VLOOKUP(C6,'Valeurs Règlement Campagne'!$A$4:$AB$7,17,FALSE)=IF(ABS(G6-VLOOKUP(C6,'Valeurs Règlement Campagne'!$A$4:$AB$7,17,FALSE))<=2,VLOOKUP(C6,'Valeurs Règlement Campagne'!$A$4:$AB$7,17,FALSE),IF(ABS(G6-VLOOKUP(C6,'Valeurs Règlement Campagne'!$A$4:$AB$7,18,FALSE))<=2,VLOOKUP(C6,'Valeurs Règlement Campagne'!$A$4:$AB$7,18,FALSE),IF(ABS(G6-VLOOKUP(C6,'Valeurs Règlement Campagne'!$A$4:$AB$7,19,FALSE))<=2,VLOOKUP(C6,'Valeurs Règlement Campagne'!$A$4:$AB$7,19,FALSE),""))),1,0)+IF(VLOOKUP(C6,'Valeurs Règlement Campagne'!$A$4:$AB$7,18,FALSE)=IF(ABS(G6-VLOOKUP(C6,'Valeurs Règlement Campagne'!$A$4:$AB$7,17,FALSE))<=2,VLOOKUP(C6,'Valeurs Règlement Campagne'!$A$4:$AB$7,17,FALSE),IF(ABS(G6-VLOOKUP(C6,'Valeurs Règlement Campagne'!$A$4:$AB$7,18,FALSE))<=2,VLOOKUP(C6,'Valeurs Règlement Campagne'!$A$4:$AB$7,18,FALSE),IF(ABS(G6-VLOOKUP(C6,'Valeurs Règlement Campagne'!$A$4:$AB$7,19,FALSE))<=2,VLOOKUP(C6,'Valeurs Règlement Campagne'!$A$4:$AB$7,19,FALSE),""))),1,0)+IF(VLOOKUP(C6,'Valeurs Règlement Campagne'!$A$4:$AB$7,19,FALSE)=IF(ABS(G6-VLOOKUP(C6,'Valeurs Règlement Campagne'!$A$4:$AB$7,17,FALSE))<=2,VLOOKUP(C6,'Valeurs Règlement Campagne'!$A$4:$AB$7,17,FALSE),IF(ABS(G6-VLOOKUP(C6,'Valeurs Règlement Campagne'!$A$4:$AB$7,18,FALSE))<=2,VLOOKUP(C6,'Valeurs Règlement Campagne'!$A$4:$AB$7,18,FALSE),IF(ABS(G6-VLOOKUP(C6,'Valeurs Règlement Campagne'!$A$4:$AB$7,19,FALSE))<=2,VLOOKUP(C6,'Valeurs Règlement Campagne'!$A$4:$AB$7,19,FALSE),""))),1,0)),"Doublon",TRUE)),IF(IF(G6=VLOOKUP(C6,'Valeurs Règlement Campagne'!$A$4:$AB$7,17,FALSE),VLOOKUP(C6,'Valeurs Règlement Campagne'!$A$4:$AB$7,17,FALSE),IF(G6=VLOOKUP(C6,'Valeurs Règlement Campagne'!$A$4:$AB$7,18,FALSE),VLOOKUP(C6,'Valeurs Règlement Campagne'!$A$4:$AB$7,18,FALSE),IF(G6=VLOOKUP(C6,'Valeurs Règlement Campagne'!$A$4:$AB$7,19,FALSE),VLOOKUP(C6,'Valeurs Règlement Campagne'!$A$4:$AB$7,19,FALSE),"")))="",FALSE,IF(COUNTIFS($C$6:C6,C6,$E$6:E6,"Connues",$G$6:G6,IF(G6=VLOOKUP(C6,'Valeurs Règlement Campagne'!$A$4:$AB$7,17,FALSE),VLOOKUP(C6,'Valeurs Règlement Campagne'!$A$4:$AB$7,17,FALSE),IF(G6=VLOOKUP(C6,'Valeurs Règlement Campagne'!$A$4:$AB$7,18,FALSE),VLOOKUP(C6,'Valeurs Règlement Campagne'!$A$4:$AB$7,18,FALSE),IF(G6=VLOOKUP(C6,'Valeurs Règlement Campagne'!$A$4:$AB$7,19,FALSE),VLOOKUP(C6,'Valeurs Règlement Campagne'!$A$4:$AB$7,19,FALSE),""))))>(IF(VLOOKUP(C6,'Valeurs Règlement Campagne'!$A$4:$AB$7,17,FALSE)=IF(G6=VLOOKUP(C6,'Valeurs Règlement Campagne'!$A$4:$AB$7,17,FALSE),VLOOKUP(C6,'Valeurs Règlement Campagne'!$A$4:$AB$7,17,FALSE),IF(G6=VLOOKUP(C6,'Valeurs Règlement Campagne'!$A$4:$AB$7,18,FALSE),VLOOKUP(C6,'Valeurs Règlement Campagne'!$A$4:$AB$7,18,FALSE),IF(G6=VLOOKUP(C6,'Valeurs Règlement Campagne'!$A$4:$AB$7,19,FALSE),VLOOKUP(C6,'Valeurs Règlement Campagne'!$A$4:$AB$7,19,FALSE),""))),1,0)+IF(VLOOKUP(C6,'Valeurs Règlement Campagne'!$A$4:$AB$7,18,FALSE)=IF(G6=VLOOKUP(C6,'Valeurs Règlement Campagne'!$A$4:$AB$7,17,FALSE),VLOOKUP(C6,'Valeurs Règlement Campagne'!$A$4:$AB$7,17,FALSE),IF(G6=VLOOKUP(C6,'Valeurs Règlement Campagne'!$A$4:$AB$7,18,FALSE),VLOOKUP(C6,'Valeurs Règlement Campagne'!$A$4:$AB$7,18,FALSE),IF(G6=VLOOKUP(C6,'Valeurs Règlement Campagne'!$A$4:$AB$7,19,FALSE),VLOOKUP(C6,'Valeurs Règlement Campagne'!$A$4:$AB$7,19,FALSE),""))),1,0)+IF(VLOOKUP(C6,'Valeurs Règlement Campagne'!$A$4:$AB$7,19,FALSE)=IF(G6=VLOOKUP(C6,'Valeurs Règlement Campagne'!$A$4:$AB$7,17,FALSE),VLOOKUP(C6,'Valeurs Règlement Campagne'!$A$4:$AB$7,17,FALSE),IF(G6=VLOOKUP(C6,'Valeurs Règlement Campagne'!$A$4:$AB$7,18,FALSE),VLOOKUP(C6,'Valeurs Règlement Campagne'!$A$4:$AB$7,18,FALSE),IF(G6=VLOOKUP(C6,'Valeurs Règlement Campagne'!$A$4:$AB$7,19,FALSE),VLOOKUP(C6,'Valeurs Règlement Campagne'!$A$4:$AB$7,19,FALSE),""))),1,0)),"Doublon",TRUE)))," "))))," ")} | W6: {=IFERROR(IF(OR(C6="",C6=" ")," ",IF(NOT(ISNUMBER(H6))," ",IF(E6="Inconnues",AND(H6>=P6,H6<=Q6),IF(E6="Connues",IF('Valeurs Règlement Campagne'!$L$14="OUI",IF(IF(ABS(H6-VLOOKUP(C6,'Valeurs Règlement Campagne'!$A$4:$AB$7,20,FALSE))<=2,VLOOKUP(C6,'Valeurs Règlement Campagne'!$A$4:$AB$7,20,FALSE),IF(ABS(H6-VLOOKUP(C6,'Valeurs Règlement Campagne'!$A$4:$AB$7,21,FALSE))<=2,VLOOKUP(C6,'Valeurs Règlement Campagne'!$A$4:$AB$7,21,FALSE),IF(ABS(H6-VLOOKUP(C6,'Valeurs Règlement Campagne'!$A$4:$AB$7,22,FALSE))<=2,VLOOKUP(C6,'Valeurs Règlement Campagne'!$A$4:$AB$7,22,FALSE),"")))="",FALSE,IF(COUNTIFS($C$6:C6,C6,$E$6:E6,"Connues",$H$6:H6,">="&(IF(ABS(H6-VLOOKUP(C6,'Valeurs Règlement Campagne'!$A$4:$AB$7,20,FALSE))<=2,VLOOKUP(C6,'Valeurs Règlement Campagne'!$A$4:$AB$7,20,FALSE),IF(ABS(H6-VLOOKUP(C6,'Valeurs Règlement Campagne'!$A$4:$AB$7,21,FALSE))<=2,VLOOKUP(C6,'Valeurs Règlement Campagne'!$A$4:$AB$7,21,FALSE),IF(ABS(H6-VLOOKUP(C6,'Valeurs Règlement Campagne'!$A$4:$AB$7,22,FALSE))<=2,VLOOKUP(C6,'Valeurs Règlement Campagne'!$A$4:$AB$7,22,FALSE),"")))-2),$H$6:H6,"<="&(IF(ABS(H6-VLOOKUP(C6,'Valeurs Règlement Campagne'!$A$4:$AB$7,20,FALSE))<=2,VLOOKUP(C6,'Valeurs Règlement Campagne'!$A$4:$AB$7,20,FALSE),IF(ABS(H6-VLOOKUP(C6,'Valeurs Règlement Campagne'!$A$4:$AB$7,21,FALSE))<=2,VLOOKUP(C6,'Valeurs Règlement Campagne'!$A$4:$AB$7,21,FALSE),IF(ABS(H6-VLOOKUP(C6,'Valeurs Règlement Campagne'!$A$4:$AB$7,22,FALSE))<=2,VLOOKUP(C6,'Valeurs Règlement Campagne'!$A$4:$AB$7,22,FALSE),"")))+2))>(IF(VLOOKUP(C6,'Valeurs Règlement Campagne'!$A$4:$AB$7,20,FALSE)=IF(ABS(H6-VLOOKUP(C6,'Valeurs Règlement Campagne'!$A$4:$AB$7,20,FALSE))<=2,VLOOKUP(C6,'Valeurs Règlement Campagne'!$A$4:$AB$7,20,FALSE),IF(ABS(H6-VLOOKUP(C6,'Valeurs Règlement Campagne'!$A$4:$AB$7,21,FALSE))<=2,VLOOKUP(C6,'Valeurs Règlement Campagne'!$A$4:$AB$7,21,FALSE),IF(ABS(H6-VLOOKUP(C6,'Valeurs Règlement Campagne'!$A$4:$AB$7,22,FALSE))<=2,VLOOKUP(C6,'Valeurs Règlement Campagne'!$A$4:$AB$7,22,FALSE),""))),1,0)+IF(VLOOKUP(C6,'Valeurs Règlement Campagne'!$A$4:$AB$7,21,FALSE)=IF(ABS(H6-VLOOKUP(C6,'Valeurs Règlement Campagne'!$A$4:$AB$7,20,FALSE))<=2,VLOOKUP(C6,'Valeurs Règlement Campagne'!$A$4:$AB$7,20,FALSE),IF(ABS(H6-VLOOKUP(C6,'Valeurs Règlement Campagne'!$A$4:$AB$7,21,FALSE))<=2,VLOOKUP(C6,'Valeurs Règlement Campagne'!$A$4:$AB$7,21,FALSE),IF(ABS(H6-VLOOKUP(C6,'Valeurs Règlement Campagne'!$A$4:$AB$7,22,FALSE))<=2,VLOOKUP(C6,'Valeurs Règlement Campagne'!$A$4:$AB$7,22,FALSE),""))),1,0)+IF(VLOOKUP(C6,'Valeurs Règlement Campagne'!$A$4:$AB$7,22,FALSE)=IF(ABS(H6-VLOOKUP(C6,'Valeurs Règlement Campagne'!$A$4:$AB$7,20,FALSE))<=2,VLOOKUP(C6,'Valeurs Règlement Campagne'!$A$4:$AB$7,20,FALSE),IF(ABS(H6-VLOOKUP(C6,'Valeurs Règlement Campagne'!$A$4:$AB$7,21,FALSE))<=2,VLOOKUP(C6,'Valeurs Règlement Campagne'!$A$4:$AB$7,21,FALSE),IF(ABS(H6-VLOOKUP(C6,'Valeurs Règlement Campagne'!$A$4:$AB$7,22,FALSE))<=2,VLOOKUP(C6,'Valeurs Règlement Campagne'!$A$4:$AB$7,22,FALSE),""))),1,0)),"Doublon",TRUE)),IF(IF(H6=VLOOKUP(C6,'Valeurs Règlement Campagne'!$A$4:$AB$7,20,FALSE),VLOOKUP(C6,'Valeurs Règlement Campagne'!$A$4:$AB$7,20,FALSE),IF(H6=VLOOKUP(C6,'Valeurs Règlement Campagne'!$A$4:$AB$7,21,FALSE),VLOOKUP(C6,'Valeurs Règlement Campagne'!$A$4:$AB$7,21,FALSE),IF(H6=VLOOKUP(C6,'Valeurs Règlement Campagne'!$A$4:$AB$7,22,FALSE),VLOOKUP(C6,'Valeurs Règlement Campagne'!$A$4:$AB$7,22,FALSE),"")))="",FALSE,IF(COUNTIFS($C$6:C6,C6,$E$6:E6,"Connues",$H$6:H6,IF(H6=VLOOKUP(C6,'Valeurs Règlement Campagne'!$A$4:$AB$7,20,FALSE),VLOOKUP(C6,'Valeurs Règlement Campagne'!$A$4:$AB$7,20,FALSE),IF(H6=VLOOKUP(C6,'Valeurs Règlement Campagne'!$A$4:$AB$7,21,FALSE),VLOOKUP(C6,'Valeurs Règlement Campagne'!$A$4:$AB$7,21,FALSE),IF(H6=VLOOKUP(C6,'Valeurs Règlement Campagne'!$A$4:$AB$7,22,FALSE),VLOOKUP(C6,'Valeurs Règlement Campagne'!$A$4:$AB$7,22,FALSE),""))))>(IF(VLOOKUP(C6,'Valeurs Règlement Campagne'!$A$4:$AB$7,20,FALSE)=IF(H6=VLOOKUP(C6,'Valeurs Règlement Campagne'!$A$4:$AB$7,20,FALSE),VLOOKUP(C6,'Valeurs Règlement Campagne'!$A$4:$AB$7,20,FALSE),IF(H6=VLOOKUP(C6,'Valeurs Règlement Campagne'!$A$4:$AB$7,21,FALSE),VLOOKUP(C6,'Valeurs Règlement Campagne'!$A$4:$AB$7,21,FALSE),IF(H6=VLOOKUP(C6,'Valeurs Règlement Campagne'!$A$4:$AB$7,22,FALSE),VLOOKUP(C6,'Valeurs Règlement Campagne'!$A$4:$AB$7,22,FALSE),""))),1,0)+IF(VLOOKUP(C6,'Valeurs Règlement Campagne'!$A$4:$AB$7,21,FALSE)=IF(H6=VLOOKUP(C6,'Valeurs Règlement Campagne'!$A$4:$AB$7,20,FALSE),VLOOKUP(C6,'Valeurs Règlement Campagne'!$A$4:$AB$7,20,FALSE),IF(H6=VLOOKUP(C6,'Valeurs Règlement Campagne'!$A$4:$AB$7,21,FALSE),VLOOKUP(C6,'Valeurs Règlement Campagne'!$A$4:$AB$7,21,FALSE),IF(H6=VLOOKUP(C6,'Valeurs Règlement Campagne'!$A$4:$AB$7,22,FALSE),VLOOKUP(C6,'Valeurs Règlement Campagne'!$A$4:$AB$7,22,FALSE),""))),1,0)+IF(VLOOKUP(C6,'Valeurs Règlement Campagne'!$A$4:$AB$7,22,FALSE)=IF(H6=VLOOKUP(C6,'Valeurs Règlement Campagne'!$A$4:$AB$7,20,FALSE),VLOOKUP(C6,'Valeurs Règlement Campagne'!$A$4:$AB$7,20,FALSE),IF(H6=VLOOKUP(C6,'Valeurs Règlement Campagne'!$A$4:$AB$7,21,FALSE),VLOOKUP(C6,'Valeurs Règlement Campagne'!$A$4:$AB$7,21,FALSE),IF(H6=VLOOKUP(C6,'Valeurs Règlement Campagne'!$A$4:$AB$7,22,FALSE),VLOOKUP(C6,'Valeurs Règlement Campagne'!$A$4:$AB$7,22,FALSE),""))),1,0)),"Doublon",TRUE)))," "))))," ")} | X6: {=IFERROR(IF(OR(C6="",C6=" ")," ",IF(NOT(ISNUMBER(I6))," ",IF(E6="Inconnues",AND(I6>=P6,I6<=R6),IF(E6="Connues",IF('Valeurs Règlement Campagne'!$L$14="OUI",IF(IF(ABS(I6-VLOOKUP(C6,'Valeurs Règlement Campagne'!$A$4:$AB$7,23,FALSE))<=2,VLOOKUP(C6,'Valeurs Règlement Campagne'!$A$4:$AB$7,23,FALSE),IF(ABS(I6-VLOOKUP(C6,'Valeurs Règlement Campagne'!$A$4:$AB$7,24,FALSE))<=2,VLOOKUP(C6,'Valeurs Règlement Campagne'!$A$4:$AB$7,24,FALSE),IF(ABS(I6-VLOOKUP(C6,'Valeurs Règlement Campagne'!$A$4:$AB$7,25,FALSE))<=2,VLOOKUP(C6,'Valeurs Règlement Campagne'!$A$4:$AB$7,25,FALSE),"")))="",FALSE,IF(COUNTIFS($C$6:C6,C6,$E$6:E6,"Connues",$I$6:I6,">="&(IF(ABS(I6-VLOOKUP(C6,'Valeurs Règlement Campagne'!$A$4:$AB$7,23,FALSE))<=2,VLOOKUP(C6,'Valeurs Règlement Campagne'!$A$4:$AB$7,23,FALSE),IF(ABS(I6-VLOOKUP(C6,'Valeurs Règlement Campagne'!$A$4:$AB$7,24,FALSE))<=2,VLOOKUP(C6,'Valeurs Règlement Campagne'!$A$4:$AB$7,24,FALSE),IF(ABS(I6-VLOOKUP(C6,'Valeurs Règlement Campagne'!$A$4:$AB$7,25,FALSE))<=2,VLOOKUP(C6,'Valeurs Règlement Campagne'!$A$4:$AB$7,25,FALSE),"")))-2),$I$6:I6,"<="&(IF(ABS(I6-VLOOKUP(C6,'Valeurs Règlement Campagne'!$A$4:$AB$7,23,FALSE))<=2,VLOOKUP(C6,'Valeurs Règlement Campagne'!$A$4:$AB$7,23,FALSE),IF(ABS(I6-VLOOKUP(C6,'Valeurs Règlement Campagne'!$A$4:$AB$7,24,FALSE))<=2,VLOOKUP(C6,'Valeurs Règlement Campagne'!$A$4:$AB$7,24,FALSE),IF(ABS(I6-VLOOKUP(C6,'Valeurs Règlement Campagne'!$A$4:$AB$7,25,FALSE))<=2,VLOOKUP(C6,'Valeurs Règlement Campagne'!$A$4:$AB$7,25,FALSE),"")))+2))>(IF(VLOOKUP(C6,'Valeurs Règlement Campagne'!$A$4:$AB$7,23,FALSE)=IF(ABS(I6-VLOOKUP(C6,'Valeurs Règlement Campagne'!$A$4:$AB$7,23,FALSE))<=2,VLOOKUP(C6,'Valeurs Règlement Campagne'!$A$4:$AB$7,23,FALSE),IF(ABS(I6-VLOOKUP(C6,'Valeurs Règlement Campagne'!$A$4:$AB$7,24,FALSE))<=2,VLOOKUP(C6,'Valeurs Règlement Campagne'!$A$4:$AB$7,24,FALSE),IF(ABS(I6-VLOOKUP(C6,'Valeurs Règlement Campagne'!$A$4:$AB$7,25,FALSE))<=2,VLOOKUP(C6,'Valeurs Règlement Campagne'!$A$4:$AB$7,25,FALSE),""))),1,0)+IF(VLOOKUP(C6,'Valeurs Règlement Campagne'!$A$4:$AB$7,24,FALSE)=IF(ABS(I6-VLOOKUP(C6,'Valeurs Règlement Campagne'!$A$4:$AB$7,23,FALSE))<=2,VLOOKUP(C6,'Valeurs Règlement Campagne'!$A$4:$AB$7,23,FALSE),IF(ABS(I6-VLOOKUP(C6,'Valeurs Règlement Campagne'!$A$4:$AB$7,24,FALSE))<=2,VLOOKUP(C6,'Valeurs Règlement Campagne'!$A$4:$AB$7,24,FALSE),IF(ABS(I6-VLOOKUP(C6,'Valeurs Règlement Campagne'!$A$4:$AB$7,25,FALSE))<=2,VLOOKUP(C6,'Valeurs Règlement Campagne'!$A$4:$AB$7,25,FALSE),""))),1,0)+IF(VLOOKUP(C6,'Valeurs Règlement Campagne'!$A$4:$AB$7,25,FALSE)=IF(ABS(I6-VLOOKUP(C6,'Valeurs Règlement Campagne'!$A$4:$AB$7,23,FALSE))<=2,VLOOKUP(C6,'Valeurs Règlement Campagne'!$A$4:$AB$7,23,FALSE),IF(ABS(I6-VLOOKUP(C6,'Valeurs Règlement Campagne'!$A$4:$AB$7,24,FALSE))<=2,VLOOKUP(C6,'Valeurs Règlement Campagne'!$A$4:$AB$7,24,FALSE),IF(ABS(I6-VLOOKUP(C6,'Valeurs Règlement Campagne'!$A$4:$AB$7,25,FALSE))<=2,VLOOKUP(C6,'Valeurs Règlement Campagne'!$A$4:$AB$7,25,FALSE),""))),1,0)),"Doublon",TRUE)),IF(IF(I6=VLOOKUP(C6,'Valeurs Règlement Campagne'!$A$4:$AB$7,23,FALSE),VLOOKUP(C6,'Valeurs Règlement Campagne'!$A$4:$AB$7,23,FALSE),IF(I6=VLOOKUP(C6,'Valeurs Règlement Campagne'!$A$4:$AB$7,24,FALSE),VLOOKUP(C6,'Valeurs Règlement Campagne'!$A$4:$AB$7,24,FALSE),IF(I6=VLOOKUP(C6,'Valeurs Règlement Campagne'!$A$4:$AB$7,25,FALSE),VLOOKUP(C6,'Valeurs Règlement Campagne'!$A$4:$AB$7,25,FALSE),"")))="",FALSE,IF(COUNTIFS($C$6:C6,C6,$E$6:E6,"Connues",$I$6:I6,IF(I6=VLOOKUP(C6,'Valeurs Règlement Campagne'!$A$4:$AB$7,23,FALSE),VLOOKUP(C6,'Valeurs Règlement Campagne'!$A$4:$AB$7,23,FALSE),IF(I6=VLOOKUP(C6,'Valeurs Règlement Campagne'!$A$4:$AB$7,24,FALSE),VLOOKUP(C6,'Valeurs Règlement Campagne'!$A$4:$AB$7,24,FALSE),IF(I6=VLOOKUP(C6,'Valeurs Règlement Campagne'!$A$4:$AB$7,25,FALSE),VLOOKUP(C6,'Valeurs Règlement Campagne'!$A$4:$AB$7,25,FALSE),""))))>(IF(VLOOKUP(C6,'Valeurs Règlement Campagne'!$A$4:$AB$7,23,FALSE)=IF(I6=VLOOKUP(C6,'Valeurs Règlement Campagne'!$A$4:$AB$7,23,FALSE),VLOOKUP(C6,'Valeurs Règlement Campagne'!$A$4:$AB$7,23,FALSE),IF(I6=VLOOKUP(C6,'Valeurs Règlement Campagne'!$A$4:$AB$7,24,FALSE),VLOOKUP(C6,'Valeurs Règlement Campagne'!$A$4:$AB$7,24,FALSE),IF(I6=VLOOKUP(C6,'Valeurs Règlement Campagne'!$A$4:$AB$7,25,FALSE),VLOOKUP(C6,'Valeurs Règlement Campagne'!$A$4:$AB$7,25,FALSE),""))),1,0)+IF(VLOOKUP(C6,'Valeurs Règlement Campagne'!$A$4:$AB$7,24,FALSE)=IF(I6=VLOOKUP(C6,'Valeurs Règlement Campagne'!$A$4:$AB$7,23,FALSE),VLOOKUP(C6,'Valeurs Règlement Campagne'!$A$4:$AB$7,23,FALSE),IF(I6=VLOOKUP(C6,'Valeurs Règlement Campagne'!$A$4:$AB$7,24,FALSE),VLOOKUP(C6,'Valeurs Règlement Campagne'!$A$4:$AB$7,24,FALSE),IF(I6=VLOOKUP(C6,'Valeurs Règlement Campagne'!$A$4:$AB$7,25,FALSE),VLOOKUP(C6,'Valeurs Règlement Campagne'!$A$4:$AB$7,25,FALSE),""))),1,0)+IF(VLOOKUP(C6,'Valeurs Règlement Campagne'!$A$4:$AB$7,25,FALSE)=IF(I6=VLOOKUP(C6,'Valeurs Règlement Campagne'!$A$4:$AB$7,23,FALSE),VLOOKUP(C6,'Valeurs Règlement Campagne'!$A$4:$AB$7,23,FALSE),IF(I6=VLOOKUP(C6,'Valeurs Règlement Campagne'!$A$4:$AB$7,24,FALSE),VLOOKUP(C6,'Valeurs Règlement Campagne'!$A$4:$AB$7,24,FALSE),IF(I6=VLOOKUP(C6,'Valeurs Règlement Campagne'!$A$4:$AB$7,25,FALSE),VLOOKUP(C6,'Valeurs Règlement Campagne'!$A$4:$AB$7,25,FALSE),""))),1,0)),"Doublon",TRUE)))," "))))," ")} | Y6: {=IFERROR(IF(OR(C6="",C6=" ")," ",IF(NOT(ISNUMBER(J6))," ",IF(E6="Inconnues",AND(J6>=S6,J6<=T6),IF(E6="Connues",IF('Valeurs Règlement Campagne'!$L$14="OUI",IF(IF(ABS(J6-VLOOKUP(C6,'Valeurs Règlement Campagne'!$A$4:$AB$7,26,FALSE))<=2,VLOOKUP(C6,'Valeurs Règlement Campagne'!$A$4:$AB$7,26,FALSE),IF(ABS(J6-VLOOKUP(C6,'Valeurs Règlement Campagne'!$A$4:$AB$7,27,FALSE))<=2,VLOOKUP(C6,'Valeurs Règlement Campagne'!$A$4:$AB$7,27,FALSE),IF(ABS(J6-VLOOKUP(C6,'Valeurs Règlement Campagne'!$A$4:$AB$7,28,FALSE))<=2,VLOOKUP(C6,'Valeurs Règlement Campagne'!$A$4:$AB$7,28,FALSE),"")))="",FALSE,IF(COUNTIFS($C$6:C6,C6,$E$6:E6,"Connues",$J$6:J6,">="&(IF(ABS(J6-VLOOKUP(C6,'Valeurs Règlement Campagne'!$A$4:$AB$7,26,FALSE))<=2,VLOOKUP(C6,'Valeurs Règlement Campagne'!$A$4:$AB$7,26,FALSE),IF(ABS(J6-VLOOKUP(C6,'Valeurs Règlement Campagne'!$A$4:$AB$7,27,FALSE))<=2,VLOOKUP(C6,'Valeurs Règlement Campagne'!$A$4:$AB$7,27,FALSE),IF(ABS(J6-VLOOKUP(C6,'Valeurs Règlement Campagne'!$A$4:$AB$7,28,FALSE))<=2,VLOOKUP(C6,'Valeurs Règlement Campagne'!$A$4:$AB$7,28,FALSE),"")))-2),$J$6:J6,"<="&(IF(ABS(J6-VLOOKUP(C6,'Valeurs Règlement Campagne'!$A$4:$AB$7,26,FALSE))<=2,VLOOKUP(C6,'Valeurs Règlement Campagne'!$A$4:$AB$7,26,FALSE),IF(ABS(J6-VLOOKUP(C6,'Valeurs Règlement Campagne'!$A$4:$AB$7,27,FALSE))<=2,VLOOKUP(C6,'Valeurs Règlement Campagne'!$A$4:$AB$7,27,FALSE),IF(ABS(J6-VLOOKUP(C6,'Valeurs Règlement Campagne'!$A$4:$AB$7,28,FALSE))<=2,VLOOKUP(C6,'Valeurs Règlement Campagne'!$A$4:$AB$7,28,FALSE),"")))+2))>(IF(VLOOKUP(C6,'Valeurs Règlement Campagne'!$A$4:$AB$7,26,FALSE)=IF(ABS(J6-VLOOKUP(C6,'Valeurs Règlement Campagne'!$A$4:$AB$7,26,FALSE))<=2,VLOOKUP(C6,'Valeurs Règlement Campagne'!$A$4:$AB$7,26,FALSE),IF(ABS(J6-VLOOKUP(C6,'Valeurs Règlement Campagne'!$A$4:$AB$7,27,FALSE))<=2,VLOOKUP(C6,'Valeurs Règlement Campagne'!$A$4:$AB$7,27,FALSE),IF(ABS(J6-VLOOKUP(C6,'Valeurs Règlement Campagne'!$A$4:$AB$7,28,FALSE))<=2,VLOOKUP(C6,'Valeurs Règlement Campagne'!$A$4:$AB$7,28,FALSE),""))),1,0)+IF(VLOOKUP(C6,'Valeurs Règlement Campagne'!$A$4:$AB$7,27,FALSE)=IF(ABS(J6-VLOOKUP(C6,'Valeurs Règlement Campagne'!$A$4:$AB$7,26,FALSE))<=2,VLOOKUP(C6,'Valeurs Règlement Campagne'!$A$4:$AB$7,26,FALSE),IF(ABS(J6-VLOOKUP(C6,'Valeurs Règlement Campagne'!$A$4:$AB$7,27,FALSE))<=2,VLOOKUP(C6,'Valeurs Règlement Campagne'!$A$4:$AB$7,27,FALSE),IF(ABS(J6-VLOOKUP(C6,'Valeurs Règlement Campagne'!$A$4:$AB$7,28,FALSE))<=2,VLOOKUP(C6,'Valeurs Règlement Campagne'!$A$4:$AB$7,28,FALSE),""))),1,0)+IF(VLOOKUP(C6,'Valeurs Règlement Campagne'!$A$4:$AB$7,28,FALSE)=IF(ABS(J6-VLOOKUP(C6,'Valeurs Règlement Campagne'!$A$4:$AB$7,26,FALSE))<=2,VLOOKUP(C6,'Valeurs Règlement Campagne'!$A$4:$AB$7,26,FALSE),IF(ABS(J6-VLOOKUP(C6,'Valeurs Règlement Campagne'!$A$4:$AB$7,27,FALSE))<=2,VLOOKUP(C6,'Valeurs Règlement Campagne'!$A$4:$AB$7,27,FALSE),IF(ABS(J6-VLOOKUP(C6,'Valeurs Règlement Campagne'!$A$4:$AB$7,28,FALSE))<=2,VLOOKUP(C6,'Valeurs Règlement Campagne'!$A$4:$AB$7,28,FALSE),""))),1,0)),"Doublon",TRUE)),IF(IF(J6=VLOOKUP(C6,'Valeurs Règlement Campagne'!$A$4:$AB$7,26,FALSE),VLOOKUP(C6,'Valeurs Règlement Campagne'!$A$4:$AB$7,26,FALSE),IF(J6=VLOOKUP(C6,'Valeurs Règlement Campagne'!$A$4:$AB$7,27,FALSE),VLOOKUP(C6,'Valeurs Règlement Campagne'!$A$4:$AB$7,27,FALSE),IF(J6=VLOOKUP(C6,'Valeurs Règlement Campagne'!$A$4:$AB$7,28,FALSE),VLOOKUP(C6,'Valeurs Règlement Campagne'!$A$4:$AB$7,28,FALSE),"")))="",FALSE,IF(COUNTIFS($C$6:C6,C6,$E$6:E6,"Connues",$J$6:J6,IF(J6=VLOOKUP(C6,'Valeurs Règlement Campagne'!$A$4:$AB$7,26,FALSE),VLOOKUP(C6,'Valeurs Règlement Campagne'!$A$4:$AB$7,26,FALSE),IF(J6=VLOOKUP(C6,'Valeurs Règlement Campagne'!$A$4:$AB$7,27,FALSE),VLOOKUP(C6,'Valeurs Règlement Campagne'!$A$4:$AB$7,27,FALSE),IF(J6=VLOOKUP(C6,'Valeurs Règlement Campagne'!$A$4:$AB$7,28,FALSE),VLOOKUP(C6,'Valeurs Règlement Campagne'!$A$4:$AB$7,28,FALSE),""))))>(IF(VLOOKUP(C6,'Valeurs Règlement Campagne'!$A$4:$AB$7,26,FALSE)=IF(J6=VLOOKUP(C6,'Valeurs Règlement Campagne'!$A$4:$AB$7,26,FALSE),VLOOKUP(C6,'Valeurs Règlement Campagne'!$A$4:$AB$7,26,FALSE),IF(J6=VLOOKUP(C6,'Valeurs Règlement Campagne'!$A$4:$AB$7,27,FALSE),VLOOKUP(C6,'Valeurs Règlement Campagne'!$A$4:$AB$7,27,FALSE),IF(J6=VLOOKUP(C6,'Valeurs Règlement Campagne'!$A$4:$AB$7,28,FALSE),VLOOKUP(C6,'Valeurs Règlement Campagne'!$A$4:$AB$7,28,FALSE),""))),1,0)+IF(VLOOKUP(C6,'Valeurs Règlement Campagne'!$A$4:$AB$7,27,FALSE)=IF(J6=VLOOKUP(C6,'Valeurs Règlement Campagne'!$A$4:$AB$7,26,FALSE),VLOOKUP(C6,'Valeurs Règlement Campagne'!$A$4:$AB$7,26,FALSE),IF(J6=VLOOKUP(C6,'Valeurs Règlement Campagne'!$A$4:$AB$7,27,FALSE),VLOOKUP(C6,'Valeurs Règlement Campagne'!$A$4:$AB$7,27,FALSE),IF(J6=VLOOKUP(C6,'Valeurs Règlement Campagne'!$A$4:$AB$7,28,FALSE),VLOOKUP(C6,'Valeurs Règlement Campagne'!$A$4:$AB$7,28,FALSE),""))),1,0)+IF(VLOOKUP(C6,'Valeurs Règlement Campagne'!$A$4:$AB$7,28,FALSE)=IF(J6=VLOOKUP(C6,'Valeurs Règlement Campagne'!$A$4:$AB$7,26,FALSE),VLOOKUP(C6,'Valeurs Règlement Campagne'!$A$4:$AB$7,26,FALSE),IF(J6=VLOOKUP(C6,'Valeurs Règlement Campagne'!$A$4:$AB$7,27,FALSE),VLOOKUP(C6,'Valeurs Règlement Campagne'!$A$4:$AB$7,27,FALSE),IF(J6=VLOOKUP(C6,'Valeurs Règlement Campagne'!$A$4:$AB$7,28,FALSE),VLOOKUP(C6,'Valeurs Règlement Campagne'!$A$4:$AB$7,28,FALSE),""))),1,0)),"Doublon",TRUE)))," "))))," ")} | Z6: =IFERROR(IF(OR(NOT(ISNUMBER(F6)),NOT(ISNUMBER(G6)))," ",IF(OR(U6="Doublon",V6="Doublon"),"Doublon",IF(F6>=G6,IF(AND(U6=TRUE,V6=TRUE),"ok","faux"),"faux")))," ") | AB6: =IFERROR(IF(OR(NOT(ISNUMBER(G6)),NOT(ISNUMBER(H6)))," ",IF(OR(V6="Doublon",W6="Doublon"),"Doublon",IF(G6>=H6,IF(AND(V6=TRUE,W6=TRUE),"ok","faux"),"faux")))," ") | AD6: =IFERROR(IF(OR(NOT(ISNUMBER(H6)),NOT(ISNUMBER(I6)))," ",IF(OR(W6="Doublon",X6="Doublon"),"Doublon",IF(H6>=I6,IF(AND(W6=TRUE,X6=TRUE),"ok","faux"),"faux")))," ") | AF6: =IFERROR(IF(OR(NOT(ISNUMBER(H6)),NOT(ISNUMBER(J6)))," ",IF(OR(W6="Doublon",Y6="Doublon"),"Doublon",IF(H6>=J6,IF(AND(W6=TRUE,Y6=TRUE),"ok","faux"),"faux")))," ") | AH6: =IF(AND(E6="Inconnues",LEFT(C6,1)="1",ISNUMBER(I6)),"Obligatoire",IF(AND(E6="Connues",LEFT(C6,1)="1"),"Possible",IF(AND(E6="Inconnues",LEFT(C6,1)="1",NOT(ISNUMBER(I6))),"Manque orange",""))) | AI6: =IFERROR(IF(OR(C6="",C6=" ",NOT(ISNUMBER(F6))),0,IF(E6="Inconnues",IF(AND(F6>=L6,F6<=M6),0,1),IF(E6="Connues",IF('Valeurs Règlement Campagne'!$L$14="OUI",IF(IF(ABS(F6-VLOOKUP(C6,'Valeurs Règlement Campagne'!$A$4:$AB$7,14,FALSE))<=2,VLOOKUP(C6,'Valeurs Règlement Campagne'!$A$4:$AB$7,14,FALSE),IF(ABS(F6-VLOOKUP(C6,'Valeurs Règlement Campagne'!$A$4:$AB$7,15,FALSE))<=2,VLOOKUP(C6,'Valeurs Règlement Campagne'!$A$4:$AB$7,15,FALSE),IF(ABS(F6-VLOOKUP(C6,'Valeurs Règlement Campagne'!$A$4:$AB$7,16,FALSE))<=2,VLOOKUP(C6,'Valeurs Règlement Campagne'!$A$4:$AB$7,16,FALSE),"")))="",1,IF(COUNTIFS($C$6:C6,C6,$E$6:E6,"Connues",$F$6:F6,">="&(IF(ABS(F6-VLOOKUP(C6,'Valeurs Règlement Campagne'!$A$4:$AB$7,14,FALSE))<=2,VLOOKUP(C6,'Valeurs Règlement Campagne'!$A$4:$AB$7,14,FALSE),IF(ABS(F6-VLOOKUP(C6,'Valeurs Règlement Campagne'!$A$4:$AB$7,15,FALSE))<=2,VLOOKUP(C6,'Valeurs Règlement Campagne'!$A$4:$AB$7,15,FALSE),IF(ABS(F6-VLOOKUP(C6,'Valeurs Règlement Campagne'!$A$4:$AB$7,16,FALSE))<=2,VLOOKUP(C6,'Valeurs Règlement Campagne'!$A$4:$AB$7,16,FALSE),"")))-2),$F$6:F6,"<="&(IF(ABS(F6-VLOOKUP(C6,'Valeurs Règlement Campagne'!$A$4:$AB$7,14,FALSE))<=2,VLOOKUP(C6,'Valeurs Règlement Campagne'!$A$4:$AB$7,14,FALSE),IF(ABS(F6-VLOOKUP(C6,'Valeurs Règlement Campagne'!$A$4:$AB$7,15,FALSE))<=2,VLOOKUP(C6,'Valeurs Règlement Campagne'!$A$4:$AB$7,15,FALSE),IF(ABS(F6-VLOOKUP(C6,'Valeurs Règlement Campagne'!$A$4:$AB$7,16,FALSE))<=2,VLOOKUP(C6,'Valeurs Règlement Campagne'!$A$4:$AB$7,16,FALSE),"")))+2))>(IF(VLOOKUP(C6,'Valeurs Règlement Campagne'!$A$4:$AB$7,14,FALSE)=IF(ABS(F6-VLOOKUP(C6,'Valeurs Règlement Campagne'!$A$4:$AB$7,14,FALSE))<=2,VLOOKUP(C6,'Valeurs Règlement Campagne'!$A$4:$AB$7,14,FALSE),IF(ABS(F6-VLOOKUP(C6,'Valeurs Règlement Campagne'!$A$4:$AB$7,15,FALSE))<=2,VLOOKUP(C6,'Valeurs Règlement Campagne'!$A$4:$AB$7,15,FALSE),IF(ABS(F6-VLOOKUP(C6,'Valeurs Règlement Campagne'!$A$4:$AB$7,16,FALSE))<=2,VLOOKUP(C6,'Valeurs Règlement Campagne'!$A$4:$AB$7,16,FALSE),""))),1,0)+IF(VLOOKUP(C6,'Valeurs Règlement Campagne'!$A$4:$AB$7,15,FALSE)=IF(ABS(F6-VLOOKUP(C6,'Valeurs Règlement Campagne'!$A$4:$AB$7,14,FALSE))<=2,VLOOKUP(C6,'Valeurs Règlement Campagne'!$A$4:$AB$7,14,FALSE),IF(ABS(F6-VLOOKUP(C6,'Valeurs Règlement Campagne'!$A$4:$AB$7,15,FALSE))<=2,VLOOKUP(C6,'Valeurs Règlement Campagne'!$A$4:$AB$7,15,FALSE),IF(ABS(F6-VLOOKUP(C6,'Valeurs Règlement Campagne'!$A$4:$AB$7,16,FALSE))<=2,VLOOKUP(C6,'Valeurs Règlement Campagne'!$A$4:$AB$7,16,FALSE),""))),1,0)+IF(VLOOKUP(C6,'Valeurs Règlement Campagne'!$A$4:$AB$7,16,FALSE)=IF(ABS(F6-VLOOKUP(C6,'Valeurs Règlement Campagne'!$A$4:$AB$7,14,FALSE))<=2,VLOOKUP(C6,'Valeurs Règlement Campagne'!$A$4:$AB$7,14,FALSE),IF(ABS(F6-VLOOKUP(C6,'Valeurs Règlement Campagne'!$A$4:$AB$7,15,FALSE))<=2,VLOOKUP(C6,'Valeurs Règlement Campagne'!$A$4:$AB$7,15,FALSE),IF(ABS(F6-VLOOKUP(C6,'Valeurs Règlement Campagne'!$A$4:$AB$7,16,FALSE))<=2,VLOOKUP(C6,'Valeurs Règlement Campagne'!$A$4:$AB$7,16,FALSE),""))),1,0)),1,0)),IF(IF(F6=VLOOKUP(C6,'Valeurs Règlement Campagne'!$A$4:$AB$7,14,FALSE),VLOOKUP(C6,'Valeurs Règlement Campagne'!$A$4:$AB$7,14,FALSE),IF(F6=VLOOKUP(C6,'Valeurs Règlement Campagne'!$A$4:$AB$7,15,FALSE),VLOOKUP(C6,'Valeurs Règlement Campagne'!$A$4:$AB$7,15,FALSE),IF(F6=VLOOKUP(C6,'Valeurs Règlement Campagne'!$A$4:$AB$7,16,FALSE),VLOOKUP(C6,'Valeurs Règlement Campagne'!$A$4:$AB$7,16,FALSE),"")))="",1,IF(COUNTIFS($C$6:C6,C6,$E$6:E6,"Connues",$F$6:F6,IF(F6=VLOOKUP(C6,'Valeurs Règlement Campagne'!$A$4:$AB$7,14,FALSE),VLOOKUP(C6,'Valeurs Règlement Campagne'!$A$4:$AB$7,14,FALSE),IF(F6=VLOOKUP(C6,'Valeurs Règlement Campagne'!$A$4:$AB$7,15,FALSE),VLOOKUP(C6,'Valeurs Règlement Campagne'!$A$4:$AB$7,15,FALSE),IF(F6=VLOOKUP(C6,'Valeurs Règlement Campagne'!$A$4:$AB$7,16,FALSE),VLOOKUP(C6,'Valeurs Règlement Campagne'!$A$4:$AB$7,16,FALSE),""))))>(IF(VLOOKUP(C6,'Valeurs Règlement Campagne'!$A$4:$AB$7,14,FALSE)=IF(F6=VLOOKUP(C6,'Valeurs Règlement Campagne'!$A$4:$AB$7,14,FALSE),VLOOKUP(C6,'Valeurs Règlement Campagne'!$A$4:$AB$7,14,FALSE),IF(F6=VLOOKUP(C6,'Valeurs Règlement Campagne'!$A$4:$AB$7,15,FALSE),VLOOKUP(C6,'Valeurs Règlement Campagne'!$A$4:$AB$7,15,FALSE),IF(F6=VLOOKUP(C6,'Valeurs Règlement Campagne'!$A$4:$AB$7,16,FALSE),VLOOKUP(C6,'Valeurs Règlement Campagne'!$A$4:$AB$7,16,FALSE),""))),1,0)+IF(VLOOKUP(C6,'Valeurs Règlement Campagne'!$A$4:$AB$7,15,FALSE)=IF(F6=VLOOKUP(C6,'Valeurs Règlement Campagne'!$A$4:$AB$7,14,FALSE),VLOOKUP(C6,'Valeurs Règlement Campagne'!$A$4:$AB$7,14,FALSE),IF(F6=VLOOKUP(C6,'Valeurs Règlement Campagne'!$A$4:$AB$7,15,FALSE),VLOOKUP(C6,'Valeurs Règlement Campagne'!$A$4:$AB$7,15,FALSE),IF(F6=VLOOKUP(C6,'Valeurs Règlement Campagne'!$A$4:$AB$7,16,FALSE),VLOOKUP(C6,'Valeurs Règlement Campagne'!$A$4:$AB$7,16,FALSE),""))),1,0)+IF(VLOOKUP(C6,'Valeurs Règlement Campagne'!$A$4:$AB$7,16,FALSE)=IF(F6=VLOOKUP(C6,'Valeurs Règlement Campagne'!$A$4:$AB$7,14,FALSE),VLOOKUP(C6,'Valeurs Règlement Campagne'!$A$4:$AB$7,14,FALSE),IF(F6=VLOOKUP(C6,'Valeurs Règlement Campagne'!$A$4:$AB$7,15,FALSE),VLOOKUP(C6,'Valeurs Règlement Campagne'!$A$4:$AB$7,15,FALSE),IF(F6=VLOOKUP(C6,'Valeurs Règlement Campagne'!$A$4:$AB$7,16,FALSE),VLOOKUP(C6,'Valeurs Règlement Campagne'!$A$4:$AB$7,16,FALSE),""))),1,0)),1,0))),0))),0) -> 0 | AJ6: =IFERROR(IF(OR(C6="",C6=" ",NOT(ISNUMBER(G6))),0,IF(E6="Inconnues",IF(AND(G6>=N6,G6<=O6),0,1),IF(E6="Connues",IF('Valeurs Règlement Campagne'!$L$14="OUI",IF(IF(ABS(G6-VLOOKUP(C6,'Valeurs Règlement Campagne'!$A$4:$AB$7,17,FALSE))<=2,VLOOKUP(C6,'Valeurs Règlement Campagne'!$A$4:$AB$7,17,FALSE),IF(ABS(G6-VLOOKUP(C6,'Valeurs Règlement Campagne'!$A$4:$AB$7,18,FALSE))<=2,VLOOKUP(C6,'Valeurs Règlement Campagne'!$A$4:$AB$7,18,FALSE),IF(ABS(G6-VLOOKUP(C6,'Valeurs Règlement Campagne'!$A$4:$AB$7,19,FALSE))<=2,VLOOKUP(C6,'Valeurs Règlement Campagne'!$A$4:$AB$7,19,FALSE),"")))="",1,IF(COUNTIFS($C$6:C6,C6,$E$6:E6,"Connues",$G$6:G6,">="&(IF(ABS(G6-VLOOKUP(C6,'Valeurs Règlement Campagne'!$A$4:$AB$7,17,FALSE))<=2,VLOOKUP(C6,'Valeurs Règlement Campagne'!$A$4:$AB$7,17,FALSE),IF(ABS(G6-VLOOKUP(C6,'Valeurs Règlement Campagne'!$A$4:$AB$7,18,FALSE))<=2,VLOOKUP(C6,'Valeurs Règlement Campagne'!$A$4:$AB$7,18,FALSE),IF(ABS(G6-VLOOKUP(C6,'Valeurs Règlement Campagne'!$A$4:$AB$7,19,FALSE))<=2,VLOOKUP(C6,'Valeurs Règlement Campagne'!$A$4:$AB$7,19,FALSE),"")))-2),$G$6:G6,"<="&(IF(ABS(G6-VLOOKUP(C6,'Valeurs Règlement Campagne'!$A$4:$AB$7,17,FALSE))<=2,VLOOKUP(C6,'Valeurs Règlement Campagne'!$A$4:$AB$7,17,FALSE),IF(ABS(G6-VLOOKUP(C6,'Valeurs Règlement Campagne'!$A$4:$AB$7,18,FALSE))<=2,VLOOKUP(C6,'Valeurs Règlement Campagne'!$A$4:$AB$7,18,FALSE),IF(ABS(G6-VLOOKUP(C6,'Valeurs Règlement Campagne'!$A$4:$AB$7,19,FALSE))<=2,VLOOKUP(C6,'Valeurs Règlement Campagne'!$A$4:$AB$7,19,FALSE),"")))+2))>(IF(VLOOKUP(C6,'Valeurs Règlement Campagne'!$A$4:$AB$7,17,FALSE)=IF(ABS(G6-VLOOKUP(C6,'Valeurs Règlement Campagne'!$A$4:$AB$7,17,FALSE))<=2,VLOOKUP(C6,'Valeurs Règlement Campagne'!$A$4:$AB$7,17,FALSE),IF(ABS(G6-VLOOKUP(C6,'Valeurs Règlement Campagne'!$A$4:$AB$7,18,FALSE))<=2,VLOOKUP(C6,'Valeurs Règlement Campagne'!$A$4:$AB$7,18,FALSE),IF(ABS(G6-VLOOKUP(C6,'Valeurs Règlement Campagne'!$A$4:$AB$7,19,FALSE))<=2,VLOOKUP(C6,'Valeurs Règlement Campagne'!$A$4:$AB$7,19,FALSE),""))),1,0)+IF(VLOOKUP(C6,'Valeurs Règlement Campagne'!$A$4:$AB$7,18,FALSE)=IF(ABS(G6-VLOOKUP(C6,'Valeurs Règlement Campagne'!$A$4:$AB$7,17,FALSE))<=2,VLOOKUP(C6,'Valeurs Règlement Campagne'!$A$4:$AB$7,17,FALSE),IF(ABS(G6-VLOOKUP(C6,'Valeurs Règlement Campagne'!$A$4:$AB$7,18,FALSE))<=2,VLOOKUP(C6,'Valeurs Règlement Campagne'!$A$4:$AB$7,18,FALSE),IF(ABS(G6-VLOOKUP(C6,'Valeurs Règlement Campagne'!$A$4:$AB$7,19,FALSE))<=2,VLOOKUP(C6,'Valeurs Règlement Campagne'!$A$4:$AB$7,19,FALSE),""))),1,0)+IF(VLOOKUP(C6,'Valeurs Règlement Campagne'!$A$4:$AB$7,19,FALSE)=IF(ABS(G6-VLOOKUP(C6,'Valeurs Règlement Campagne'!$A$4:$AB$7,17,FALSE))<=2,VLOOKUP(C6,'Valeurs Règlement Campagne'!$A$4:$AB$7,17,FALSE),IF(ABS(G6-VLOOKUP(C6,'Valeurs Règlement Campagne'!$A$4:$AB$7,18,FALSE))<=2,VLOOKUP(C6,'Valeurs Règlement Campagne'!$A$4:$AB$7,18,FALSE),IF(ABS(G6-VLOOKUP(C6,'Valeurs Règlement Campagne'!$A$4:$AB$7,19,FALSE))<=2,VLOOKUP(C6,'Valeurs Règlement Campagne'!$A$4:$AB$7,19,FALSE),""))),1,0)),1,0)),IF(IF(G6=VLOOKUP(C6,'Valeurs Règlement Campagne'!$A$4:$AB$7,17,FALSE),VLOOKUP(C6,'Valeurs Règlement Campagne'!$A$4:$AB$7,17,FALSE),IF(G6=VLOOKUP(C6,'Valeurs Règlement Campagne'!$A$4:$AB$7,18,FALSE),VLOOKUP(C6,'Valeurs Règlement Campagne'!$A$4:$AB$7,18,FALSE),IF(G6=VLOOKUP(C6,'Valeurs Règlement Campagne'!$A$4:$AB$7,19,FALSE),VLOOKUP(C6,'Valeurs Règlement Campagne'!$A$4:$AB$7,19,FALSE),"")))="",1,IF(COUNTIFS($C$6:C6,C6,$E$6:E6,"Connues",$G$6:G6,IF(G6=VLOOKUP(C6,'Valeurs Règlement Campagne'!$A$4:$AB$7,17,FALSE),VLOOKUP(C6,'Valeurs Règlement Campagne'!$A$4:$AB$7,17,FALSE),IF(G6=VLOOKUP(C6,'Valeurs Règlement Campagne'!$A$4:$AB$7,18,FALSE),VLOOKUP(C6,'Valeurs Règlement Campagne'!$A$4:$AB$7,18,FALSE),IF(G6=VLOOKUP(C6,'Valeurs Règlement Campagne'!$A$4:$AB$7,19,FALSE),VLOOKUP(C6,'Valeurs Règlement Campagne'!$A$4:$AB$7,19,FALSE),""))))>(IF(VLOOKUP(C6,'Valeurs Règlement Campagne'!$A$4:$AB$7,17,FALSE)=IF(G6=VLOOKUP(C6,'Valeurs Règlement Campagne'!$A$4:$AB$7,17,FALSE),VLOOKUP(C6,'Valeurs Règlement Campagne'!$A$4:$AB$7,17,FALSE),IF(G6=VLOOKUP(C6,'Valeurs Règlement Campagne'!$A$4:$AB$7,18,FALSE),VLOOKUP(C6,'Valeurs Règlement Campagne'!$A$4:$AB$7,18,FALSE),IF(G6=VLOOKUP(C6,'Valeurs Règlement Campagne'!$A$4:$AB$7,19,FALSE),VLOOKUP(C6,'Valeurs Règlement Campagne'!$A$4:$AB$7,19,FALSE),""))),1,0)+IF(VLOOKUP(C6,'Valeurs Règlement Campagne'!$A$4:$AB$7,18,FALSE)=IF(G6=VLOOKUP(C6,'Valeurs Règlement Campagne'!$A$4:$AB$7,17,FALSE),VLOOKUP(C6,'Valeurs Règlement Campagne'!$A$4:$AB$7,17,FALSE),IF(G6=VLOOKUP(C6,'Valeurs Règlement Campagne'!$A$4:$AB$7,18,FALSE),VLOOKUP(C6,'Valeurs Règlement Campagne'!$A$4:$AB$7,18,FALSE),IF(G6=VLOOKUP(C6,'Valeurs Règlement Campagne'!$A$4:$AB$7,19,FALSE),VLOOKUP(C6,'Valeurs Règlement Campagne'!$A$4:$AB$7,19,FALSE),""))),1,0)+IF(VLOOKUP(C6,'Valeurs Règlement Campagne'!$A$4:$AB$7,19,FALSE)=IF(G6=VLOOKUP(C6,'Valeurs Règlement Campagne'!$A$4:$AB$7,17,FALSE),VLOOKUP(C6,'Valeurs Règlement Campagne'!$A$4:$AB$7,17,FALSE),IF(G6=VLOOKUP(C6,'Valeurs Règlement Campagne'!$A$4:$AB$7,18,FALSE),VLOOKUP(C6,'Valeurs Règlement Campagne'!$A$4:$AB$7,18,FALSE),IF(G6=VLOOKUP(C6,'Valeurs Règlement Campagne'!$A$4:$AB$7,19,FALSE),VLOOKUP(C6,'Valeurs Règlement Campagne'!$A$4:$AB$7,19,FALSE),""))),1,0)),1,0))),0))),0) -> 0 | AK6: =IFERROR(IF(OR(C6="",C6=" ",NOT(ISNUMBER(H6))),0,IF(E6="Inconnues",IF(AND(H6>=P6,H6<=Q6),0,1),IF(E6="Connues",IF('Valeurs Règlement Campagne'!$L$14="OUI",IF(IF(ABS(H6-VLOOKUP(C6,'Valeurs Règlement Campagne'!$A$4:$AB$7,20,FALSE))<=2,VLOOKUP(C6,'Valeurs Règlement Campagne'!$A$4:$AB$7,20,FALSE),IF(ABS(H6-VLOOKUP(C6,'Valeurs Règlement Campagne'!$A$4:$AB$7,21,FALSE))<=2,VLOOKUP(C6,'Valeurs Règlement Campagne'!$A$4:$AB$7,21,FALSE),IF(ABS(H6-VLOOKUP(C6,'Valeurs Règlement Campagne'!$A$4:$AB$7,22,FALSE))<=2,VLOOKUP(C6,'Valeurs Règlement Campagne'!$A$4:$AB$7,22,FALSE),"")))="",1,IF(COUNTIFS($C$6:C6,C6,$E$6:E6,"Connues",$H$6:H6,">="&(IF(ABS(H6-VLOOKUP(C6,'Valeurs Règlement Campagne'!$A$4:$AB$7,20,FALSE))<=2,VLOOKUP(C6,'Valeurs Règlement Campagne'!$A$4:$AB$7,20,FALSE),IF(ABS(H6-VLOOKUP(C6,'Valeurs Règlement Campagne'!$A$4:$AB$7,21,FALSE))<=2,VLOOKUP(C6,'Valeurs Règlement Campagne'!$A$4:$AB$7,21,FALSE),IF(ABS(H6-VLOOKUP(C6,'Valeurs Règlement Campagne'!$A$4:$AB$7,22,FALSE))<=2,VLOOKUP(C6,'Valeurs Règlement Campagne'!$A$4:$AB$7,22,FALSE),"")))-2),$H$6:H6,"<="&(IF(ABS(H6-VLOOKUP(C6,'Valeurs Règlement Campagne'!$A$4:$AB$7,20,FALSE))<=2,VLOOKUP(C6,'Valeurs Règlement Campagne'!$A$4:$AB$7,20,FALSE),IF(ABS(H6-VLOOKUP(C6,'Valeurs Règlement Campagne'!$A$4:$AB$7,21,FALSE))<=2,VLOOKUP(C6,'Valeurs Règlement Campagne'!$A$4:$AB$7,21,FALSE),IF(ABS(H6-VLOOKUP(C6,'Valeurs Règlement Campagne'!$A$4:$AB$7,22,FALSE))<=2,VLOOKUP(C6,'Valeurs Règlement Campagne'!$A$4:$AB$7,22,FALSE),"")))+2))>(IF(VLOOKUP(C6,'Valeurs Règlement Campagne'!$A$4:$AB$7,20,FALSE)=IF(ABS(H6-VLOOKUP(C6,'Valeurs Règlement Campagne'!$A$4:$AB$7,20,FALSE))<=2,VLOOKUP(C6,'Valeurs Règlement Campagne'!$A$4:$AB$7,20,FALSE),IF(ABS(H6-VLOOKUP(C6,'Valeurs Règlement Campagne'!$A$4:$AB$7,21,FALSE))<=2,VLOOKUP(C6,'Valeurs Règlement Campagne'!$A$4:$AB$7,21,FALSE),IF(ABS(H6-VLOOKUP(C6,'Valeurs Règlement Campagne'!$A$4:$AB$7,22,FALSE))<=2,VLOOKUP(C6,'Valeurs Règlement Campagne'!$A$4:$AB$7,22,FALSE),""))),1,0)+IF(VLOOKUP(C6,'Valeurs Règlement Campagne'!$A$4:$AB$7,21,FALSE)=IF(ABS(H6-VLOOKUP(C6,'Valeurs Règlement Campagne'!$A$4:$AB$7,20,FALSE))<=2,VLOOKUP(C6,'Valeurs Règlement Campagne'!$A$4:$AB$7,20,FALSE),IF(ABS(H6-VLOOKUP(C6,'Valeurs Règlement Campagne'!$A$4:$AB$7,21,FALSE))<=2,VLOOKUP(C6,'Valeurs Règlement Campagne'!$A$4:$AB$7,21,FALSE),IF(ABS(H6-VLOOKUP(C6,'Valeurs Règlement Campagne'!$A$4:$AB$7,22,FALSE))<=2,VLOOKUP(C6,'Valeurs Règlement Campagne'!$A$4:$AB$7,22,FALSE),""))),1,0)+IF(VLOOKUP(C6,'Valeurs Règlement Campagne'!$A$4:$AB$7,22,FALSE)=IF(ABS(H6-VLOOKUP(C6,'Valeurs Règlement Campagne'!$A$4:$AB$7,20,FALSE))<=2,VLOOKUP(C6,'Valeurs Règlement Campagne'!$A$4:$AB$7,20,FALSE),IF(ABS(H6-VLOOKUP(C6,'Valeurs Règlement Campagne'!$A$4:$AB$7,21,FALSE))<=2,VLOOKUP(C6,'Valeurs Règlement Campagne'!$A$4:$AB$7,21,FALSE),IF(ABS(H6-VLOOKUP(C6,'Valeurs Règlement Campagne'!$A$4:$AB$7,22,FALSE))<=2,VLOOKUP(C6,'Valeurs Règlement Campagne'!$A$4:$AB$7,22,FALSE),""))),1,0)),1,0)),IF(IF(H6=VLOOKUP(C6,'Valeurs Règlement Campagne'!$A$4:$AB$7,20,FALSE),VLOOKUP(C6,'Valeurs Règlement Campagne'!$A$4:$AB$7,20,FALSE),IF(H6=VLOOKUP(C6,'Valeurs Règlement Campagne'!$A$4:$AB$7,21,FALSE),VLOOKUP(C6,'Valeurs Règlement Campagne'!$A$4:$AB$7,21,FALSE),IF(H6=VLOOKUP(C6,'Valeurs Règlement Campagne'!$A$4:$AB$7,22,FALSE),VLOOKUP(C6,'Valeurs Règlement Campagne'!$A$4:$AB$7,22,FALSE),"")))="",1,IF(COUNTIFS($C$6:C6,C6,$E$6:E6,"Connues",$H$6:H6,IF(H6=VLOOKUP(C6,'Valeurs Règlement Campagne'!$A$4:$AB$7,20,FALSE),VLOOKUP(C6,'Valeurs Règlement Campagne'!$A$4:$AB$7,20,FALSE),IF(H6=VLOOKUP(C6,'Valeurs Règlement Campagne'!$A$4:$AB$7,21,FALSE),VLOOKUP(C6,'Valeurs Règlement Campagne'!$A$4:$AB$7,21,FALSE),IF(H6=VLOOKUP(C6,'Valeurs Règlement Campagne'!$A$4:$AB$7,22,FALSE),VLOOKUP(C6,'Valeurs Règlement Campagne'!$A$4:$AB$7,22,FALSE),""))))>(IF(VLOOKUP(C6,'Valeurs Règlement Campagne'!$A$4:$AB$7,20,FALSE)=IF(H6=VLOOKUP(C6,'Valeurs Règlement Campagne'!$A$4:$AB$7,20,FALSE),VLOOKUP(C6,'Valeurs Règlement Campagne'!$A$4:$AB$7,20,FALSE),IF(H6=VLOOKUP(C6,'Valeurs Règlement Campagne'!$A$4:$AB$7,21,FALSE),VLOOKUP(C6,'Valeurs Règlement Campagne'!$A$4:$AB$7,21,FALSE),IF(H6=VLOOKUP(C6,'Valeurs Règlement Campagne'!$A$4:$AB$7,22,FALSE),VLOOKUP(C6,'Valeurs Règlement Campagne'!$A$4:$AB$7,22,FALSE),""))),1,0)+IF(VLOOKUP(C6,'Valeurs Règlement Campagne'!$A$4:$AB$7,21,FALSE)=IF(H6=VLOOKUP(C6,'Valeurs Règlement Campagne'!$A$4:$AB$7,20,FALSE),VLOOKUP(C6,'Valeurs Règlement Campagne'!$A$4:$AB$7,20,FALSE),IF(H6=VLOOKUP(C6,'Valeurs Règlement Campagne'!$A$4:$AB$7,21,FALSE),VLOOKUP(C6,'Valeurs Règlement Campagne'!$A$4:$AB$7,21,FALSE),IF(H6=VLOOKUP(C6,'Valeurs Règlement Campagne'!$A$4:$AB$7,22,FALSE),VLOOKUP(C6,'Valeurs Règlement Campagne'!$A$4:$AB$7,22,FALSE),""))),1,0)+IF(VLOOKUP(C6,'Valeurs Règlement Campagne'!$A$4:$AB$7,22,FALSE)=IF(H6=VLOOKUP(C6,'Valeurs Règlement Campagne'!$A$4:$AB$7,20,FALSE),VLOOKUP(C6,'Valeurs Règlement Campagne'!$A$4:$AB$7,20,FALSE),IF(H6=VLOOKUP(C6,'Valeurs Règlement Campagne'!$A$4:$AB$7,21,FALSE),VLOOKUP(C6,'Valeurs Règlement Campagne'!$A$4:$AB$7,21,FALSE),IF(H6=VLOOKUP(C6,'Valeurs Règlement Campagne'!$A$4:$AB$7,22,FALSE),VLOOKUP(C6,'Valeurs Règlement Campagne'!$A$4:$AB$7,22,FALSE),""))),1,0)),1,0))),0))),0) -> 0 | AL6: =IFERROR(IF(OR(C6="",C6=" ",NOT(ISNUMBER(I6))),0,IF(E6="Inconnues",IF(AND(I6>=P6,I6<=R6),0,1),IF(E6="Connues",IF('Valeurs Règlement Campagne'!$L$14="OUI",IF(IF(ABS(I6-VLOOKUP(C6,'Valeurs Règlement Campagne'!$A$4:$AB$7,23,FALSE))<=2,VLOOKUP(C6,'Valeurs Règlement Campagne'!$A$4:$AB$7,23,FALSE),IF(ABS(I6-VLOOKUP(C6,'Valeurs Règlement Campagne'!$A$4:$AB$7,24,FALSE))<=2,VLOOKUP(C6,'Valeurs Règlement Campagne'!$A$4:$AB$7,24,FALSE),IF(ABS(I6-VLOOKUP(C6,'Valeurs Règlement Campagne'!$A$4:$AB$7,25,FALSE))<=2,VLOOKUP(C6,'Valeurs Règlement Campagne'!$A$4:$AB$7,25,FALSE),"")))="",1,IF(COUNTIFS($C$6:C6,C6,$E$6:E6,"Connues",$I$6:I6,">="&(IF(ABS(I6-VLOOKUP(C6,'Valeurs Règlement Campagne'!$A$4:$AB$7,23,FALSE))<=2,VLOOKUP(C6,'Valeurs Règlement Campagne'!$A$4:$AB$7,23,FALSE),IF(ABS(I6-VLOOKUP(C6,'Valeurs Règlement Campagne'!$A$4:$AB$7,24,FALSE))<=2,VLOOKUP(C6,'Valeurs Règlement Campagne'!$A$4:$AB$7,24,FALSE),IF(ABS(I6-VLOOKUP(C6,'Valeurs Règlement Campagne'!$A$4:$AB$7,25,FALSE))<=2,VLOOKUP(C6,'Valeurs Règlement Campagne'!$A$4:$AB$7,25,FALSE),"")))-2),$I$6:I6,"<="&(IF(ABS(I6-VLOOKUP(C6,'Valeurs Règlement Campagne'!$A$4:$AB$7,23,FALSE))<=2,VLOOKUP(C6,'Valeurs Règlement Campagne'!$A$4:$AB$7,23,FALSE),IF(ABS(I6-VLOOKUP(C6,'Valeurs Règlement Campagne'!$A$4:$AB$7,24,FALSE))<=2,VLOOKUP(C6,'Valeurs Règlement Campagne'!$A$4:$AB$7,24,FALSE),IF(ABS(I6-VLOOKUP(C6,'Valeurs Règlement Campagne'!$A$4:$AB$7,25,FALSE))<=2,VLOOKUP(C6,'Valeurs Règlement Campagne'!$A$4:$AB$7,25,FALSE),"")))+2))>(IF(VLOOKUP(C6,'Valeurs Règlement Campagne'!$A$4:$AB$7,23,FALSE)=IF(ABS(I6-VLOOKUP(C6,'Valeurs Règlement Campagne'!$A$4:$AB$7,23,FALSE))<=2,VLOOKUP(C6,'Valeurs Règlement Campagne'!$A$4:$AB$7,23,FALSE),IF(ABS(I6-VLOOKUP(C6,'Valeurs Règlement Campagne'!$A$4:$AB$7,24,FALSE))<=2,VLOOKUP(C6,'Valeurs Règlement Campagne'!$A$4:$AB$7,24,FALSE),IF(ABS(I6-VLOOKUP(C6,'Valeurs Règlement Campagne'!$A$4:$AB$7,25,FALSE))<=2,VLOOKUP(C6,'Valeurs Règlement Campagne'!$A$4:$AB$7,25,FALSE),""))),1,0)+IF(VLOOKUP(C6,'Valeurs Règlement Campagne'!$A$4:$AB$7,24,FALSE)=IF(ABS(I6-VLOOKUP(C6,'Valeurs Règlement Campagne'!$A$4:$AB$7,23,FALSE))<=2,VLOOKUP(C6,'Valeurs Règlement Campagne'!$A$4:$AB$7,23,FALSE),IF(ABS(I6-VLOOKUP(C6,'Valeurs Règlement Campagne'!$A$4:$AB$7,24,FALSE))<=2,VLOOKUP(C6,'Valeurs Règlement Campagne'!$A$4:$AB$7,24,FALSE),IF(ABS(I6-VLOOKUP(C6,'Valeurs Règlement Campagne'!$A$4:$AB$7,25,FALSE))<=2,VLOOKUP(C6,'Valeurs Règlement Campagne'!$A$4:$AB$7,25,FALSE),""))),1,0)+IF(VLOOKUP(C6,'Valeurs Règlement Campagne'!$A$4:$AB$7,25,FALSE)=IF(ABS(I6-VLOOKUP(C6,'Valeurs Règlement Campagne'!$A$4:$AB$7,23,FALSE))<=2,VLOOKUP(C6,'Valeurs Règlement Campagne'!$A$4:$AB$7,23,FALSE),IF(ABS(I6-VLOOKUP(C6,'Valeurs Règlement Campagne'!$A$4:$AB$7,24,FALSE))<=2,VLOOKUP(C6,'Valeurs Règlement Campagne'!$A$4:$AB$7,24,FALSE),IF(ABS(I6-VLOOKUP(C6,'Valeurs Règlement Campagne'!$A$4:$AB$7,25,FALSE))<=2,VLOOKUP(C6,'Valeurs Règlement Campagne'!$A$4:$AB$7,25,FALSE),""))),1,0)),1,0)),IF(IF(I6=VLOOKUP(C6,'Valeurs Règlement Campagne'!$A$4:$AB$7,23,FALSE),VLOOKUP(C6,'Valeurs Règlement Campagne'!$A$4:$AB$7,23,FALSE),IF(I6=VLOOKUP(C6,'Valeurs Règlement Campagne'!$A$4:$AB$7,24,FALSE),VLOOKUP(C6,'Valeurs Règlement Campagne'!$A$4:$AB$7,24,FALSE),IF(I6=VLOOKUP(C6,'Valeurs Règlement Campagne'!$A$4:$AB$7,25,FALSE),VLOOKUP(C6,'Valeurs Règlement Campagne'!$A$4:$AB$7,25,FALSE),"")))="",1,IF(COUNTIFS($C$6:C6,C6,$E$6:E6,"Connues",$I$6:I6,IF(I6=VLOOKUP(C6,'Valeurs Règlement Campagne'!$A$4:$AB$7,23,FALSE),VLOOKUP(C6,'Valeurs Règlement Campagne'!$A$4:$AB$7,23,FALSE),IF(I6=VLOOKUP(C6,'Valeurs Règlement Campagne'!$A$4:$AB$7,24,FALSE),VLOOKUP(C6,'Valeurs Règlement Campagne'!$A$4:$AB$7,24,FALSE),IF(I6=VLOOKUP(C6,'Valeurs Règlement Campagne'!$A$4:$AB$7,25,FALSE),VLOOKUP(C6,'Valeurs Règlement Campagne'!$A$4:$AB$7,25,FALSE),""))))>(IF(VLOOKUP(C6,'Valeurs Règlement Campagne'!$A$4:$AB$7,23,FALSE)=IF(I6=VLOOKUP(C6,'Valeurs Règlement Campagne'!$A$4:$AB$7,23,FALSE),VLOOKUP(C6,'Valeurs Règlement Campagne'!$A$4:$AB$7,23,FALSE),IF(I6=VLOOKUP(C6,'Valeurs Règlement Campagne'!$A$4:$AB$7,24,FALSE),VLOOKUP(C6,'Valeurs Règlement Campagne'!$A$4:$AB$7,24,FALSE),IF(I6=VLOOKUP(C6,'Valeurs Règlement Campagne'!$A$4:$AB$7,25,FALSE),VLOOKUP(C6,'Valeurs Règlement Campagne'!$A$4:$AB$7,25,FALSE),""))),1,0)+IF(VLOOKUP(C6,'Valeurs Règlement Campagne'!$A$4:$AB$7,24,FALSE)=IF(I6=VLOOKUP(C6,'Valeurs Règlement Campagne'!$A$4:$AB$7,23,FALSE),VLOOKUP(C6,'Valeurs Règlement Campagne'!$A$4:$AB$7,23,FALSE),IF(I6=VLOOKUP(C6,'Valeurs Règlement Campagne'!$A$4:$AB$7,24,FALSE),VLOOKUP(C6,'Valeurs Règlement Campagne'!$A$4:$AB$7,24,FALSE),IF(I6=VLOOKUP(C6,'Valeurs Règlement Campagne'!$A$4:$AB$7,25,FALSE),VLOOKUP(C6,'Valeurs Règlement Campagne'!$A$4:$AB$7,25,FALSE),""))),1,0)+IF(VLOOKUP(C6,'Valeurs Règlement Campagne'!$A$4:$AB$7,25,FALSE)=IF(I6=VLOOKUP(C6,'Valeurs Règlement Campagne'!$A$4:$AB$7,23,FALSE),VLOOKUP(C6,'Valeurs Règlement Campagne'!$A$4:$AB$7,23,FALSE),IF(I6=VLOOKUP(C6,'Valeurs Règlement Campagne'!$A$4:$AB$7,24,FALSE),VLOOKUP(C6,'Valeurs Règlement Campagne'!$A$4:$AB$7,24,FALSE),IF(I6=VLOOKUP(C6,'Valeurs Règlement Campagne'!$A$4:$AB$7,25,FALSE),VLOOKUP(C6,'Valeurs Règlement Campagne'!$A$4:$AB$7,25,FALSE),""))),1,0)),1,0))),0))),0) -> 0 | AM6: =IFERROR(IF(OR(C6="",C6=" ",NOT(ISNUMBER(J6))),0,IF(E6="Inconnues",IF(AND(J6>=S6,J6<=T6),0,1),IF(E6="Connues",IF('Valeurs Règlement Campagne'!$L$14="OUI",IF(IF(ABS(J6-VLOOKUP(C6,'Valeurs Règlement Campagne'!$A$4:$AB$7,26,FALSE))<=2,VLOOKUP(C6,'Valeurs Règlement Campagne'!$A$4:$AB$7,26,FALSE),IF(ABS(J6-VLOOKUP(C6,'Valeurs Règlement Campagne'!$A$4:$AB$7,27,FALSE))<=2,VLOOKUP(C6,'Valeurs Règlement Campagne'!$A$4:$AB$7,27,FALSE),IF(ABS(J6-VLOOKUP(C6,'Valeurs Règlement Campagne'!$A$4:$AB$7,28,FALSE))<=2,VLOOKUP(C6,'Valeurs Règlement Campagne'!$A$4:$AB$7,28,FALSE),"")))="",1,IF(COUNTIFS($C$6:C6,C6,$E$6:E6,"Connues",$J$6:J6,">="&(IF(ABS(J6-VLOOKUP(C6,'Valeurs Règlement Campagne'!$A$4:$AB$7,26,FALSE))<=2,VLOOKUP(C6,'Valeurs Règlement Campagne'!$A$4:$AB$7,26,FALSE),IF(ABS(J6-VLOOKUP(C6,'Valeurs Règlement Campagne'!$A$4:$AB$7,27,FALSE))<=2,VLOOKUP(C6,'Valeurs Règlement Campagne'!$A$4:$AB$7,27,FALSE),IF(ABS(J6-VLOOKUP(C6,'Valeurs Règlement Campagne'!$A$4:$AB$7,28,FALSE))<=2,VLOOKUP(C6,'Valeurs Règlement Campagne'!$A$4:$AB$7,28,FALSE),"")))-2),$J$6:J6,"<="&(IF(ABS(J6-VLOOKUP(C6,'Valeurs Règlement Campagne'!$A$4:$AB$7,26,FALSE))<=2,VLOOKUP(C6,'Valeurs Règlement Campagne'!$A$4:$AB$7,26,FALSE),IF(ABS(J6-VLOOKUP(C6,'Valeurs Règlement Campagne'!$A$4:$AB$7,27,FALSE))<=2,VLOOKUP(C6,'Valeurs Règlement Campagne'!$A$4:$AB$7,27,FALSE),IF(ABS(J6-VLOOKUP(C6,'Valeurs Règlement Campagne'!$A$4:$AB$7,28,FALSE))<=2,VLOOKUP(C6,'Valeurs Règlement Campagne'!$A$4:$AB$7,28,FALSE),"")))+2))>(IF(VLOOKUP(C6,'Valeurs Règlement Campagne'!$A$4:$AB$7,26,FALSE)=IF(ABS(J6-VLOOKUP(C6,'Valeurs Règlement Campagne'!$A$4:$AB$7,26,FALSE))<=2,VLOOKUP(C6,'Valeurs Règlement Campagne'!$A$4:$AB$7,26,FALSE),IF(ABS(J6-VLOOKUP(C6,'Valeurs Règlement Campagne'!$A$4:$AB$7,27,FALSE))<=2,VLOOKUP(C6,'Valeurs Règlement Campagne'!$A$4:$AB$7,27,FALSE),IF(ABS(J6-VLOOKUP(C6,'Valeurs Règlement Campagne'!$A$4:$AB$7,28,FALSE))<=2,VLOOKUP(C6,'Valeurs Règlement Campagne'!$A$4:$AB$7,28,FALSE),""))),1,0)+IF(VLOOKUP(C6,'Valeurs Règlement Campagne'!$A$4:$AB$7,27,FALSE)=IF(ABS(J6-VLOOKUP(C6,'Valeurs Règlement Campagne'!$A$4:$AB$7,26,FALSE))<=2,VLOOKUP(C6,'Valeurs Règlement Campagne'!$A$4:$AB$7,26,FALSE),IF(ABS(J6-VLOOKUP(C6,'Valeurs Règlement Campagne'!$A$4:$AB$7,27,FALSE))<=2,VLOOKUP(C6,'Valeurs Règlement Campagne'!$A$4:$AB$7,27,FALSE),IF(ABS(J6-VLOOKUP(C6,'Valeurs Règlement Campagne'!$A$4:$AB$7,28,FALSE))<=2,VLOOKUP(C6,'Valeurs Règlement Campagne'!$A$4:$AB$7,28,FALSE),""))),1,0)+IF(VLOOKUP(C6,'Valeurs Règlement Campagne'!$A$4:$AB$7,28,FALSE)=IF(ABS(J6-VLOOKUP(C6,'Valeurs Règlement Campagne'!$A$4:$AB$7,26,FALSE))<=2,VLOOKUP(C6,'Valeurs Règlement Campagne'!$A$4:$AB$7,26,FALSE),IF(ABS(J6-VLOOKUP(C6,'Valeurs Règlement Campagne'!$A$4:$AB$7,27,FALSE))<=2,VLOOKUP(C6,'Valeurs Règlement Campagne'!$A$4:$AB$7,27,FALSE),IF(ABS(J6-VLOOKUP(C6,'Valeurs Règlement Campagne'!$A$4:$AB$7,28,FALSE))<=2,VLOOKUP(C6,'Valeurs Règlement Campagne'!$A$4:$AB$7,28,FALSE),""))),1,0)),1,0)),IF(IF(J6=VLOOKUP(C6,'Valeurs Règlement Campagne'!$A$4:$AB$7,26,FALSE),VLOOKUP(C6,'Valeurs Règlement Campagne'!$A$4:$AB$7,26,FALSE),IF(J6=VLOOKUP(C6,'Valeurs Règlement Campagne'!$A$4:$AB$7,27,FALSE),VLOOKUP(C6,'Valeurs Règlement Campagne'!$A$4:$AB$7,27,FALSE),IF(J6=VLOOKUP(C6,'Valeurs Règlement Campagne'!$A$4:$AB$7,28,FALSE),VLOOKUP(C6,'Valeurs Règlement Campagne'!$A$4:$AB$7,28,FALSE),"")))="",1,IF(COUNTIFS($C$6:C6,C6,$E$6:E6,"Connues",$J$6:J6,IF(J6=VLOOKUP(C6,'Valeurs Règlement Campagne'!$A$4:$AB$7,26,FALSE),VLOOKUP(C6,'Valeurs Règlement Campagne'!$A$4:$AB$7,26,FALSE),IF(J6=VLOOKUP(C6,'Valeurs Règlement Campagne'!$A$4:$AB$7,27,FALSE),VLOOKUP(C6,'Valeurs Règlement Campagne'!$A$4:$AB$7,27,FALSE),IF(J6=VLOOKUP(C6,'Valeurs Règlement Campagne'!$A$4:$AB$7,28,FALSE),VLOOKUP(C6,'Valeurs Règlement Campagne'!$A$4:$AB$7,28,FALSE),""))))>(IF(VLOOKUP(C6,'Valeurs Règlement Campagne'!$A$4:$AB$7,26,FALSE)=IF(J6=VLOOKUP(C6,'Valeurs Règlement Campagne'!$A$4:$AB$7,26,FALSE),VLOOKUP(C6,'Valeurs Règlement Campagne'!$A$4:$AB$7,26,FALSE),IF(J6=VLOOKUP(C6,'Valeurs Règlement Campagne'!$A$4:$AB$7,27,FALSE),VLOOKUP(C6,'Valeurs Règlement Campagne'!$A$4:$AB$7,27,FALSE),IF(J6=VLOOKUP(C6,'Valeurs Règlement Campagne'!$A$4:$AB$7,28,FALSE),VLOOKUP(C6,'Valeurs Règlement Campagne'!$A$4:$AB$7,28,FALSE),""))),1,0)+IF(VLOOKUP(C6,'Valeurs Règlement Campagne'!$A$4:$AB$7,27,FALSE)=IF(J6=VLOOKUP(C6,'Valeurs Règlement Campagne'!$A$4:$AB$7,26,FALSE),VLOOKUP(C6,'Valeurs Règlement Campagne'!$A$4:$AB$7,26,FALSE),IF(J6=VLOOKUP(C6,'Valeurs Règlement Campagne'!$A$4:$AB$7,27,FALSE),VLOOKUP(C6,'Valeurs Règlement Campagne'!$A$4:$AB$7,27,FALSE),IF(J6=VLOOKUP(C6,'Valeurs Règlement Campagne'!$A$4:$AB$7,28,FALSE),VLOOKUP(C6,'Valeurs Règlement Campagne'!$A$4:$AB$7,28,FALSE),""))),1,0)+IF(VLOOKUP(C6,'Valeurs Règlement Campagne'!$A$4:$AB$7,28,FALSE)=IF(J6=VLOOKUP(C6,'Valeurs Règlement Campagne'!$A$4:$AB$7,26,FALSE),VLOOKUP(C6,'Valeurs Règlement Campagne'!$A$4:$AB$7,26,FALSE),IF(J6=VLOOKUP(C6,'Valeurs Règlement Campagne'!$A$4:$AB$7,27,FALSE),VLOOKUP(C6,'Valeurs Règlement Campagne'!$A$4:$AB$7,27,FALSE),IF(J6=VLOOKUP(C6,'Valeurs Règlement Campagne'!$A$4:$AB$7,28,FALSE),VLOOKUP(C6,'Valeurs Règlement Campagne'!$A$4:$AB$7,28,FALSE),""))),1,0)),1,0))),0))),0) -> 0
A7: 2 | L7: =IF($E7=0," ",IF($E7=$D$31,VLOOKUP($C7,'Valeurs Règlement Campagne'!$A$4:$AB$7,14,FALSE),VLOOKUP($C7,'Valeurs Règlement Campagne'!$A$4:$M$7,4,FALSE))) | M7: =IF($E7=0," ",IF($E7=$D$31,VLOOKUP($C7,'Valeurs Règlement Campagne'!$A$4:$AB$7,16,FALSE),VLOOKUP($C7,'Valeurs Règlement Campagne'!$A$4:$AB$7,5,FALSE))) | N7: =IF($E7=0," ",IF($E7=$D$31,VLOOKUP($C7,'Valeurs Règlement Campagne'!$A$4:$AB$7,17,FALSE),VLOOKUP($C7,'Valeurs Règlement Campagne'!$A$4:$AB$7,6,FALSE))) | O7: =IF($E7=0," ",IF($E7=$D$31,VLOOKUP($C7,'Valeurs Règlement Campagne'!$A$4:$AB$7,19,FALSE),VLOOKUP($C7,'Valeurs Règlement Campagne'!$A$4:$AB$7,7,FALSE))) | P7: =IF($E7=0," ",IF($E7=$D$31,VLOOKUP($C7,'Valeurs Règlement Campagne'!$A$4:$AB$7,20,FALSE),VLOOKUP($C7,'Valeurs Règlement Campagne'!$A$4:$AB$7,8,FALSE))) | Q7: =IF($E7=0," ",IF($E7=$D$31,VLOOKUP($C7,'Valeurs Règlement Campagne'!$A$4:$AB$7,22,FALSE),VLOOKUP($C7,'Valeurs Règlement Campagne'!$A$4:$AB$7,9,FALSE))) | R7: =IF($E7=0," ",IF($E7=$D$31,VLOOKUP($C7,'Valeurs Règlement Campagne'!$A$4:$AB$7,25,FALSE),VLOOKUP($C7,'Valeurs Règlement Campagne'!$A$4:$AB$7,11,FALSE))) | S7: =IF($E7=0," ",IF($E7=$D$31,VLOOKUP($C7,'Valeurs Règlement Campagne'!$A$4:$AB$7,26,FALSE),VLOOKUP($C7,'Valeurs Règlement Campagne'!$A$4:$AB$7,12,FALSE))) | T7: =IF($E7=0," ",IF($E7=$D$31,VLOOKUP($C7,'Valeurs Règlement Campagne'!$A$4:$AB$7,28,FALSE),VLOOKUP($C7,'Valeurs Règlement Campagne'!$A$4:$AB$7,13,FALSE))) | U7: {=IFERROR(IF(OR(C7="",C7=" ")," ",IF(NOT(ISNUMBER(F7))," ",IF(E7="Inconnues",AND(F7>=L7,F7<=M7),IF(E7="Connues",IF('Valeurs Règlement Campagne'!$L$14="OUI",IF(IF(ABS(F7-VLOOKUP(C7,'Valeurs Règlement Campagne'!$A$4:$AB$7,14,FALSE))<=2,VLOOKUP(C7,'Valeurs Règlement Campagne'!$A$4:$AB$7,14,FALSE),IF(ABS(F7-VLOOKUP(C7,'Valeurs Règlement Campagne'!$A$4:$AB$7,15,FALSE))<=2,VLOOKUP(C7,'Valeurs Règlement Campagne'!$A$4:$AB$7,15,FALSE),IF(ABS(F7-VLOOKUP(C7,'Valeurs Règlement Campagne'!$A$4:$AB$7,16,FALSE))<=2,VLOOKUP(C7,'Valeurs Règlement Campagne'!$A$4:$AB$7,16,FALSE),"")))="",FALSE,IF(COUNTIFS($C$6:C7,C7,$E$6:E7,"Connues",$F$6:F7,">="&(IF(ABS(F7-VLOOKUP(C7,'Valeurs Règlement Campagne'!$A$4:$AB$7,14,FALSE))<=2,VLOOKUP(C7,'Valeurs Règlement Campagne'!$A$4:$AB$7,14,FALSE),IF(ABS(F7-VLOOKUP(C7,'Valeurs Règlement Campagne'!$A$4:$AB$7,15,FALSE))<=2,VLOOKUP(C7,'Valeurs Règlement Campagne'!$A$4:$AB$7,15,FALSE),IF(ABS(F7-VLOOKUP(C7,'Valeurs Règlement Campagne'!$A$4:$AB$7,16,FALSE))<=2,VLOOKUP(C7,'Valeurs Règlement Campagne'!$A$4:$AB$7,16,FALSE),"")))-2),$F$6:F7,"<="&(IF(ABS(F7-VLOOKUP(C7,'Valeurs Règlement Campagne'!$A$4:$AB$7,14,FALSE))<=2,VLOOKUP(C7,'Valeurs Règlement Campagne'!$A$4:$AB$7,14,FALSE),IF(ABS(F7-VLOOKUP(C7,'Valeurs Règlement Campagne'!$A$4:$AB$7,15,FALSE))<=2,VLOOKUP(C7,'Valeurs Règlement Campagne'!$A$4:$AB$7,15,FALSE),IF(ABS(F7-VLOOKUP(C7,'Valeurs Règlement Campagne'!$A$4:$AB$7,16,FALSE))<=2,VLOOKUP(C7,'Valeurs Règlement Campagne'!$A$4:$AB$7,16,FALSE),"")))+2))>(IF(VLOOKUP(C7,'Valeurs Règlement Campagne'!$A$4:$AB$7,14,FALSE)=IF(ABS(F7-VLOOKUP(C7,'Valeurs Règlement Campagne'!$A$4:$AB$7,14,FALSE))<=2,VLOOKUP(C7,'Valeurs Règlement Campagne'!$A$4:$AB$7,14,FALSE),IF(ABS(F7-VLOOKUP(C7,'Valeurs Règlement Campagne'!$A$4:$AB$7,15,FALSE))<=2,VLOOKUP(C7,'Valeurs Règlement Campagne'!$A$4:$AB$7,15,FALSE),IF(ABS(F7-VLOOKUP(C7,'Valeurs Règlement Campagne'!$A$4:$AB$7,16,FALSE))<=2,VLOOKUP(C7,'Valeurs Règlement Campagne'!$A$4:$AB$7,16,FALSE),""))),1,0)+IF(VLOOKUP(C7,'Valeurs Règlement Campagne'!$A$4:$AB$7,15,FALSE)=IF(ABS(F7-VLOOKUP(C7,'Valeurs Règlement Campagne'!$A$4:$AB$7,14,FALSE))<=2,VLOOKUP(C7,'Valeurs Règlement Campagne'!$A$4:$AB$7,14,FALSE),IF(ABS(F7-VLOOKUP(C7,'Valeurs Règlement Campagne'!$A$4:$AB$7,15,FALSE))<=2,VLOOKUP(C7,'Valeurs Règlement Campagne'!$A$4:$AB$7,15,FALSE),IF(ABS(F7-VLOOKUP(C7,'Valeurs Règlement Campagne'!$A$4:$AB$7,16,FALSE))<=2,VLOOKUP(C7,'Valeurs Règlement Campagne'!$A$4:$AB$7,16,FALSE),""))),1,0)+IF(VLOOKUP(C7,'Valeurs Règlement Campagne'!$A$4:$AB$7,16,FALSE)=IF(ABS(F7-VLOOKUP(C7,'Valeurs Règlement Campagne'!$A$4:$AB$7,14,FALSE))<=2,VLOOKUP(C7,'Valeurs Règlement Campagne'!$A$4:$AB$7,14,FALSE),IF(ABS(F7-VLOOKUP(C7,'Valeurs Règlement Campagne'!$A$4:$AB$7,15,FALSE))<=2,VLOOKUP(C7,'Valeurs Règlement Campagne'!$A$4:$AB$7,15,FALSE),IF(ABS(F7-VLOOKUP(C7,'Valeurs Règlement Campagne'!$A$4:$AB$7,16,FALSE))<=2,VLOOKUP(C7,'Valeurs Règlement Campagne'!$A$4:$AB$7,16,FALSE),""))),1,0)),"Doublon",TRUE)),IF(IF(F7=VLOOKUP(C7,'Valeurs Règlement Campagne'!$A$4:$AB$7,14,FALSE),VLOOKUP(C7,'Valeurs Règlement Campagne'!$A$4:$AB$7,14,FALSE),IF(F7=VLOOKUP(C7,'Valeurs Règlement Campagne'!$A$4:$AB$7,15,FALSE),VLOOKUP(C7,'Valeurs Règlement Campagne'!$A$4:$AB$7,15,FALSE),IF(F7=VLOOKUP(C7,'Valeurs Règlement Campagne'!$A$4:$AB$7,16,FALSE),VLOOKUP(C7,'Valeurs Règlement Campagne'!$A$4:$AB$7,16,FALSE),"")))="",FALSE,IF(COUNTIFS($C$6:C7,C7,$E$6:E7,"Connues",$F$6:F7,IF(F7=VLOOKUP(C7,'Valeurs Règlement Campagne'!$A$4:$AB$7,14,FALSE),VLOOKUP(C7,'Valeurs Règlement Campagne'!$A$4:$AB$7,14,FALSE),IF(F7=VLOOKUP(C7,'Valeurs Règlement Campagne'!$A$4:$AB$7,15,FALSE),VLOOKUP(C7,'Valeurs Règlement Campagne'!$A$4:$AB$7,15,FALSE),IF(F7=VLOOKUP(C7,'Valeurs Règlement Campagne'!$A$4:$AB$7,16,FALSE),VLOOKUP(C7,'Valeurs Règlement Campagne'!$A$4:$AB$7,16,FALSE),""))))>(IF(VLOOKUP(C7,'Valeurs Règlement Campagne'!$A$4:$AB$7,14,FALSE)=IF(F7=VLOOKUP(C7,'Valeurs Règlement Campagne'!$A$4:$AB$7,14,FALSE),VLOOKUP(C7,'Valeurs Règlement Campagne'!$A$4:$AB$7,14,FALSE),IF(F7=VLOOKUP(C7,'Valeurs Règlement Campagne'!$A$4:$AB$7,15,FALSE),VLOOKUP(C7,'Valeurs Règlement Campagne'!$A$4:$AB$7,15,FALSE),IF(F7=VLOOKUP(C7,'Valeurs Règlement Campagne'!$A$4:$AB$7,16,FALSE),VLOOKUP(C7,'Valeurs Règlement Campagne'!$A$4:$AB$7,16,FALSE),""))),1,0)+IF(VLOOKUP(C7,'Valeurs Règlement Campagne'!$A$4:$AB$7,15,FALSE)=IF(F7=VLOOKUP(C7,'Valeurs Règlement Campagne'!$A$4:$AB$7,14,FALSE),VLOOKUP(C7,'Valeurs Règlement Campagne'!$A$4:$AB$7,14,FALSE),IF(F7=VLOOKUP(C7,'Valeurs Règlement Campagne'!$A$4:$AB$7,15,FALSE),VLOOKUP(C7,'Valeurs Règlement Campagne'!$A$4:$AB$7,15,FALSE),IF(F7=VLOOKUP(C7,'Valeurs Règlement Campagne'!$A$4:$AB$7,16,FALSE),VLOOKUP(C7,'Valeurs Règlement Campagne'!$A$4:$AB$7,16,FALSE),""))),1,0)+IF(VLOOKUP(C7,'Valeurs Règlement Campagne'!$A$4:$AB$7,16,FALSE)=IF(F7=VLOOKUP(C7,'Valeurs Règlement Campagne'!$A$4:$AB$7,14,FALSE),VLOOKUP(C7,'Valeurs Règlement Campagne'!$A$4:$AB$7,14,FALSE),IF(F7=VLOOKUP(C7,'Valeurs Règlement Campagne'!$A$4:$AB$7,15,FALSE),VLOOKUP(C7,'Valeurs Règlement Campagne'!$A$4:$AB$7,15,FALSE),IF(F7=VLOOKUP(C7,'Valeurs Règlement Campagne'!$A$4:$AB$7,16,FALSE),VLOOKUP(C7,'Valeurs Règlement Campagne'!$A$4:$AB$7,16,FALSE),""))),1,0)),"Doublon",TRUE)))," "))))," ")} | V7: {=IFERROR(IF(OR(C7="",C7=" ")," ",IF(NOT(ISNUMBER(G7))," ",IF(E7="Inconnues",AND(G7>=N7,G7<=O7),IF(E7="Connues",IF('Valeurs Règlement Campagne'!$L$14="OUI",IF(IF(ABS(G7-VLOOKUP(C7,'Valeurs Règlement Campagne'!$A$4:$AB$7,17,FALSE))<=2,VLOOKUP(C7,'Valeurs Règlement Campagne'!$A$4:$AB$7,17,FALSE),IF(ABS(G7-VLOOKUP(C7,'Valeurs Règlement Campagne'!$A$4:$AB$7,18,FALSE))<=2,VLOOKUP(C7,'Valeurs Règlement Campagne'!$A$4:$AB$7,18,FALSE),IF(ABS(G7-VLOOKUP(C7,'Valeurs Règlement Campagne'!$A$4:$AB$7,19,FALSE))<=2,VLOOKUP(C7,'Valeurs Règlement Campagne'!$A$4:$AB$7,19,FALSE),"")))="",FALSE,IF(COUNTIFS($C$6:C7,C7,$E$6:E7,"Connues",$G$6:G7,">="&(IF(ABS(G7-VLOOKUP(C7,'Valeurs Règlement Campagne'!$A$4:$AB$7,17,FALSE))<=2,VLOOKUP(C7,'Valeurs Règlement Campagne'!$A$4:$AB$7,17,FALSE),IF(ABS(G7-VLOOKUP(C7,'Valeurs Règlement Campagne'!$A$4:$AB$7,18,FALSE))<=2,VLOOKUP(C7,'Valeurs Règlement Campagne'!$A$4:$AB$7,18,FALSE),IF(ABS(G7-VLOOKUP(C7,'Valeurs Règlement Campagne'!$A$4:$AB$7,19,FALSE))<=2,VLOOKUP(C7,'Valeurs Règlement Campagne'!$A$4:$AB$7,19,FALSE),"")))-2),$G$6:G7,"<="&(IF(ABS(G7-VLOOKUP(C7,'Valeurs Règlement Campagne'!$A$4:$AB$7,17,FALSE))<=2,VLOOKUP(C7,'Valeurs Règlement Campagne'!$A$4:$AB$7,17,FALSE),IF(ABS(G7-VLOOKUP(C7,'Valeurs Règlement Campagne'!$A$4:$AB$7,18,FALSE))<=2,VLOOKUP(C7,'Valeurs Règlement Campagne'!$A$4:$AB$7,18,FALSE),IF(ABS(G7-VLOOKUP(C7,'Valeurs Règlement Campagne'!$A$4:$AB$7,19,FALSE))<=2,VLOOKUP(C7,'Valeurs Règlement Campagne'!$A$4:$AB$7,19,FALSE),"")))+2))>(IF(VLOOKUP(C7,'Valeurs Règlement Campagne'!$A$4:$AB$7,17,FALSE)=IF(ABS(G7-VLOOKUP(C7,'Valeurs Règlement Campagne'!$A$4:$AB$7,17,FALSE))<=2,VLOOKUP(C7,'Valeurs Règlement Campagne'!$A$4:$AB$7,17,FALSE),IF(ABS(G7-VLOOKUP(C7,'Valeurs Règlement Campagne'!$A$4:$AB$7,18,FALSE))<=2,VLOOKUP(C7,'Valeurs Règlement Campagne'!$A$4:$AB$7,18,FALSE),IF(ABS(G7-VLOOKUP(C7,'Valeurs Règlement Campagne'!$A$4:$AB$7,19,FALSE))<=2,VLOOKUP(C7,'Valeurs Règlement Campagne'!$A$4:$AB$7,19,FALSE),""))),1,0)+IF(VLOOKUP(C7,'Valeurs Règlement Campagne'!$A$4:$AB$7,18,FALSE)=IF(ABS(G7-VLOOKUP(C7,'Valeurs Règlement Campagne'!$A$4:$AB$7,17,FALSE))<=2,VLOOKUP(C7,'Valeurs Règlement Campagne'!$A$4:$AB$7,17,FALSE),IF(ABS(G7-VLOOKUP(C7,'Valeurs Règlement Campagne'!$A$4:$AB$7,18,FALSE))<=2,VLOOKUP(C7,'Valeurs Règlement Campagne'!$A$4:$AB$7,18,FALSE),IF(ABS(G7-VLOOKUP(C7,'Valeurs Règlement Campagne'!$A$4:$AB$7,19,FALSE))<=2,VLOOKUP(C7,'Valeurs Règlement Campagne'!$A$4:$AB$7,19,FALSE),""))),1,0)+IF(VLOOKUP(C7,'Valeurs Règlement Campagne'!$A$4:$AB$7,19,FALSE)=IF(ABS(G7-VLOOKUP(C7,'Valeurs Règlement Campagne'!$A$4:$AB$7,17,FALSE))<=2,VLOOKUP(C7,'Valeurs Règlement Campagne'!$A$4:$AB$7,17,FALSE),IF(ABS(G7-VLOOKUP(C7,'Valeurs Règlement Campagne'!$A$4:$AB$7,18,FALSE))<=2,VLOOKUP(C7,'Valeurs Règlement Campagne'!$A$4:$AB$7,18,FALSE),IF(ABS(G7-VLOOKUP(C7,'Valeurs Règlement Campagne'!$A$4:$AB$7,19,FALSE))<=2,VLOOKUP(C7,'Valeurs Règlement Campagne'!$A$4:$AB$7,19,FALSE),""))),1,0)),"Doublon",TRUE)),IF(IF(G7=VLOOKUP(C7,'Valeurs Règlement Campagne'!$A$4:$AB$7,17,FALSE),VLOOKUP(C7,'Valeurs Règlement Campagne'!$A$4:$AB$7,17,FALSE),IF(G7=VLOOKUP(C7,'Valeurs Règlement Campagne'!$A$4:$AB$7,18,FALSE),VLOOKUP(C7,'Valeurs Règlement Campagne'!$A$4:$AB$7,18,FALSE),IF(G7=VLOOKUP(C7,'Valeurs Règlement Campagne'!$A$4:$AB$7,19,FALSE),VLOOKUP(C7,'Valeurs Règlement Campagne'!$A$4:$AB$7,19,FALSE),"")))="",FALSE,IF(COUNTIFS($C$6:C7,C7,$E$6:E7,"Connues",$G$6:G7,IF(G7=VLOOKUP(C7,'Valeurs Règlement Campagne'!$A$4:$AB$7,17,FALSE),VLOOKUP(C7,'Valeurs Règlement Campagne'!$A$4:$AB$7,17,FALSE),IF(G7=VLOOKUP(C7,'Valeurs Règlement Campagne'!$A$4:$AB$7,18,FALSE),VLOOKUP(C7,'Valeurs Règlement Campagne'!$A$4:$AB$7,18,FALSE),IF(G7=VLOOKUP(C7,'Valeurs Règlement Campagne'!$A$4:$AB$7,19,FALSE),VLOOKUP(C7,'Valeurs Règlement Campagne'!$A$4:$AB$7,19,FALSE),""))))>(IF(VLOOKUP(C7,'Valeurs Règlement Campagne'!$A$4:$AB$7,17,FALSE)=IF(G7=VLOOKUP(C7,'Valeurs Règlement Campagne'!$A$4:$AB$7,17,FALSE),VLOOKUP(C7,'Valeurs Règlement Campagne'!$A$4:$AB$7,17,FALSE),IF(G7=VLOOKUP(C7,'Valeurs Règlement Campagne'!$A$4:$AB$7,18,FALSE),VLOOKUP(C7,'Valeurs Règlement Campagne'!$A$4:$AB$7,18,FALSE),IF(G7=VLOOKUP(C7,'Valeurs Règlement Campagne'!$A$4:$AB$7,19,FALSE),VLOOKUP(C7,'Valeurs Règlement Campagne'!$A$4:$AB$7,19,FALSE),""))),1,0)+IF(VLOOKUP(C7,'Valeurs Règlement Campagne'!$A$4:$AB$7,18,FALSE)=IF(G7=VLOOKUP(C7,'Valeurs Règlement Campagne'!$A$4:$AB$7,17,FALSE),VLOOKUP(C7,'Valeurs Règlement Campagne'!$A$4:$AB$7,17,FALSE),IF(G7=VLOOKUP(C7,'Valeurs Règlement Campagne'!$A$4:$AB$7,18,FALSE),VLOOKUP(C7,'Valeurs Règlement Campagne'!$A$4:$AB$7,18,FALSE),IF(G7=VLOOKUP(C7,'Valeurs Règlement Campagne'!$A$4:$AB$7,19,FALSE),VLOOKUP(C7,'Valeurs Règlement Campagne'!$A$4:$AB$7,19,FALSE),""))),1,0)+IF(VLOOKUP(C7,'Valeurs Règlement Campagne'!$A$4:$AB$7,19,FALSE)=IF(G7=VLOOKUP(C7,'Valeurs Règlement Campagne'!$A$4:$AB$7,17,FALSE),VLOOKUP(C7,'Valeurs Règlement Campagne'!$A$4:$AB$7,17,FALSE),IF(G7=VLOOKUP(C7,'Valeurs Règlement Campagne'!$A$4:$AB$7,18,FALSE),VLOOKUP(C7,'Valeurs Règlement Campagne'!$A$4:$AB$7,18,FALSE),IF(G7=VLOOKUP(C7,'Valeurs Règlement Campagne'!$A$4:$AB$7,19,FALSE),VLOOKUP(C7,'Valeurs Règlement Campagne'!$A$4:$AB$7,19,FALSE),""))),1,0)),"Doublon",TRUE)))," "))))," ")} | W7: {=IFERROR(IF(OR(C7="",C7=" ")," ",IF(NOT(ISNUMBER(H7))," ",IF(E7="Inconnues",AND(H7>=P7,H7<=Q7),IF(E7="Connues",IF('Valeurs Règlement Campagne'!$L$14="OUI",IF(IF(ABS(H7-VLOOKUP(C7,'Valeurs Règlement Campagne'!$A$4:$AB$7,20,FALSE))<=2,VLOOKUP(C7,'Valeurs Règlement Campagne'!$A$4:$AB$7,20,FALSE),IF(ABS(H7-VLOOKUP(C7,'Valeurs Règlement Campagne'!$A$4:$AB$7,21,FALSE))<=2,VLOOKUP(C7,'Valeurs Règlement Campagne'!$A$4:$AB$7,21,FALSE),IF(ABS(H7-VLOOKUP(C7,'Valeurs Règlement Campagne'!$A$4:$AB$7,22,FALSE))<=2,VLOOKUP(C7,'Valeurs Règlement Campagne'!$A$4:$AB$7,22,FALSE),"")))="",FALSE,IF(COUNTIFS($C$6:C7,C7,$E$6:E7,"Connues",$H$6:H7,">="&(IF(ABS(H7-VLOOKUP(C7,'Valeurs Règlement Campagne'!$A$4:$AB$7,20,FALSE))<=2,VLOOKUP(C7,'Valeurs Règlement Campagne'!$A$4:$AB$7,20,FALSE),IF(ABS(H7-VLOOKUP(C7,'Valeurs Règlement Campagne'!$A$4:$AB$7,21,FALSE))<=2,VLOOKUP(C7,'Valeurs Règlement Campagne'!$A$4:$AB$7,21,FALSE),IF(ABS(H7-VLOOKUP(C7,'Valeurs Règlement Campagne'!$A$4:$AB$7,22,FALSE))<=2,VLOOKUP(C7,'Valeurs Règlement Campagne'!$A$4:$AB$7,22,FALSE),"")))-2),$H$6:H7,"<="&(IF(ABS(H7-VLOOKUP(C7,'Valeurs Règlement Campagne'!$A$4:$AB$7,20,FALSE))<=2,VLOOKUP(C7,'Valeurs Règlement Campagne'!$A$4:$AB$7,20,FALSE),IF(ABS(H7-VLOOKUP(C7,'Valeurs Règlement Campagne'!$A$4:$AB$7,21,FALSE))<=2,VLOOKUP(C7,'Valeurs Règlement Campagne'!$A$4:$AB$7,21,FALSE),IF(ABS(H7-VLOOKUP(C7,'Valeurs Règlement Campagne'!$A$4:$AB$7,22,FALSE))<=2,VLOOKUP(C7,'Valeurs Règlement Campagne'!$A$4:$AB$7,22,FALSE),"")))+2))>(IF(VLOOKUP(C7,'Valeurs Règlement Campagne'!$A$4:$AB$7,20,FALSE)=IF(ABS(H7-VLOOKUP(C7,'Valeurs Règlement Campagne'!$A$4:$AB$7,20,FALSE))<=2,VLOOKUP(C7,'Valeurs Règlement Campagne'!$A$4:$AB$7,20,FALSE),IF(ABS(H7-VLOOKUP(C7,'Valeurs Règlement Campagne'!$A$4:$AB$7,21,FALSE))<=2,VLOOKUP(C7,'Valeurs Règlement Campagne'!$A$4:$AB$7,21,FALSE),IF(ABS(H7-VLOOKUP(C7,'Valeurs Règlement Campagne'!$A$4:$AB$7,22,FALSE))<=2,VLOOKUP(C7,'Valeurs Règlement Campagne'!$A$4:$AB$7,22,FALSE),""))),1,0)+IF(VLOOKUP(C7,'Valeurs Règlement Campagne'!$A$4:$AB$7,21,FALSE)=IF(ABS(H7-VLOOKUP(C7,'Valeurs Règlement Campagne'!$A$4:$AB$7,20,FALSE))<=2,VLOOKUP(C7,'Valeurs Règlement Campagne'!$A$4:$AB$7,20,FALSE),IF(ABS(H7-VLOOKUP(C7,'Valeurs Règlement Campagne'!$A$4:$AB$7,21,FALSE))<=2,VLOOKUP(C7,'Valeurs Règlement Campagne'!$A$4:$AB$7,21,FALSE),IF(ABS(H7-VLOOKUP(C7,'Valeurs Règlement Campagne'!$A$4:$AB$7,22,FALSE))<=2,VLOOKUP(C7,'Valeurs Règlement Campagne'!$A$4:$AB$7,22,FALSE),""))),1,0)+IF(VLOOKUP(C7,'Valeurs Règlement Campagne'!$A$4:$AB$7,22,FALSE)=IF(ABS(H7-VLOOKUP(C7,'Valeurs Règlement Campagne'!$A$4:$AB$7,20,FALSE))<=2,VLOOKUP(C7,'Valeurs Règlement Campagne'!$A$4:$AB$7,20,FALSE),IF(ABS(H7-VLOOKUP(C7,'Valeurs Règlement Campagne'!$A$4:$AB$7,21,FALSE))<=2,VLOOKUP(C7,'Valeurs Règlement Campagne'!$A$4:$AB$7,21,FALSE),IF(ABS(H7-VLOOKUP(C7,'Valeurs Règlement Campagne'!$A$4:$AB$7,22,FALSE))<=2,VLOOKUP(C7,'Valeurs Règlement Campagne'!$A$4:$AB$7,22,FALSE),""))),1,0)),"Doublon",TRUE)),IF(IF(H7=VLOOKUP(C7,'Valeurs Règlement Campagne'!$A$4:$AB$7,20,FALSE),VLOOKUP(C7,'Valeurs Règlement Campagne'!$A$4:$AB$7,20,FALSE),IF(H7=VLOOKUP(C7,'Valeurs Règlement Campagne'!$A$4:$AB$7,21,FALSE),VLOOKUP(C7,'Valeurs Règlement Campagne'!$A$4:$AB$7,21,FALSE),IF(H7=VLOOKUP(C7,'Valeurs Règlement Campagne'!$A$4:$AB$7,22,FALSE),VLOOKUP(C7,'Valeurs Règlement Campagne'!$A$4:$AB$7,22,FALSE),"")))="",FALSE,IF(COUNTIFS($C$6:C7,C7,$E$6:E7,"Connues",$H$6:H7,IF(H7=VLOOKUP(C7,'Valeurs Règlement Campagne'!$A$4:$AB$7,20,FALSE),VLOOKUP(C7,'Valeurs Règlement Campagne'!$A$4:$AB$7,20,FALSE),IF(H7=VLOOKUP(C7,'Valeurs Règlement Campagne'!$A$4:$AB$7,21,FALSE),VLOOKUP(C7,'Valeurs Règlement Campagne'!$A$4:$AB$7,21,FALSE),IF(H7=VLOOKUP(C7,'Valeurs Règlement Campagne'!$A$4:$AB$7,22,FALSE),VLOOKUP(C7,'Valeurs Règlement Campagne'!$A$4:$AB$7,22,FALSE),""))))>(IF(VLOOKUP(C7,'Valeurs Règlement Campagne'!$A$4:$AB$7,20,FALSE)=IF(H7=VLOOKUP(C7,'Valeurs Règlement Campagne'!$A$4:$AB$7,20,FALSE),VLOOKUP(C7,'Valeurs Règlement Campagne'!$A$4:$AB$7,20,FALSE),IF(H7=VLOOKUP(C7,'Valeurs Règlement Campagne'!$A$4:$AB$7,21,FALSE),VLOOKUP(C7,'Valeurs Règlement Campagne'!$A$4:$AB$7,21,FALSE),IF(H7=VLOOKUP(C7,'Valeurs Règlement Campagne'!$A$4:$AB$7,22,FALSE),VLOOKUP(C7,'Valeurs Règlement Campagne'!$A$4:$AB$7,22,FALSE),""))),1,0)+IF(VLOOKUP(C7,'Valeurs Règlement Campagne'!$A$4:$AB$7,21,FALSE)=IF(H7=VLOOKUP(C7,'Valeurs Règlement Campagne'!$A$4:$AB$7,20,FALSE),VLOOKUP(C7,'Valeurs Règlement Campagne'!$A$4:$AB$7,20,FALSE),IF(H7=VLOOKUP(C7,'Valeurs Règlement Campagne'!$A$4:$AB$7,21,FALSE),VLOOKUP(C7,'Valeurs Règlement Campagne'!$A$4:$AB$7,21,FALSE),IF(H7=VLOOKUP(C7,'Valeurs Règlement Campagne'!$A$4:$AB$7,22,FALSE),VLOOKUP(C7,'Valeurs Règlement Campagne'!$A$4:$AB$7,22,FALSE),""))),1,0)+IF(VLOOKUP(C7,'Valeurs Règlement Campagne'!$A$4:$AB$7,22,FALSE)=IF(H7=VLOOKUP(C7,'Valeurs Règlement Campagne'!$A$4:$AB$7,20,FALSE),VLOOKUP(C7,'Valeurs Règlement Campagne'!$A$4:$AB$7,20,FALSE),IF(H7=VLOOKUP(C7,'Valeurs Règlement Campagne'!$A$4:$AB$7,21,FALSE),VLOOKUP(C7,'Valeurs Règlement Campagne'!$A$4:$AB$7,21,FALSE),IF(H7=VLOOKUP(C7,'Valeurs Règlement Campagne'!$A$4:$AB$7,22,FALSE),VLOOKUP(C7,'Valeurs Règlement Campagne'!$A$4:$AB$7,22,FALSE),""))),1,0)),"Doublon",TRUE)))," "))))," ")} | X7: {=IFERROR(IF(OR(C7="",C7=" ")," ",IF(NOT(ISNUMBER(I7))," ",IF(E7="Inconnues",AND(I7>=P7,I7<=R7),IF(E7="Connues",IF('Valeurs Règlement Campagne'!$L$14="OUI",IF(IF(ABS(I7-VLOOKUP(C7,'Valeurs Règlement Campagne'!$A$4:$AB$7,23,FALSE))<=2,VLOOKUP(C7,'Valeurs Règlement Campagne'!$A$4:$AB$7,23,FALSE),IF(ABS(I7-VLOOKUP(C7,'Valeurs Règlement Campagne'!$A$4:$AB$7,24,FALSE))<=2,VLOOKUP(C7,'Valeurs Règlement Campagne'!$A$4:$AB$7,24,FALSE),IF(ABS(I7-VLOOKUP(C7,'Valeurs Règlement Campagne'!$A$4:$AB$7,25,FALSE))<=2,VLOOKUP(C7,'Valeurs Règlement Campagne'!$A$4:$AB$7,25,FALSE),"")))="",FALSE,IF(COUNTIFS($C$6:C7,C7,$E$6:E7,"Connues",$I$6:I7,">="&(IF(ABS(I7-VLOOKUP(C7,'Valeurs Règlement Campagne'!$A$4:$AB$7,23,FALSE))<=2,VLOOKUP(C7,'Valeurs Règlement Campagne'!$A$4:$AB$7,23,FALSE),IF(ABS(I7-VLOOKUP(C7,'Valeurs Règlement Campagne'!$A$4:$AB$7,24,FALSE))<=2,VLOOKUP(C7,'Valeurs Règlement Campagne'!$A$4:$AB$7,24,FALSE),IF(ABS(I7-VLOOKUP(C7,'Valeurs Règlement Campagne'!$A$4:$AB$7,25,FALSE))<=2,VLOOKUP(C7,'Valeurs Règlement Campagne'!$A$4:$AB$7,25,FALSE),"")))-2),$I$6:I7,"<="&(IF(ABS(I7-VLOOKUP(C7,'Valeurs Règlement Campagne'!$A$4:$AB$7,23,FALSE))<=2,VLOOKUP(C7,'Valeurs Règlement Campagne'!$A$4:$AB$7,23,FALSE),IF(ABS(I7-VLOOKUP(C7,'Valeurs Règlement Campagne'!$A$4:$AB$7,24,FALSE))<=2,VLOOKUP(C7,'Valeurs Règlement Campagne'!$A$4:$AB$7,24,FALSE),IF(ABS(I7-VLOOKUP(C7,'Valeurs Règlement Campagne'!$A$4:$AB$7,25,FALSE))<=2,VLOOKUP(C7,'Valeurs Règlement Campagne'!$A$4:$AB$7,25,FALSE),"")))+2))>(IF(VLOOKUP(C7,'Valeurs Règlement Campagne'!$A$4:$AB$7,23,FALSE)=IF(ABS(I7-VLOOKUP(C7,'Valeurs Règlement Campagne'!$A$4:$AB$7,23,FALSE))<=2,VLOOKUP(C7,'Valeurs Règlement Campagne'!$A$4:$AB$7,23,FALSE),IF(ABS(I7-VLOOKUP(C7,'Valeurs Règlement Campagne'!$A$4:$AB$7,24,FALSE))<=2,VLOOKUP(C7,'Valeurs Règlement Campagne'!$A$4:$AB$7,24,FALSE),IF(ABS(I7-VLOOKUP(C7,'Valeurs Règlement Campagne'!$A$4:$AB$7,25,FALSE))<=2,VLOOKUP(C7,'Valeurs Règlement Campagne'!$A$4:$AB$7,25,FALSE),""))),1,0)+IF(VLOOKUP(C7,'Valeurs Règlement Campagne'!$A$4:$AB$7,24,FALSE)=IF(ABS(I7-VLOOKUP(C7,'Valeurs Règlement Campagne'!$A$4:$AB$7,23,FALSE))<=2,VLOOKUP(C7,'Valeurs Règlement Campagne'!$A$4:$AB$7,23,FALSE),IF(ABS(I7-VLOOKUP(C7,'Valeurs Règlement Campagne'!$A$4:$AB$7,24,FALSE))<=2,VLOOKUP(C7,'Valeurs Règlement Campagne'!$A$4:$AB$7,24,FALSE),IF(ABS(I7-VLOOKUP(C7,'Valeurs Règlement Campagne'!$A$4:$AB$7,25,FALSE))<=2,VLOOKUP(C7,'Valeurs Règlement Campagne'!$A$4:$AB$7,25,FALSE),""))),1,0)+IF(VLOOKUP(C7,'Valeurs Règlement Campagne'!$A$4:$AB$7,25,FALSE)=IF(ABS(I7-VLOOKUP(C7,'Valeurs Règlement Campagne'!$A$4:$AB$7,23,FALSE))<=2,VLOOKUP(C7,'Valeurs Règlement Campagne'!$A$4:$AB$7,23,FALSE),IF(ABS(I7-VLOOKUP(C7,'Valeurs Règlement Campagne'!$A$4:$AB$7,24,FALSE))<=2,VLOOKUP(C7,'Valeurs Règlement Campagne'!$A$4:$AB$7,24,FALSE),IF(ABS(I7-VLOOKUP(C7,'Valeurs Règlement Campagne'!$A$4:$AB$7,25,FALSE))<=2,VLOOKUP(C7,'Valeurs Règlement Campagne'!$A$4:$AB$7,25,FALSE),""))),1,0)),"Doublon",TRUE)),IF(IF(I7=VLOOKUP(C7,'Valeurs Règlement Campagne'!$A$4:$AB$7,23,FALSE),VLOOKUP(C7,'Valeurs Règlement Campagne'!$A$4:$AB$7,23,FALSE),IF(I7=VLOOKUP(C7,'Valeurs Règlement Campagne'!$A$4:$AB$7,24,FALSE),VLOOKUP(C7,'Valeurs Règlement Campagne'!$A$4:$AB$7,24,FALSE),IF(I7=VLOOKUP(C7,'Valeurs Règlement Campagne'!$A$4:$AB$7,25,FALSE),VLOOKUP(C7,'Valeurs Règlement Campagne'!$A$4:$AB$7,25,FALSE),"")))="",FALSE,IF(COUNTIFS($C$6:C7,C7,$E$6:E7,"Connues",$I$6:I7,IF(I7=VLOOKUP(C7,'Valeurs Règlement Campagne'!$A$4:$AB$7,23,FALSE),VLOOKUP(C7,'Valeurs Règlement Campagne'!$A$4:$AB$7,23,FALSE),IF(I7=VLOOKUP(C7,'Valeurs Règlement Campagne'!$A$4:$AB$7,24,FALSE),VLOOKUP(C7,'Valeurs Règlement Campagne'!$A$4:$AB$7,24,FALSE),IF(I7=VLOOKUP(C7,'Valeurs Règlement Campagne'!$A$4:$AB$7,25,FALSE),VLOOKUP(C7,'Valeurs Règlement Campagne'!$A$4:$AB$7,25,FALSE),""))))>(IF(VLOOKUP(C7,'Valeurs Règlement Campagne'!$A$4:$AB$7,23,FALSE)=IF(I7=VLOOKUP(C7,'Valeurs Règlement Campagne'!$A$4:$AB$7,23,FALSE),VLOOKUP(C7,'Valeurs Règlement Campagne'!$A$4:$AB$7,23,FALSE),IF(I7=VLOOKUP(C7,'Valeurs Règlement Campagne'!$A$4:$AB$7,24,FALSE),VLOOKUP(C7,'Valeurs Règlement Campagne'!$A$4:$AB$7,24,FALSE),IF(I7=VLOOKUP(C7,'Valeurs Règlement Campagne'!$A$4:$AB$7,25,FALSE),VLOOKUP(C7,'Valeurs Règlement Campagne'!$A$4:$AB$7,25,FALSE),""))),1,0)+IF(VLOOKUP(C7,'Valeurs Règlement Campagne'!$A$4:$AB$7,24,FALSE)=IF(I7=VLOOKUP(C7,'Valeurs Règlement Campagne'!$A$4:$AB$7,23,FALSE),VLOOKUP(C7,'Valeurs Règlement Campagne'!$A$4:$AB$7,23,FALSE),IF(I7=VLOOKUP(C7,'Valeurs Règlement Campagne'!$A$4:$AB$7,24,FALSE),VLOOKUP(C7,'Valeurs Règlement Campagne'!$A$4:$AB$7,24,FALSE),IF(I7=VLOOKUP(C7,'Valeurs Règlement Campagne'!$A$4:$AB$7,25,FALSE),VLOOKUP(C7,'Valeurs Règlement Campagne'!$A$4:$AB$7,25,FALSE),""))),1,0)+IF(VLOOKUP(C7,'Valeurs Règlement Campagne'!$A$4:$AB$7,25,FALSE)=IF(I7=VLOOKUP(C7,'Valeurs Règlement Campagne'!$A$4:$AB$7,23,FALSE),VLOOKUP(C7,'Valeurs Règlement Campagne'!$A$4:$AB$7,23,FALSE),IF(I7=VLOOKUP(C7,'Valeurs Règlement Campagne'!$A$4:$AB$7,24,FALSE),VLOOKUP(C7,'Valeurs Règlement Campagne'!$A$4:$AB$7,24,FALSE),IF(I7=VLOOKUP(C7,'Valeurs Règlement Campagne'!$A$4:$AB$7,25,FALSE),VLOOKUP(C7,'Valeurs Règlement Campagne'!$A$4:$AB$7,25,FALSE),""))),1,0)),"Doublon",TRUE)))," "))))," ")} | Y7: {=IFERROR(IF(OR(C7="",C7=" ")," ",IF(NOT(ISNUMBER(J7))," ",IF(E7="Inconnues",AND(J7>=S7,J7<=T7),IF(E7="Connues",IF('Valeurs Règlement Campagne'!$L$14="OUI",IF(IF(ABS(J7-VLOOKUP(C7,'Valeurs Règlement Campagne'!$A$4:$AB$7,26,FALSE))<=2,VLOOKUP(C7,'Valeurs Règlement Campagne'!$A$4:$AB$7,26,FALSE),IF(ABS(J7-VLOOKUP(C7,'Valeurs Règlement Campagne'!$A$4:$AB$7,27,FALSE))<=2,VLOOKUP(C7,'Valeurs Règlement Campagne'!$A$4:$AB$7,27,FALSE),IF(ABS(J7-VLOOKUP(C7,'Valeurs Règlement Campagne'!$A$4:$AB$7,28,FALSE))<=2,VLOOKUP(C7,'Valeurs Règlement Campagne'!$A$4:$AB$7,28,FALSE),"")))="",FALSE,IF(COUNTIFS($C$6:C7,C7,$E$6:E7,"Connues",$J$6:J7,">="&(IF(ABS(J7-VLOOKUP(C7,'Valeurs Règlement Campagne'!$A$4:$AB$7,26,FALSE))<=2,VLOOKUP(C7,'Valeurs Règlement Campagne'!$A$4:$AB$7,26,FALSE),IF(ABS(J7-VLOOKUP(C7,'Valeurs Règlement Campagne'!$A$4:$AB$7,27,FALSE))<=2,VLOOKUP(C7,'Valeurs Règlement Campagne'!$A$4:$AB$7,27,FALSE),IF(ABS(J7-VLOOKUP(C7,'Valeurs Règlement Campagne'!$A$4:$AB$7,28,FALSE))<=2,VLOOKUP(C7,'Valeurs Règlement Campagne'!$A$4:$AB$7,28,FALSE),"")))-2),$J$6:J7,"<="&(IF(ABS(J7-VLOOKUP(C7,'Valeurs Règlement Campagne'!$A$4:$AB$7,26,FALSE))<=2,VLOOKUP(C7,'Valeurs Règlement Campagne'!$A$4:$AB$7,26,FALSE),IF(ABS(J7-VLOOKUP(C7,'Valeurs Règlement Campagne'!$A$4:$AB$7,27,FALSE))<=2,VLOOKUP(C7,'Valeurs Règlement Campagne'!$A$4:$AB$7,27,FALSE),IF(ABS(J7-VLOOKUP(C7,'Valeurs Règlement Campagne'!$A$4:$AB$7,28,FALSE))<=2,VLOOKUP(C7,'Valeurs Règlement Campagne'!$A$4:$AB$7,28,FALSE),"")))+2))>(IF(VLOOKUP(C7,'Valeurs Règlement Campagne'!$A$4:$AB$7,26,FALSE)=IF(ABS(J7-VLOOKUP(C7,'Valeurs Règlement Campagne'!$A$4:$AB$7,26,FALSE))<=2,VLOOKUP(C7,'Valeurs Règlement Campagne'!$A$4:$AB$7,26,FALSE),IF(ABS(J7-VLOOKUP(C7,'Valeurs Règlement Campagne'!$A$4:$AB$7,27,FALSE))<=2,VLOOKUP(C7,'Valeurs Règlement Campagne'!$A$4:$AB$7,27,FALSE),IF(ABS(J7-VLOOKUP(C7,'Valeurs Règlement Campagne'!$A$4:$AB$7,28,FALSE))<=2,VLOOKUP(C7,'Valeurs Règlement Campagne'!$A$4:$AB$7,28,FALSE),""))),1,0)+IF(VLOOKUP(C7,'Valeurs Règlement Campagne'!$A$4:$AB$7,27,FALSE)=IF(ABS(J7-VLOOKUP(C7,'Valeurs Règlement Campagne'!$A$4:$AB$7,26,FALSE))<=2,VLOOKUP(C7,'Valeurs Règlement Campagne'!$A$4:$AB$7,26,FALSE),IF(ABS(J7-VLOOKUP(C7,'Valeurs Règlement Campagne'!$A$4:$AB$7,27,FALSE))<=2,VLOOKUP(C7,'Valeurs Règlement Campagne'!$A$4:$AB$7,27,FALSE),IF(ABS(J7-VLOOKUP(C7,'Valeurs Règlement Campagne'!$A$4:$AB$7,28,FALSE))<=2,VLOOKUP(C7,'Valeurs Règlement Campagne'!$A$4:$AB$7,28,FALSE),""))),1,0)+IF(VLOOKUP(C7,'Valeurs Règlement Campagne'!$A$4:$AB$7,28,FALSE)=IF(ABS(J7-VLOOKUP(C7,'Valeurs Règlement Campagne'!$A$4:$AB$7,26,FALSE))<=2,VLOOKUP(C7,'Valeurs Règlement Campagne'!$A$4:$AB$7,26,FALSE),IF(ABS(J7-VLOOKUP(C7,'Valeurs Règlement Campagne'!$A$4:$AB$7,27,FALSE))<=2,VLOOKUP(C7,'Valeurs Règlement Campagne'!$A$4:$AB$7,27,FALSE),IF(ABS(J7-VLOOKUP(C7,'Valeurs Règlement Campagne'!$A$4:$AB$7,28,FALSE))<=2,VLOOKUP(C7,'Valeurs Règlement Campagne'!$A$4:$AB$7,28,FALSE),""))),1,0)),"Doublon",TRUE)),IF(IF(J7=VLOOKUP(C7,'Valeurs Règlement Campagne'!$A$4:$AB$7,26,FALSE),VLOOKUP(C7,'Valeurs Règlement Campagne'!$A$4:$AB$7,26,FALSE),IF(J7=VLOOKUP(C7,'Valeurs Règlement Campagne'!$A$4:$AB$7,27,FALSE),VLOOKUP(C7,'Valeurs Règlement Campagne'!$A$4:$AB$7,27,FALSE),IF(J7=VLOOKUP(C7,'Valeurs Règlement Campagne'!$A$4:$AB$7,28,FALSE),VLOOKUP(C7,'Valeurs Règlement Campagne'!$A$4:$AB$7,28,FALSE),"")))="",FALSE,IF(COUNTIFS($C$6:C7,C7,$E$6:E7,"Connues",$J$6:J7,IF(J7=VLOOKUP(C7,'Valeurs Règlement Campagne'!$A$4:$AB$7,26,FALSE),VLOOKUP(C7,'Valeurs Règlement Campagne'!$A$4:$AB$7,26,FALSE),IF(J7=VLOOKUP(C7,'Valeurs Règlement Campagne'!$A$4:$AB$7,27,FALSE),VLOOKUP(C7,'Valeurs Règlement Campagne'!$A$4:$AB$7,27,FALSE),IF(J7=VLOOKUP(C7,'Valeurs Règlement Campagne'!$A$4:$AB$7,28,FALSE),VLOOKUP(C7,'Valeurs Règlement Campagne'!$A$4:$AB$7,28,FALSE),""))))>(IF(VLOOKUP(C7,'Valeurs Règlement Campagne'!$A$4:$AB$7,26,FALSE)=IF(J7=VLOOKUP(C7,'Valeurs Règlement Campagne'!$A$4:$AB$7,26,FALSE),VLOOKUP(C7,'Valeurs Règlement Campagne'!$A$4:$AB$7,26,FALSE),IF(J7=VLOOKUP(C7,'Valeurs Règlement Campagne'!$A$4:$AB$7,27,FALSE),VLOOKUP(C7,'Valeurs Règlement Campagne'!$A$4:$AB$7,27,FALSE),IF(J7=VLOOKUP(C7,'Valeurs Règlement Campagne'!$A$4:$AB$7,28,FALSE),VLOOKUP(C7,'Valeurs Règlement Campagne'!$A$4:$AB$7,28,FALSE),""))),1,0)+IF(VLOOKUP(C7,'Valeurs Règlement Campagne'!$A$4:$AB$7,27,FALSE)=IF(J7=VLOOKUP(C7,'Valeurs Règlement Campagne'!$A$4:$AB$7,26,FALSE),VLOOKUP(C7,'Valeurs Règlement Campagne'!$A$4:$AB$7,26,FALSE),IF(J7=VLOOKUP(C7,'Valeurs Règlement Campagne'!$A$4:$AB$7,27,FALSE),VLOOKUP(C7,'Valeurs Règlement Campagne'!$A$4:$AB$7,27,FALSE),IF(J7=VLOOKUP(C7,'Valeurs Règlement Campagne'!$A$4:$AB$7,28,FALSE),VLOOKUP(C7,'Valeurs Règlement Campagne'!$A$4:$AB$7,28,FALSE),""))),1,0)+IF(VLOOKUP(C7,'Valeurs Règlement Campagne'!$A$4:$AB$7,28,FALSE)=IF(J7=VLOOKUP(C7,'Valeurs Règlement Campagne'!$A$4:$AB$7,26,FALSE),VLOOKUP(C7,'Valeurs Règlement Campagne'!$A$4:$AB$7,26,FALSE),IF(J7=VLOOKUP(C7,'Valeurs Règlement Campagne'!$A$4:$AB$7,27,FALSE),VLOOKUP(C7,'Valeurs Règlement Campagne'!$A$4:$AB$7,27,FALSE),IF(J7=VLOOKUP(C7,'Valeurs Règlement Campagne'!$A$4:$AB$7,28,FALSE),VLOOKUP(C7,'Valeurs Règlement Campagne'!$A$4:$AB$7,28,FALSE),""))),1,0)),"Doublon",TRUE)))," "))))," ")} | Z7: =IFERROR(IF(OR(NOT(ISNUMBER(F7)),NOT(ISNUMBER(G7)))," ",IF(OR(U7="Doublon",V7="Doublon"),"Doublon",IF(F7>=G7,IF(AND(U7=TRUE,V7=TRUE),"ok","faux"),"faux")))," ") | AB7: =IFERROR(IF(OR(NOT(ISNUMBER(G7)),NOT(ISNUMBER(H7)))," ",IF(OR(V7="Doublon",W7="Doublon"),"Doublon",IF(G7>=H7,IF(AND(V7=TRUE,W7=TRUE),"ok","faux"),"faux")))," ") | AD7: =IFERROR(IF(OR(NOT(ISNUMBER(H7)),NOT(ISNUMBER(I7)))," ",IF(OR(W7="Doublon",X7="Doublon"),"Doublon",IF(H7>=I7,IF(AND(W7=TRUE,X7=TRUE),"ok","faux"),"faux")))," ") | AF7: =IFERROR(IF(OR(NOT(ISNUMBER(H7)),NOT(ISNUMBER(J7)))," ",IF(OR(W7="Doublon",Y7="Doublon"),"Doublon",IF(H7>=J7,IF(AND(W7=TRUE,Y7=TRUE),"ok","faux"),"faux")))," ") | AH7: =IF(AND(E7="Inconnues",LEFT(C7,1)="1",ISNUMBER(I7)),"Obligatoire",IF(AND(E7="Connues",LEFT(C7,1)="1"),"Possible",IF(AND(E7="Inconnues",LEFT(C7,1)="1",NOT(ISNUMBER(I7))),"Manque orange",""))) | AI7: =IFERROR(IF(OR(C7="",C7=" ",NOT(ISNUMBER(F7))),0,IF(E7="Inconnues",IF(AND(F7>=L7,F7<=M7),0,1),IF(E7="Connues",IF('Valeurs Règlement Campagne'!$L$14="OUI",IF(IF(ABS(F7-VLOOKUP(C7,'Valeurs Règlement Campagne'!$A$4:$AB$7,14,FALSE))<=2,VLOOKUP(C7,'Valeurs Règlement Campagne'!$A$4:$AB$7,14,FALSE),IF(ABS(F7-VLOOKUP(C7,'Valeurs Règlement Campagne'!$A$4:$AB$7,15,FALSE))<=2,VLOOKUP(C7,'Valeurs Règlement Campagne'!$A$4:$AB$7,15,FALSE),IF(ABS(F7-VLOOKUP(C7,'Valeurs Règlement Campagne'!$A$4:$AB$7,16,FALSE))<=2,VLOOKUP(C7,'Valeurs Règlement Campagne'!$A$4:$AB$7,16,FALSE),"")))="",1,IF(COUNTIFS($C$6:C7,C7,$E$6:E7,"Connues",$F$6:F7,">="&(IF(ABS(F7-VLOOKUP(C7,'Valeurs Règlement Campagne'!$A$4:$AB$7,14,FALSE))<=2,VLOOKUP(C7,'Valeurs Règlement Campagne'!$A$4:$AB$7,14,FALSE),IF(ABS(F7-VLOOKUP(C7,'Valeurs Règlement Campagne'!$A$4:$AB$7,15,FALSE))<=2,VLOOKUP(C7,'Valeurs Règlement Campagne'!$A$4:$AB$7,15,FALSE),IF(ABS(F7-VLOOKUP(C7,'Valeurs Règlement Campagne'!$A$4:$AB$7,16,FALSE))<=2,VLOOKUP(C7,'Valeurs Règlement Campagne'!$A$4:$AB$7,16,FALSE),"")))-2),$F$6:F7,"<="&(IF(ABS(F7-VLOOKUP(C7,'Valeurs Règlement Campagne'!$A$4:$AB$7,14,FALSE))<=2,VLOOKUP(C7,'Valeurs Règlement Campagne'!$A$4:$AB$7,14,FALSE),IF(ABS(F7-VLOOKUP(C7,'Valeurs Règlement Campagne'!$A$4:$AB$7,15,FALSE))<=2,VLOOKUP(C7,'Valeurs Règlement Campagne'!$A$4:$AB$7,15,FALSE),IF(ABS(F7-VLOOKUP(C7,'Valeurs Règlement Campagne'!$A$4:$AB$7,16,FALSE))<=2,VLOOKUP(C7,'Valeurs Règlement Campagne'!$A$4:$AB$7,16,FALSE),"")))+2))>(IF(VLOOKUP(C7,'Valeurs Règlement Campagne'!$A$4:$AB$7,14,FALSE)=IF(ABS(F7-VLOOKUP(C7,'Valeurs Règlement Campagne'!$A$4:$AB$7,14,FALSE))<=2,VLOOKUP(C7,'Valeurs Règlement Campagne'!$A$4:$AB$7,14,FALSE),IF(ABS(F7-VLOOKUP(C7,'Valeurs Règlement Campagne'!$A$4:$AB$7,15,FALSE))<=2,VLOOKUP(C7,'Valeurs Règlement Campagne'!$A$4:$AB$7,15,FALSE),IF(ABS(F7-VLOOKUP(C7,'Valeurs Règlement Campagne'!$A$4:$AB$7,16,FALSE))<=2,VLOOKUP(C7,'Valeurs Règlement Campagne'!$A$4:$AB$7,16,FALSE),""))),1,0)+IF(VLOOKUP(C7,'Valeurs Règlement Campagne'!$A$4:$AB$7,15,FALSE)=IF(ABS(F7-VLOOKUP(C7,'Valeurs Règlement Campagne'!$A$4:$AB$7,14,FALSE))<=2,VLOOKUP(C7,'Valeurs Règlement Campagne'!$A$4:$AB$7,14,FALSE),IF(ABS(F7-VLOOKUP(C7,'Valeurs Règlement Campagne'!$A$4:$AB$7,15,FALSE))<=2,VLOOKUP(C7,'Valeurs Règlement Campagne'!$A$4:$AB$7,15,FALSE),IF(ABS(F7-VLOOKUP(C7,'Valeurs Règlement Campagne'!$A$4:$AB$7,16,FALSE))<=2,VLOOKUP(C7,'Valeurs Règlement Campagne'!$A$4:$AB$7,16,FALSE),""))),1,0)+IF(VLOOKUP(C7,'Valeurs Règlement Campagne'!$A$4:$AB$7,16,FALSE)=IF(ABS(F7-VLOOKUP(C7,'Valeurs Règlement Campagne'!$A$4:$AB$7,14,FALSE))<=2,VLOOKUP(C7,'Valeurs Règlement Campagne'!$A$4:$AB$7,14,FALSE),IF(ABS(F7-VLOOKUP(C7,'Valeurs Règlement Campagne'!$A$4:$AB$7,15,FALSE))<=2,VLOOKUP(C7,'Valeurs Règlement Campagne'!$A$4:$AB$7,15,FALSE),IF(ABS(F7-VLOOKUP(C7,'Valeurs Règlement Campagne'!$A$4:$AB$7,16,FALSE))<=2,VLOOKUP(C7,'Valeurs Règlement Campagne'!$A$4:$AB$7,16,FALSE),""))),1,0)),1,0)),IF(IF(F7=VLOOKUP(C7,'Valeurs Règlement Campagne'!$A$4:$AB$7,14,FALSE),VLOOKUP(C7,'Valeurs Règlement Campagne'!$A$4:$AB$7,14,FALSE),IF(F7=VLOOKUP(C7,'Valeurs Règlement Campagne'!$A$4:$AB$7,15,FALSE),VLOOKUP(C7,'Valeurs Règlement Campagne'!$A$4:$AB$7,15,FALSE),IF(F7=VLOOKUP(C7,'Valeurs Règlement Campagne'!$A$4:$AB$7,16,FALSE),VLOOKUP(C7,'Valeurs Règlement Campagne'!$A$4:$AB$7,16,FALSE),"")))="",1,IF(COUNTIFS($C$6:C7,C7,$E$6:E7,"Connues",$F$6:F7,IF(F7=VLOOKUP(C7,'Valeurs Règlement Campagne'!$A$4:$AB$7,14,FALSE),VLOOKUP(C7,'Valeurs Règlement Campagne'!$A$4:$AB$7,14,FALSE),IF(F7=VLOOKUP(C7,'Valeurs Règlement Campagne'!$A$4:$AB$7,15,FALSE),VLOOKUP(C7,'Valeurs Règlement Campagne'!$A$4:$AB$7,15,FALSE),IF(F7=VLOOKUP(C7,'Valeurs Règlement Campagne'!$A$4:$AB$7,16,FALSE),VLOOKUP(C7,'Valeurs Règlement Campagne'!$A$4:$AB$7,16,FALSE),""))))>(IF(VLOOKUP(C7,'Valeurs Règlement Campagne'!$A$4:$AB$7,14,FALSE)=IF(F7=VLOOKUP(C7,'Valeurs Règlement Campagne'!$A$4:$AB$7,14,FALSE),VLOOKUP(C7,'Valeurs Règlement Campagne'!$A$4:$AB$7,14,FALSE),IF(F7=VLOOKUP(C7,'Valeurs Règlement Campagne'!$A$4:$AB$7,15,FALSE),VLOOKUP(C7,'Valeurs Règlement Campagne'!$A$4:$AB$7,15,FALSE),IF(F7=VLOOKUP(C7,'Valeurs Règlement Campagne'!$A$4:$AB$7,16,FALSE),VLOOKUP(C7,'Valeurs Règlement Campagne'!$A$4:$AB$7,16,FALSE),""))),1,0)+IF(VLOOKUP(C7,'Valeurs Règlement Campagne'!$A$4:$AB$7,15,FALSE)=IF(F7=VLOOKUP(C7,'Valeurs Règlement Campagne'!$A$4:$AB$7,14,FALSE),VLOOKUP(C7,'Valeurs Règlement Campagne'!$A$4:$AB$7,14,FALSE),IF(F7=VLOOKUP(C7,'Valeurs Règlement Campagne'!$A$4:$AB$7,15,FALSE),VLOOKUP(C7,'Valeurs Règlement Campagne'!$A$4:$AB$7,15,FALSE),IF(F7=VLOOKUP(C7,'Valeurs Règlement Campagne'!$A$4:$AB$7,16,FALSE),VLOOKUP(C7,'Valeurs Règlement Campagne'!$A$4:$AB$7,16,FALSE),""))),1,0)+IF(VLOOKUP(C7,'Valeurs Règlement Campagne'!$A$4:$AB$7,16,FALSE)=IF(F7=VLOOKUP(C7,'Valeurs Règlement Campagne'!$A$4:$AB$7,14,FALSE),VLOOKUP(C7,'Valeurs Règlement Campagne'!$A$4:$AB$7,14,FALSE),IF(F7=VLOOKUP(C7,'Valeurs Règlement Campagne'!$A$4:$AB$7,15,FALSE),VLOOKUP(C7,'Valeurs Règlement Campagne'!$A$4:$AB$7,15,FALSE),IF(F7=VLOOKUP(C7,'Valeurs Règlement Campagne'!$A$4:$AB$7,16,FALSE),VLOOKUP(C7,'Valeurs Règlement Campagne'!$A$4:$AB$7,16,FALSE),""))),1,0)),1,0))),0))),0) -> 0 | AJ7: =IFERROR(IF(OR(C7="",C7=" ",NOT(ISNUMBER(G7))),0,IF(E7="Inconnues",IF(AND(G7>=N7,G7<=O7),0,1),IF(E7="Connues",IF('Valeurs Règlement Campagne'!$L$14="OUI",IF(IF(ABS(G7-VLOOKUP(C7,'Valeurs Règlement Campagne'!$A$4:$AB$7,17,FALSE))<=2,VLOOKUP(C7,'Valeurs Règlement Campagne'!$A$4:$AB$7,17,FALSE),IF(ABS(G7-VLOOKUP(C7,'Valeurs Règlement Campagne'!$A$4:$AB$7,18,FALSE))<=2,VLOOKUP(C7,'Valeurs Règlement Campagne'!$A$4:$AB$7,18,FALSE),IF(ABS(G7-VLOOKUP(C7,'Valeurs Règlement Campagne'!$A$4:$AB$7,19,FALSE))<=2,VLOOKUP(C7,'Valeurs Règlement Campagne'!$A$4:$AB$7,19,FALSE),"")))="",1,IF(COUNTIFS($C$6:C7,C7,$E$6:E7,"Connues",$G$6:G7,">="&(IF(ABS(G7-VLOOKUP(C7,'Valeurs Règlement Campagne'!$A$4:$AB$7,17,FALSE))<=2,VLOOKUP(C7,'Valeurs Règlement Campagne'!$A$4:$AB$7,17,FALSE),IF(ABS(G7-VLOOKUP(C7,'Valeurs Règlement Campagne'!$A$4:$AB$7,18,FALSE))<=2,VLOOKUP(C7,'Valeurs Règlement Campagne'!$A$4:$AB$7,18,FALSE),IF(ABS(G7-VLOOKUP(C7,'Valeurs Règlement Campagne'!$A$4:$AB$7,19,FALSE))<=2,VLOOKUP(C7,'Valeurs Règlement Campagne'!$A$4:$AB$7,19,FALSE),"")))-2),$G$6:G7,"<="&(IF(ABS(G7-VLOOKUP(C7,'Valeurs Règlement Campagne'!$A$4:$AB$7,17,FALSE))<=2,VLOOKUP(C7,'Valeurs Règlement Campagne'!$A$4:$AB$7,17,FALSE),IF(ABS(G7-VLOOKUP(C7,'Valeurs Règlement Campagne'!$A$4:$AB$7,18,FALSE))<=2,VLOOKUP(C7,'Valeurs Règlement Campagne'!$A$4:$AB$7,18,FALSE),IF(ABS(G7-VLOOKUP(C7,'Valeurs Règlement Campagne'!$A$4:$AB$7,19,FALSE))<=2,VLOOKUP(C7,'Valeurs Règlement Campagne'!$A$4:$AB$7,19,FALSE),"")))+2))>(IF(VLOOKUP(C7,'Valeurs Règlement Campagne'!$A$4:$AB$7,17,FALSE)=IF(ABS(G7-VLOOKUP(C7,'Valeurs Règlement Campagne'!$A$4:$AB$7,17,FALSE))<=2,VLOOKUP(C7,'Valeurs Règlement Campagne'!$A$4:$AB$7,17,FALSE),IF(ABS(G7-VLOOKUP(C7,'Valeurs Règlement Campagne'!$A$4:$AB$7,18,FALSE))<=2,VLOOKUP(C7,'Valeurs Règlement Campagne'!$A$4:$AB$7,18,FALSE),IF(ABS(G7-VLOOKUP(C7,'Valeurs Règlement Campagne'!$A$4:$AB$7,19,FALSE))<=2,VLOOKUP(C7,'Valeurs Règlement Campagne'!$A$4:$AB$7,19,FALSE),""))),1,0)+IF(VLOOKUP(C7,'Valeurs Règlement Campagne'!$A$4:$AB$7,18,FALSE)=IF(ABS(G7-VLOOKUP(C7,'Valeurs Règlement Campagne'!$A$4:$AB$7,17,FALSE))<=2,VLOOKUP(C7,'Valeurs Règlement Campagne'!$A$4:$AB$7,17,FALSE),IF(ABS(G7-VLOOKUP(C7,'Valeurs Règlement Campagne'!$A$4:$AB$7,18,FALSE))<=2,VLOOKUP(C7,'Valeurs Règlement Campagne'!$A$4:$AB$7,18,FALSE),IF(ABS(G7-VLOOKUP(C7,'Valeurs Règlement Campagne'!$A$4:$AB$7,19,FALSE))<=2,VLOOKUP(C7,'Valeurs Règlement Campagne'!$A$4:$AB$7,19,FALSE),""))),1,0)+IF(VLOOKUP(C7,'Valeurs Règlement Campagne'!$A$4:$AB$7,19,FALSE)=IF(ABS(G7-VLOOKUP(C7,'Valeurs Règlement Campagne'!$A$4:$AB$7,17,FALSE))<=2,VLOOKUP(C7,'Valeurs Règlement Campagne'!$A$4:$AB$7,17,FALSE),IF(ABS(G7-VLOOKUP(C7,'Valeurs Règlement Campagne'!$A$4:$AB$7,18,FALSE))<=2,VLOOKUP(C7,'Valeurs Règlement Campagne'!$A$4:$AB$7,18,FALSE),IF(ABS(G7-VLOOKUP(C7,'Valeurs Règlement Campagne'!$A$4:$AB$7,19,FALSE))<=2,VLOOKUP(C7,'Valeurs Règlement Campagne'!$A$4:$AB$7,19,FALSE),""))),1,0)),1,0)),IF(IF(G7=VLOOKUP(C7,'Valeurs Règlement Campagne'!$A$4:$AB$7,17,FALSE),VLOOKUP(C7,'Valeurs Règlement Campagne'!$A$4:$AB$7,17,FALSE),IF(G7=VLOOKUP(C7,'Valeurs Règlement Campagne'!$A$4:$AB$7,18,FALSE),VLOOKUP(C7,'Valeurs Règlement Campagne'!$A$4:$AB$7,18,FALSE),IF(G7=VLOOKUP(C7,'Valeurs Règlement Campagne'!$A$4:$AB$7,19,FALSE),VLOOKUP(C7,'Valeurs Règlement Campagne'!$A$4:$AB$7,19,FALSE),"")))="",1,IF(COUNTIFS($C$6:C7,C7,$E$6:E7,"Connues",$G$6:G7,IF(G7=VLOOKUP(C7,'Valeurs Règlement Campagne'!$A$4:$AB$7,17,FALSE),VLOOKUP(C7,'Valeurs Règlement Campagne'!$A$4:$AB$7,17,FALSE),IF(G7=VLOOKUP(C7,'Valeurs Règlement Campagne'!$A$4:$AB$7,18,FALSE),VLOOKUP(C7,'Valeurs Règlement Campagne'!$A$4:$AB$7,18,FALSE),IF(G7=VLOOKUP(C7,'Valeurs Règlement Campagne'!$A$4:$AB$7,19,FALSE),VLOOKUP(C7,'Valeurs Règlement Campagne'!$A$4:$AB$7,19,FALSE),""))))>(IF(VLOOKUP(C7,'Valeurs Règlement Campagne'!$A$4:$AB$7,17,FALSE)=IF(G7=VLOOKUP(C7,'Valeurs Règlement Campagne'!$A$4:$AB$7,17,FALSE),VLOOKUP(C7,'Valeurs Règlement Campagne'!$A$4:$AB$7,17,FALSE),IF(G7=VLOOKUP(C7,'Valeurs Règlement Campagne'!$A$4:$AB$7,18,FALSE),VLOOKUP(C7,'Valeurs Règlement Campagne'!$A$4:$AB$7,18,FALSE),IF(G7=VLOOKUP(C7,'Valeurs Règlement Campagne'!$A$4:$AB$7,19,FALSE),VLOOKUP(C7,'Valeurs Règlement Campagne'!$A$4:$AB$7,19,FALSE),""))),1,0)+IF(VLOOKUP(C7,'Valeurs Règlement Campagne'!$A$4:$AB$7,18,FALSE)=IF(G7=VLOOKUP(C7,'Valeurs Règlement Campagne'!$A$4:$AB$7,17,FALSE),VLOOKUP(C7,'Valeurs Règlement Campagne'!$A$4:$AB$7,17,FALSE),IF(G7=VLOOKUP(C7,'Valeurs Règlement Campagne'!$A$4:$AB$7,18,FALSE),VLOOKUP(C7,'Valeurs Règlement Campagne'!$A$4:$AB$7,18,FALSE),IF(G7=VLOOKUP(C7,'Valeurs Règlement Campagne'!$A$4:$AB$7,19,FALSE),VLOOKUP(C7,'Valeurs Règlement Campagne'!$A$4:$AB$7,19,FALSE),""))),1,0)+IF(VLOOKUP(C7,'Valeurs Règlement Campagne'!$A$4:$AB$7,19,FALSE)=IF(G7=VLOOKUP(C7,'Valeurs Règlement Campagne'!$A$4:$AB$7,17,FALSE),VLOOKUP(C7,'Valeurs Règlement Campagne'!$A$4:$AB$7,17,FALSE),IF(G7=VLOOKUP(C7,'Valeurs Règlement Campagne'!$A$4:$AB$7,18,FALSE),VLOOKUP(C7,'Valeurs Règlement Campagne'!$A$4:$AB$7,18,FALSE),IF(G7=VLOOKUP(C7,'Valeurs Règlement Campagne'!$A$4:$AB$7,19,FALSE),VLOOKUP(C7,'Valeurs Règlement Campagne'!$A$4:$AB$7,19,FALSE),""))),1,0)),1,0))),0))),0) -> 0 | AK7: =IFERROR(IF(OR(C7="",C7=" ",NOT(ISNUMBER(H7))),0,IF(E7="Inconnues",IF(AND(H7>=P7,H7<=Q7),0,1),IF(E7="Connues",IF('Valeurs Règlement Campagne'!$L$14="OUI",IF(IF(ABS(H7-VLOOKUP(C7,'Valeurs Règlement Campagne'!$A$4:$AB$7,20,FALSE))<=2,VLOOKUP(C7,'Valeurs Règlement Campagne'!$A$4:$AB$7,20,FALSE),IF(ABS(H7-VLOOKUP(C7,'Valeurs Règlement Campagne'!$A$4:$AB$7,21,FALSE))<=2,VLOOKUP(C7,'Valeurs Règlement Campagne'!$A$4:$AB$7,21,FALSE),IF(ABS(H7-VLOOKUP(C7,'Valeurs Règlement Campagne'!$A$4:$AB$7,22,FALSE))<=2,VLOOKUP(C7,'Valeurs Règlement Campagne'!$A$4:$AB$7,22,FALSE),"")))="",1,IF(COUNTIFS($C$6:C7,C7,$E$6:E7,"Connues",$H$6:H7,">="&(IF(ABS(H7-VLOOKUP(C7,'Valeurs Règlement Campagne'!$A$4:$AB$7,20,FALSE))<=2,VLOOKUP(C7,'Valeurs Règlement Campagne'!$A$4:$AB$7,20,FALSE),IF(ABS(H7-VLOOKUP(C7,'Valeurs Règlement Campagne'!$A$4:$AB$7,21,FALSE))<=2,VLOOKUP(C7,'Valeurs Règlement Campagne'!$A$4:$AB$7,21,FALSE),IF(ABS(H7-VLOOKUP(C7,'Valeurs Règlement Campagne'!$A$4:$AB$7,22,FALSE))<=2,VLOOKUP(C7,'Valeurs Règlement Campagne'!$A$4:$AB$7,22,FALSE),"")))-2),$H$6:H7,"<="&(IF(ABS(H7-VLOOKUP(C7,'Valeurs Règlement Campagne'!$A$4:$AB$7,20,FALSE))<=2,VLOOKUP(C7,'Valeurs Règlement Campagne'!$A$4:$AB$7,20,FALSE),IF(ABS(H7-VLOOKUP(C7,'Valeurs Règlement Campagne'!$A$4:$AB$7,21,FALSE))<=2,VLOOKUP(C7,'Valeurs Règlement Campagne'!$A$4:$AB$7,21,FALSE),IF(ABS(H7-VLOOKUP(C7,'Valeurs Règlement Campagne'!$A$4:$AB$7,22,FALSE))<=2,VLOOKUP(C7,'Valeurs Règlement Campagne'!$A$4:$AB$7,22,FALSE),"")))+2))>(IF(VLOOKUP(C7,'Valeurs Règlement Campagne'!$A$4:$AB$7,20,FALSE)=IF(ABS(H7-VLOOKUP(C7,'Valeurs Règlement Campagne'!$A$4:$AB$7,20,FALSE))<=2,VLOOKUP(C7,'Valeurs Règlement Campagne'!$A$4:$AB$7,20,FALSE),IF(ABS(H7-VLOOKUP(C7,'Valeurs Règlement Campagne'!$A$4:$AB$7,21,FALSE))<=2,VLOOKUP(C7,'Valeurs Règlement Campagne'!$A$4:$AB$7,21,FALSE),IF(ABS(H7-VLOOKUP(C7,'Valeurs Règlement Campagne'!$A$4:$AB$7,22,FALSE))<=2,VLOOKUP(C7,'Valeurs Règlement Campagne'!$A$4:$AB$7,22,FALSE),""))),1,0)+IF(VLOOKUP(C7,'Valeurs Règlement Campagne'!$A$4:$AB$7,21,FALSE)=IF(ABS(H7-VLOOKUP(C7,'Valeurs Règlement Campagne'!$A$4:$AB$7,20,FALSE))<=2,VLOOKUP(C7,'Valeurs Règlement Campagne'!$A$4:$AB$7,20,FALSE),IF(ABS(H7-VLOOKUP(C7,'Valeurs Règlement Campagne'!$A$4:$AB$7,21,FALSE))<=2,VLOOKUP(C7,'Valeurs Règlement Campagne'!$A$4:$AB$7,21,FALSE),IF(ABS(H7-VLOOKUP(C7,'Valeurs Règlement Campagne'!$A$4:$AB$7,22,FALSE))<=2,VLOOKUP(C7,'Valeurs Règlement Campagne'!$A$4:$AB$7,22,FALSE),""))),1,0)+IF(VLOOKUP(C7,'Valeurs Règlement Campagne'!$A$4:$AB$7,22,FALSE)=IF(ABS(H7-VLOOKUP(C7,'Valeurs Règlement Campagne'!$A$4:$AB$7,20,FALSE))<=2,VLOOKUP(C7,'Valeurs Règlement Campagne'!$A$4:$AB$7,20,FALSE),IF(ABS(H7-VLOOKUP(C7,'Valeurs Règlement Campagne'!$A$4:$AB$7,21,FALSE))<=2,VLOOKUP(C7,'Valeurs Règlement Campagne'!$A$4:$AB$7,21,FALSE),IF(ABS(H7-VLOOKUP(C7,'Valeurs Règlement Campagne'!$A$4:$AB$7,22,FALSE))<=2,VLOOKUP(C7,'Valeurs Règlement Campagne'!$A$4:$AB$7,22,FALSE),""))),1,0)),1,0)),IF(IF(H7=VLOOKUP(C7,'Valeurs Règlement Campagne'!$A$4:$AB$7,20,FALSE),VLOOKUP(C7,'Valeurs Règlement Campagne'!$A$4:$AB$7,20,FALSE),IF(H7=VLOOKUP(C7,'Valeurs Règlement Campagne'!$A$4:$AB$7,21,FALSE),VLOOKUP(C7,'Valeurs Règlement Campagne'!$A$4:$AB$7,21,FALSE),IF(H7=VLOOKUP(C7,'Valeurs Règlement Campagne'!$A$4:$AB$7,22,FALSE),VLOOKUP(C7,'Valeurs Règlement Campagne'!$A$4:$AB$7,22,FALSE),"")))="",1,IF(COUNTIFS($C$6:C7,C7,$E$6:E7,"Connues",$H$6:H7,IF(H7=VLOOKUP(C7,'Valeurs Règlement Campagne'!$A$4:$AB$7,20,FALSE),VLOOKUP(C7,'Valeurs Règlement Campagne'!$A$4:$AB$7,20,FALSE),IF(H7=VLOOKUP(C7,'Valeurs Règlement Campagne'!$A$4:$AB$7,21,FALSE),VLOOKUP(C7,'Valeurs Règlement Campagne'!$A$4:$AB$7,21,FALSE),IF(H7=VLOOKUP(C7,'Valeurs Règlement Campagne'!$A$4:$AB$7,22,FALSE),VLOOKUP(C7,'Valeurs Règlement Campagne'!$A$4:$AB$7,22,FALSE),""))))>(IF(VLOOKUP(C7,'Valeurs Règlement Campagne'!$A$4:$AB$7,20,FALSE)=IF(H7=VLOOKUP(C7,'Valeurs Règlement Campagne'!$A$4:$AB$7,20,FALSE),VLOOKUP(C7,'Valeurs Règlement Campagne'!$A$4:$AB$7,20,FALSE),IF(H7=VLOOKUP(C7,'Valeurs Règlement Campagne'!$A$4:$AB$7,21,FALSE),VLOOKUP(C7,'Valeurs Règlement Campagne'!$A$4:$AB$7,21,FALSE),IF(H7=VLOOKUP(C7,'Valeurs Règlement Campagne'!$A$4:$AB$7,22,FALSE),VLOOKUP(C7,'Valeurs Règlement Campagne'!$A$4:$AB$7,22,FALSE),""))),1,0)+IF(VLOOKUP(C7,'Valeurs Règlement Campagne'!$A$4:$AB$7,21,FALSE)=IF(H7=VLOOKUP(C7,'Valeurs Règlement Campagne'!$A$4:$AB$7,20,FALSE),VLOOKUP(C7,'Valeurs Règlement Campagne'!$A$4:$AB$7,20,FALSE),IF(H7=VLOOKUP(C7,'Valeurs Règlement Campagne'!$A$4:$AB$7,21,FALSE),VLOOKUP(C7,'Valeurs Règlement Campagne'!$A$4:$AB$7,21,FALSE),IF(H7=VLOOKUP(C7,'Valeurs Règlement Campagne'!$A$4:$AB$7,22,FALSE),VLOOKUP(C7,'Valeurs Règlement Campagne'!$A$4:$AB$7,22,FALSE),""))),1,0)+IF(VLOOKUP(C7,'Valeurs Règlement Campagne'!$A$4:$AB$7,22,FALSE)=IF(H7=VLOOKUP(C7,'Valeurs Règlement Campagne'!$A$4:$AB$7,20,FALSE),VLOOKUP(C7,'Valeurs Règlement Campagne'!$A$4:$AB$7,20,FALSE),IF(H7=VLOOKUP(C7,'Valeurs Règlement Campagne'!$A$4:$AB$7,21,FALSE),VLOOKUP(C7,'Valeurs Règlement Campagne'!$A$4:$AB$7,21,FALSE),IF(H7=VLOOKUP(C7,'Valeurs Règlement Campagne'!$A$4:$AB$7,22,FALSE),VLOOKUP(C7,'Valeurs Règlement Campagne'!$A$4:$AB$7,22,FALSE),""))),1,0)),1,0))),0))),0) -> 0 | AL7: =IFERROR(IF(OR(C7="",C7=" ",NOT(ISNUMBER(I7))),0,IF(E7="Inconnues",IF(AND(I7>=P7,I7<=R7),0,1),IF(E7="Connues",IF('Valeurs Règlement Campagne'!$L$14="OUI",IF(IF(ABS(I7-VLOOKUP(C7,'Valeurs Règlement Campagne'!$A$4:$AB$7,23,FALSE))<=2,VLOOKUP(C7,'Valeurs Règlement Campagne'!$A$4:$AB$7,23,FALSE),IF(ABS(I7-VLOOKUP(C7,'Valeurs Règlement Campagne'!$A$4:$AB$7,24,FALSE))<=2,VLOOKUP(C7,'Valeurs Règlement Campagne'!$A$4:$AB$7,24,FALSE),IF(ABS(I7-VLOOKUP(C7,'Valeurs Règlement Campagne'!$A$4:$AB$7,25,FALSE))<=2,VLOOKUP(C7,'Valeurs Règlement Campagne'!$A$4:$AB$7,25,FALSE),"")))="",1,IF(COUNTIFS($C$6:C7,C7,$E$6:E7,"Connues",$I$6:I7,">="&(IF(ABS(I7-VLOOKUP(C7,'Valeurs Règlement Campagne'!$A$4:$AB$7,23,FALSE))<=2,VLOOKUP(C7,'Valeurs Règlement Campagne'!$A$4:$AB$7,23,FALSE),IF(ABS(I7-VLOOKUP(C7,'Valeurs Règlement Campagne'!$A$4:$AB$7,24,FALSE))<=2,VLOOKUP(C7,'Valeurs Règlement Campagne'!$A$4:$AB$7,24,FALSE),IF(ABS(I7-VLOOKUP(C7,'Valeurs Règlement Campagne'!$A$4:$AB$7,25,FALSE))<=2,VLOOKUP(C7,'Valeurs Règlement Campagne'!$A$4:$AB$7,25,FALSE),"")))-2),$I$6:I7,"<="&(IF(ABS(I7-VLOOKUP(C7,'Valeurs Règlement Campagne'!$A$4:$AB$7,23,FALSE))<=2,VLOOKUP(C7,'Valeurs Règlement Campagne'!$A$4:$AB$7,23,FALSE),IF(ABS(I7-VLOOKUP(C7,'Valeurs Règlement Campagne'!$A$4:$AB$7,24,FALSE))<=2,VLOOKUP(C7,'Valeurs Règlement Campagne'!$A$4:$AB$7,24,FALSE),IF(ABS(I7-VLOOKUP(C7,'Valeurs Règlement Campagne'!$A$4:$AB$7,25,FALSE))<=2,VLOOKUP(C7,'Valeurs Règlement Campagne'!$A$4:$AB$7,25,FALSE),"")))+2))>(IF(VLOOKUP(C7,'Valeurs Règlement Campagne'!$A$4:$AB$7,23,FALSE)=IF(ABS(I7-VLOOKUP(C7,'Valeurs Règlement Campagne'!$A$4:$AB$7,23,FALSE))<=2,VLOOKUP(C7,'Valeurs Règlement Campagne'!$A$4:$AB$7,23,FALSE),IF(ABS(I7-VLOOKUP(C7,'Valeurs Règlement Campagne'!$A$4:$AB$7,24,FALSE))<=2,VLOOKUP(C7,'Valeurs Règlement Campagne'!$A$4:$AB$7,24,FALSE),IF(ABS(I7-VLOOKUP(C7,'Valeurs Règlement Campagne'!$A$4:$AB$7,25,FALSE))<=2,VLOOKUP(C7,'Valeurs Règlement Campagne'!$A$4:$AB$7,25,FALSE),""))),1,0)+IF(VLOOKUP(C7,'Valeurs Règlement Campagne'!$A$4:$AB$7,24,FALSE)=IF(ABS(I7-VLOOKUP(C7,'Valeurs Règlement Campagne'!$A$4:$AB$7,23,FALSE))<=2,VLOOKUP(C7,'Valeurs Règlement Campagne'!$A$4:$AB$7,23,FALSE),IF(ABS(I7-VLOOKUP(C7,'Valeurs Règlement Campagne'!$A$4:$AB$7,24,FALSE))<=2,VLOOKUP(C7,'Valeurs Règlement Campagne'!$A$4:$AB$7,24,FALSE),IF(ABS(I7-VLOOKUP(C7,'Valeurs Règlement Campagne'!$A$4:$AB$7,25,FALSE))<=2,VLOOKUP(C7,'Valeurs Règlement Campagne'!$A$4:$AB$7,25,FALSE),""))),1,0)+IF(VLOOKUP(C7,'Valeurs Règlement Campagne'!$A$4:$AB$7,25,FALSE)=IF(ABS(I7-VLOOKUP(C7,'Valeurs Règlement Campagne'!$A$4:$AB$7,23,FALSE))<=2,VLOOKUP(C7,'Valeurs Règlement Campagne'!$A$4:$AB$7,23,FALSE),IF(ABS(I7-VLOOKUP(C7,'Valeurs Règlement Campagne'!$A$4:$AB$7,24,FALSE))<=2,VLOOKUP(C7,'Valeurs Règlement Campagne'!$A$4:$AB$7,24,FALSE),IF(ABS(I7-VLOOKUP(C7,'Valeurs Règlement Campagne'!$A$4:$AB$7,25,FALSE))<=2,VLOOKUP(C7,'Valeurs Règlement Campagne'!$A$4:$AB$7,25,FALSE),""))),1,0)),1,0)),IF(IF(I7=VLOOKUP(C7,'Valeurs Règlement Campagne'!$A$4:$AB$7,23,FALSE),VLOOKUP(C7,'Valeurs Règlement Campagne'!$A$4:$AB$7,23,FALSE),IF(I7=VLOOKUP(C7,'Valeurs Règlement Campagne'!$A$4:$AB$7,24,FALSE),VLOOKUP(C7,'Valeurs Règlement Campagne'!$A$4:$AB$7,24,FALSE),IF(I7=VLOOKUP(C7,'Valeurs Règlement Campagne'!$A$4:$AB$7,25,FALSE),VLOOKUP(C7,'Valeurs Règlement Campagne'!$A$4:$AB$7,25,FALSE),"")))="",1,IF(COUNTIFS($C$6:C7,C7,$E$6:E7,"Connues",$I$6:I7,IF(I7=VLOOKUP(C7,'Valeurs Règlement Campagne'!$A$4:$AB$7,23,FALSE),VLOOKUP(C7,'Valeurs Règlement Campagne'!$A$4:$AB$7,23,FALSE),IF(I7=VLOOKUP(C7,'Valeurs Règlement Campagne'!$A$4:$AB$7,24,FALSE),VLOOKUP(C7,'Valeurs Règlement Campagne'!$A$4:$AB$7,24,FALSE),IF(I7=VLOOKUP(C7,'Valeurs Règlement Campagne'!$A$4:$AB$7,25,FALSE),VLOOKUP(C7,'Valeurs Règlement Campagne'!$A$4:$AB$7,25,FALSE),""))))>(IF(VLOOKUP(C7,'Valeurs Règlement Campagne'!$A$4:$AB$7,23,FALSE)=IF(I7=VLOOKUP(C7,'Valeurs Règlement Campagne'!$A$4:$AB$7,23,FALSE),VLOOKUP(C7,'Valeurs Règlement Campagne'!$A$4:$AB$7,23,FALSE),IF(I7=VLOOKUP(C7,'Valeurs Règlement Campagne'!$A$4:$AB$7,24,FALSE),VLOOKUP(C7,'Valeurs Règlement Campagne'!$A$4:$AB$7,24,FALSE),IF(I7=VLOOKUP(C7,'Valeurs Règlement Campagne'!$A$4:$AB$7,25,FALSE),VLOOKUP(C7,'Valeurs Règlement Campagne'!$A$4:$AB$7,25,FALSE),""))),1,0)+IF(VLOOKUP(C7,'Valeurs Règlement Campagne'!$A$4:$AB$7,24,FALSE)=IF(I7=VLOOKUP(C7,'Valeurs Règlement Campagne'!$A$4:$AB$7,23,FALSE),VLOOKUP(C7,'Valeurs Règlement Campagne'!$A$4:$AB$7,23,FALSE),IF(I7=VLOOKUP(C7,'Valeurs Règlement Campagne'!$A$4:$AB$7,24,FALSE),VLOOKUP(C7,'Valeurs Règlement Campagne'!$A$4:$AB$7,24,FALSE),IF(I7=VLOOKUP(C7,'Valeurs Règlement Campagne'!$A$4:$AB$7,25,FALSE),VLOOKUP(C7,'Valeurs Règlement Campagne'!$A$4:$AB$7,25,FALSE),""))),1,0)+IF(VLOOKUP(C7,'Valeurs Règlement Campagne'!$A$4:$AB$7,25,FALSE)=IF(I7=VLOOKUP(C7,'Valeurs Règlement Campagne'!$A$4:$AB$7,23,FALSE),VLOOKUP(C7,'Valeurs Règlement Campagne'!$A$4:$AB$7,23,FALSE),IF(I7=VLOOKUP(C7,'Valeurs Règlement Campagne'!$A$4:$AB$7,24,FALSE),VLOOKUP(C7,'Valeurs Règlement Campagne'!$A$4:$AB$7,24,FALSE),IF(I7=VLOOKUP(C7,'Valeurs Règlement Campagne'!$A$4:$AB$7,25,FALSE),VLOOKUP(C7,'Valeurs Règlement Campagne'!$A$4:$AB$7,25,FALSE),""))),1,0)),1,0))),0))),0) -> 0 | AM7: =IFERROR(IF(OR(C7="",C7=" ",NOT(ISNUMBER(J7))),0,IF(E7="Inconnues",IF(AND(J7>=S7,J7<=T7),0,1),IF(E7="Connues",IF('Valeurs Règlement Campagne'!$L$14="OUI",IF(IF(ABS(J7-VLOOKUP(C7,'Valeurs Règlement Campagne'!$A$4:$AB$7,26,FALSE))<=2,VLOOKUP(C7,'Valeurs Règlement Campagne'!$A$4:$AB$7,26,FALSE),IF(ABS(J7-VLOOKUP(C7,'Valeurs Règlement Campagne'!$A$4:$AB$7,27,FALSE))<=2,VLOOKUP(C7,'Valeurs Règlement Campagne'!$A$4:$AB$7,27,FALSE),IF(ABS(J7-VLOOKUP(C7,'Valeurs Règlement Campagne'!$A$4:$AB$7,28,FALSE))<=2,VLOOKUP(C7,'Valeurs Règlement Campagne'!$A$4:$AB$7,28,FALSE),"")))="",1,IF(COUNTIFS($C$6:C7,C7,$E$6:E7,"Connues",$J$6:J7,">="&(IF(ABS(J7-VLOOKUP(C7,'Valeurs Règlement Campagne'!$A$4:$AB$7,26,FALSE))<=2,VLOOKUP(C7,'Valeurs Règlement Campagne'!$A$4:$AB$7,26,FALSE),IF(ABS(J7-VLOOKUP(C7,'Valeurs Règlement Campagne'!$A$4:$AB$7,27,FALSE))<=2,VLOOKUP(C7,'Valeurs Règlement Campagne'!$A$4:$AB$7,27,FALSE),IF(ABS(J7-VLOOKUP(C7,'Valeurs Règlement Campagne'!$A$4:$AB$7,28,FALSE))<=2,VLOOKUP(C7,'Valeurs Règlement Campagne'!$A$4:$AB$7,28,FALSE),"")))-2),$J$6:J7,"<="&(IF(ABS(J7-VLOOKUP(C7,'Valeurs Règlement Campagne'!$A$4:$AB$7,26,FALSE))<=2,VLOOKUP(C7,'Valeurs Règlement Campagne'!$A$4:$AB$7,26,FALSE),IF(ABS(J7-VLOOKUP(C7,'Valeurs Règlement Campagne'!$A$4:$AB$7,27,FALSE))<=2,VLOOKUP(C7,'Valeurs Règlement Campagne'!$A$4:$AB$7,27,FALSE),IF(ABS(J7-VLOOKUP(C7,'Valeurs Règlement Campagne'!$A$4:$AB$7,28,FALSE))<=2,VLOOKUP(C7,'Valeurs Règlement Campagne'!$A$4:$AB$7,28,FALSE),"")))+2))>(IF(VLOOKUP(C7,'Valeurs Règlement Campagne'!$A$4:$AB$7,26,FALSE)=IF(ABS(J7-VLOOKUP(C7,'Valeurs Règlement Campagne'!$A$4:$AB$7,26,FALSE))<=2,VLOOKUP(C7,'Valeurs Règlement Campagne'!$A$4:$AB$7,26,FALSE),IF(ABS(J7-VLOOKUP(C7,'Valeurs Règlement Campagne'!$A$4:$AB$7,27,FALSE))<=2,VLOOKUP(C7,'Valeurs Règlement Campagne'!$A$4:$AB$7,27,FALSE),IF(ABS(J7-VLOOKUP(C7,'Valeurs Règlement Campagne'!$A$4:$AB$7,28,FALSE))<=2,VLOOKUP(C7,'Valeurs Règlement Campagne'!$A$4:$AB$7,28,FALSE),""))),1,0)+IF(VLOOKUP(C7,'Valeurs Règlement Campagne'!$A$4:$AB$7,27,FALSE)=IF(ABS(J7-VLOOKUP(C7,'Valeurs Règlement Campagne'!$A$4:$AB$7,26,FALSE))<=2,VLOOKUP(C7,'Valeurs Règlement Campagne'!$A$4:$AB$7,26,FALSE),IF(ABS(J7-VLOOKUP(C7,'Valeurs Règlement Campagne'!$A$4:$AB$7,27,FALSE))<=2,VLOOKUP(C7,'Valeurs Règlement Campagne'!$A$4:$AB$7,27,FALSE),IF(ABS(J7-VLOOKUP(C7,'Valeurs Règlement Campagne'!$A$4:$AB$7,28,FALSE))<=2,VLOOKUP(C7,'Valeurs Règlement Campagne'!$A$4:$AB$7,28,FALSE),""))),1,0)+IF(VLOOKUP(C7,'Valeurs Règlement Campagne'!$A$4:$AB$7,28,FALSE)=IF(ABS(J7-VLOOKUP(C7,'Valeurs Règlement Campagne'!$A$4:$AB$7,26,FALSE))<=2,VLOOKUP(C7,'Valeurs Règlement Campagne'!$A$4:$AB$7,26,FALSE),IF(ABS(J7-VLOOKUP(C7,'Valeurs Règlement Campagne'!$A$4:$AB$7,27,FALSE))<=2,VLOOKUP(C7,'Valeurs Règlement Campagne'!$A$4:$AB$7,27,FALSE),IF(ABS(J7-VLOOKUP(C7,'Valeurs Règlement Campagne'!$A$4:$AB$7,28,FALSE))<=2,VLOOKUP(C7,'Valeurs Règlement Campagne'!$A$4:$AB$7,28,FALSE),""))),1,0)),1,0)),IF(IF(J7=VLOOKUP(C7,'Valeurs Règlement Campagne'!$A$4:$AB$7,26,FALSE),VLOOKUP(C7,'Valeurs Règlement Campagne'!$A$4:$AB$7,26,FALSE),IF(J7=VLOOKUP(C7,'Valeurs Règlement Campagne'!$A$4:$AB$7,27,FALSE),VLOOKUP(C7,'Valeurs Règlement Campagne'!$A$4:$AB$7,27,FALSE),IF(J7=VLOOKUP(C7,'Valeurs Règlement Campagne'!$A$4:$AB$7,28,FALSE),VLOOKUP(C7,'Valeurs Règlement Campagne'!$A$4:$AB$7,28,FALSE),"")))="",1,IF(COUNTIFS($C$6:C7,C7,$E$6:E7,"Connues",$J$6:J7,IF(J7=VLOOKUP(C7,'Valeurs Règlement Campagne'!$A$4:$AB$7,26,FALSE),VLOOKUP(C7,'Valeurs Règlement Campagne'!$A$4:$AB$7,26,FALSE),IF(J7=VLOOKUP(C7,'Valeurs Règlement Campagne'!$A$4:$AB$7,27,FALSE),VLOOKUP(C7,'Valeurs Règlement Campagne'!$A$4:$AB$7,27,FALSE),IF(J7=VLOOKUP(C7,'Valeurs Règlement Campagne'!$A$4:$AB$7,28,FALSE),VLOOKUP(C7,'Valeurs Règlement Campagne'!$A$4:$AB$7,28,FALSE),""))))>(IF(VLOOKUP(C7,'Valeurs Règlement Campagne'!$A$4:$AB$7,26,FALSE)=IF(J7=VLOOKUP(C7,'Valeurs Règlement Campagne'!$A$4:$AB$7,26,FALSE),VLOOKUP(C7,'Valeurs Règlement Campagne'!$A$4:$AB$7,26,FALSE),IF(J7=VLOOKUP(C7,'Valeurs Règlement Campagne'!$A$4:$AB$7,27,FALSE),VLOOKUP(C7,'Valeurs Règlement Campagne'!$A$4:$AB$7,27,FALSE),IF(J7=VLOOKUP(C7,'Valeurs Règlement Campagne'!$A$4:$AB$7,28,FALSE),VLOOKUP(C7,'Valeurs Règlement Campagne'!$A$4:$AB$7,28,FALSE),""))),1,0)+IF(VLOOKUP(C7,'Valeurs Règlement Campagne'!$A$4:$AB$7,27,FALSE)=IF(J7=VLOOKUP(C7,'Valeurs Règlement Campagne'!$A$4:$AB$7,26,FALSE),VLOOKUP(C7,'Valeurs Règlement Campagne'!$A$4:$AB$7,26,FALSE),IF(J7=VLOOKUP(C7,'Valeurs Règlement Campagne'!$A$4:$AB$7,27,FALSE),VLOOKUP(C7,'Valeurs Règlement Campagne'!$A$4:$AB$7,27,FALSE),IF(J7=VLOOKUP(C7,'Valeurs Règlement Campagne'!$A$4:$AB$7,28,FALSE),VLOOKUP(C7,'Valeurs Règlement Campagne'!$A$4:$AB$7,28,FALSE),""))),1,0)+IF(VLOOKUP(C7,'Valeurs Règlement Campagne'!$A$4:$AB$7,28,FALSE)=IF(J7=VLOOKUP(C7,'Valeurs Règlement Campagne'!$A$4:$AB$7,26,FALSE),VLOOKUP(C7,'Valeurs Règlement Campagne'!$A$4:$AB$7,26,FALSE),IF(J7=VLOOKUP(C7,'Valeurs Règlement Campagne'!$A$4:$AB$7,27,FALSE),VLOOKUP(C7,'Valeurs Règlement Campagne'!$A$4:$AB$7,27,FALSE),IF(J7=VLOOKUP(C7,'Valeurs Règlement Campagne'!$A$4:$AB$7,28,FALSE),VLOOKUP(C7,'Valeurs Règlement Campagne'!$A$4:$AB$7,28,FALSE),""))),1,0)),1,0))),0))),0) -> 0
A8: 3 | L8: =IF($E8=0," ",IF($E8=$D$31,VLOOKUP($C8,'Valeurs Règlement Campagne'!$A$4:$AB$7,14,FALSE),VLOOKUP($C8,'Valeurs Règlement Campagne'!$A$4:$M$7,4,FALSE))) | M8: =IF($E8=0," ",IF($E8=$D$31,VLOOKUP($C8,'Valeurs Règlement Campagne'!$A$4:$AB$7,16,FALSE),VLOOKUP($C8,'Valeurs Règlement Campagne'!$A$4:$AB$7,5,FALSE))) | N8: =IF($E8=0," ",IF($E8=$D$31,VLOOKUP($C8,'Valeurs Règlement Campagne'!$A$4:$AB$7,17,FALSE),VLOOKUP($C8,'Valeurs Règlement Campagne'!$A$4:$AB$7,6,FALSE))) | O8: =IF($E8=0," ",IF($E8=$D$31,VLOOKUP($C8,'Valeurs Règlement Campagne'!$A$4:$AB$7,19,FALSE),VLOOKUP($C8,'Valeurs Règlement Campagne'!$A$4:$AB$7,7,FALSE))) | P8: =IF($E8=0," ",IF($E8=$D$31,VLOOKUP($C8,'Valeurs Règlement Campagne'!$A$4:$AB$7,20,FALSE),VLOOKUP($C8,'Valeurs Règlement Campagne'!$A$4:$AB$7,8,FALSE))) | Q8: =IF($E8=0," ",IF($E8=$D$31,VLOOKUP($C8,'Valeurs Règlement Campagne'!$A$4:$AB$7,22,FALSE),VLOOKUP($C8,'Valeurs Règlement Campagne'!$A$4:$AB$7,9,FALSE))) | R8: =IF($E8=0," ",IF($E8=$D$31,VLOOKUP($C8,'Valeurs Règlement Campagne'!$A$4:$AB$7,25,FALSE),VLOOKUP($C8,'Valeurs Règlement Campagne'!$A$4:$AB$7,11,FALSE))) | S8: =IF($E8=0," ",IF($E8=$D$31,VLOOKUP($C8,'Valeurs Règlement Campagne'!$A$4:$AB$7,26,FALSE),VLOOKUP($C8,'Valeurs Règlement Campagne'!$A$4:$AB$7,12,FALSE))) | T8: =IF($E8=0," ",IF($E8=$D$31,VLOOKUP($C8,'Valeurs Règlement Campagne'!$A$4:$AB$7,28,FALSE),VLOOKUP($C8,'Valeurs Règlement Campagne'!$A$4:$AB$7,13,FALSE))) | U8: {=IFERROR(IF(OR(C8="",C8=" ")," ",IF(NOT(ISNUMBER(F8))," ",IF(E8="Inconnues",AND(F8>=L8,F8<=M8),IF(E8="Connues",IF('Valeurs Règlement Campagne'!$L$14="OUI",IF(IF(ABS(F8-VLOOKUP(C8,'Valeurs Règlement Campagne'!$A$4:$AB$7,14,FALSE))<=2,VLOOKUP(C8,'Valeurs Règlement Campagne'!$A$4:$AB$7,14,FALSE),IF(ABS(F8-VLOOKUP(C8,'Valeurs Règlement Campagne'!$A$4:$AB$7,15,FALSE))<=2,VLOOKUP(C8,'Valeurs Règlement Campagne'!$A$4:$AB$7,15,FALSE),IF(ABS(F8-VLOOKUP(C8,'Valeurs Règlement Campagne'!$A$4:$AB$7,16,FALSE))<=2,VLOOKUP(C8,'Valeurs Règlement Campagne'!$A$4:$AB$7,16,FALSE),"")))="",FALSE,IF(COUNTIFS($C$6:C8,C8,$E$6:E8,"Connues",$F$6:F8,">="&(IF(ABS(F8-VLOOKUP(C8,'Valeurs Règlement Campagne'!$A$4:$AB$7,14,FALSE))<=2,VLOOKUP(C8,'Valeurs Règlement Campagne'!$A$4:$AB$7,14,FALSE),IF(ABS(F8-VLOOKUP(C8,'Valeurs Règlement Campagne'!$A$4:$AB$7,15,FALSE))<=2,VLOOKUP(C8,'Valeurs Règlement Campagne'!$A$4:$AB$7,15,FALSE),IF(ABS(F8-VLOOKUP(C8,'Valeurs Règlement Campagne'!$A$4:$AB$7,16,FALSE))<=2,VLOOKUP(C8,'Valeurs Règlement Campagne'!$A$4:$AB$7,16,FALSE),"")))-2),$F$6:F8,"<="&(IF(ABS(F8-VLOOKUP(C8,'Valeurs Règlement Campagne'!$A$4:$AB$7,14,FALSE))<=2,VLOOKUP(C8,'Valeurs Règlement Campagne'!$A$4:$AB$7,14,FALSE),IF(ABS(F8-VLOOKUP(C8,'Valeurs Règlement Campagne'!$A$4:$AB$7,15,FALSE))<=2,VLOOKUP(C8,'Valeurs Règlement Campagne'!$A$4:$AB$7,15,FALSE),IF(ABS(F8-VLOOKUP(C8,'Valeurs Règlement Campagne'!$A$4:$AB$7,16,FALSE))<=2,VLOOKUP(C8,'Valeurs Règlement Campagne'!$A$4:$AB$7,16,FALSE),"")))+2))>(IF(VLOOKUP(C8,'Valeurs Règlement Campagne'!$A$4:$AB$7,14,FALSE)=IF(ABS(F8-VLOOKUP(C8,'Valeurs Règlement Campagne'!$A$4:$AB$7,14,FALSE))<=2,VLOOKUP(C8,'Valeurs Règlement Campagne'!$A$4:$AB$7,14,FALSE),IF(ABS(F8-VLOOKUP(C8,'Valeurs Règlement Campagne'!$A$4:$AB$7,15,FALSE))<=2,VLOOKUP(C8,'Valeurs Règlement Campagne'!$A$4:$AB$7,15,FALSE),IF(ABS(F8-VLOOKUP(C8,'Valeurs Règlement Campagne'!$A$4:$AB$7,16,FALSE))<=2,VLOOKUP(C8,'Valeurs Règlement Campagne'!$A$4:$AB$7,16,FALSE),""))),1,0)+IF(VLOOKUP(C8,'Valeurs Règlement Campagne'!$A$4:$AB$7,15,FALSE)=IF(ABS(F8-VLOOKUP(C8,'Valeurs Règlement Campagne'!$A$4:$AB$7,14,FALSE))<=2,VLOOKUP(C8,'Valeurs Règlement Campagne'!$A$4:$AB$7,14,FALSE),IF(ABS(F8-VLOOKUP(C8,'Valeurs Règlement Campagne'!$A$4:$AB$7,15,FALSE))<=2,VLOOKUP(C8,'Valeurs Règlement Campagne'!$A$4:$AB$7,15,FALSE),IF(ABS(F8-VLOOKUP(C8,'Valeurs Règlement Campagne'!$A$4:$AB$7,16,FALSE))<=2,VLOOKUP(C8,'Valeurs Règlement Campagne'!$A$4:$AB$7,16,FALSE),""))),1,0)+IF(VLOOKUP(C8,'Valeurs Règlement Campagne'!$A$4:$AB$7,16,FALSE)=IF(ABS(F8-VLOOKUP(C8,'Valeurs Règlement Campagne'!$A$4:$AB$7,14,FALSE))<=2,VLOOKUP(C8,'Valeurs Règlement Campagne'!$A$4:$AB$7,14,FALSE),IF(ABS(F8-VLOOKUP(C8,'Valeurs Règlement Campagne'!$A$4:$AB$7,15,FALSE))<=2,VLOOKUP(C8,'Valeurs Règlement Campagne'!$A$4:$AB$7,15,FALSE),IF(ABS(F8-VLOOKUP(C8,'Valeurs Règlement Campagne'!$A$4:$AB$7,16,FALSE))<=2,VLOOKUP(C8,'Valeurs Règlement Campagne'!$A$4:$AB$7,16,FALSE),""))),1,0)),"Doublon",TRUE)),IF(IF(F8=VLOOKUP(C8,'Valeurs Règlement Campagne'!$A$4:$AB$7,14,FALSE),VLOOKUP(C8,'Valeurs Règlement Campagne'!$A$4:$AB$7,14,FALSE),IF(F8=VLOOKUP(C8,'Valeurs Règlement Campagne'!$A$4:$AB$7,15,FALSE),VLOOKUP(C8,'Valeurs Règlement Campagne'!$A$4:$AB$7,15,FALSE),IF(F8=VLOOKUP(C8,'Valeurs Règlement Campagne'!$A$4:$AB$7,16,FALSE),VLOOKUP(C8,'Valeurs Règlement Campagne'!$A$4:$AB$7,16,FALSE),"")))="",FALSE,IF(COUNTIFS($C$6:C8,C8,$E$6:E8,"Connues",$F$6:F8,IF(F8=VLOOKUP(C8,'Valeurs Règlement Campagne'!$A$4:$AB$7,14,FALSE),VLOOKUP(C8,'Valeurs Règlement Campagne'!$A$4:$AB$7,14,FALSE),IF(F8=VLOOKUP(C8,'Valeurs Règlement Campagne'!$A$4:$AB$7,15,FALSE),VLOOKUP(C8,'Valeurs Règlement Campagne'!$A$4:$AB$7,15,FALSE),IF(F8=VLOOKUP(C8,'Valeurs Règlement Campagne'!$A$4:$AB$7,16,FALSE),VLOOKUP(C8,'Valeurs Règlement Campagne'!$A$4:$AB$7,16,FALSE),""))))>(IF(VLOOKUP(C8,'Valeurs Règlement Campagne'!$A$4:$AB$7,14,FALSE)=IF(F8=VLOOKUP(C8,'Valeurs Règlement Campagne'!$A$4:$AB$7,14,FALSE),VLOOKUP(C8,'Valeurs Règlement Campagne'!$A$4:$AB$7,14,FALSE),IF(F8=VLOOKUP(C8,'Valeurs Règlement Campagne'!$A$4:$AB$7,15,FALSE),VLOOKUP(C8,'Valeurs Règlement Campagne'!$A$4:$AB$7,15,FALSE),IF(F8=VLOOKUP(C8,'Valeurs Règlement Campagne'!$A$4:$AB$7,16,FALSE),VLOOKUP(C8,'Valeurs Règlement Campagne'!$A$4:$AB$7,16,FALSE),""))),1,0)+IF(VLOOKUP(C8,'Valeurs Règlement Campagne'!$A$4:$AB$7,15,FALSE)=IF(F8=VLOOKUP(C8,'Valeurs Règlement Campagne'!$A$4:$AB$7,14,FALSE),VLOOKUP(C8,'Valeurs Règlement Campagne'!$A$4:$AB$7,14,FALSE),IF(F8=VLOOKUP(C8,'Valeurs Règlement Campagne'!$A$4:$AB$7,15,FALSE),VLOOKUP(C8,'Valeurs Règlement Campagne'!$A$4:$AB$7,15,FALSE),IF(F8=VLOOKUP(C8,'Valeurs Règlement Campagne'!$A$4:$AB$7,16,FALSE),VLOOKUP(C8,'Valeurs Règlement Campagne'!$A$4:$AB$7,16,FALSE),""))),1,0)+IF(VLOOKUP(C8,'Valeurs Règlement Campagne'!$A$4:$AB$7,16,FALSE)=IF(F8=VLOOKUP(C8,'Valeurs Règlement Campagne'!$A$4:$AB$7,14,FALSE),VLOOKUP(C8,'Valeurs Règlement Campagne'!$A$4:$AB$7,14,FALSE),IF(F8=VLOOKUP(C8,'Valeurs Règlement Campagne'!$A$4:$AB$7,15,FALSE),VLOOKUP(C8,'Valeurs Règlement Campagne'!$A$4:$AB$7,15,FALSE),IF(F8=VLOOKUP(C8,'Valeurs Règlement Campagne'!$A$4:$AB$7,16,FALSE),VLOOKUP(C8,'Valeurs Règlement Campagne'!$A$4:$AB$7,16,FALSE),""))),1,0)),"Doublon",TRUE)))," "))))," ")} | V8: {=IFERROR(IF(OR(C8="",C8=" ")," ",IF(NOT(ISNUMBER(G8))," ",IF(E8="Inconnues",AND(G8>=N8,G8<=O8),IF(E8="Connues",IF('Valeurs Règlement Campagne'!$L$14="OUI",IF(IF(ABS(G8-VLOOKUP(C8,'Valeurs Règlement Campagne'!$A$4:$AB$7,17,FALSE))<=2,VLOOKUP(C8,'Valeurs Règlement Campagne'!$A$4:$AB$7,17,FALSE),IF(ABS(G8-VLOOKUP(C8,'Valeurs Règlement Campagne'!$A$4:$AB$7,18,FALSE))<=2,VLOOKUP(C8,'Valeurs Règlement Campagne'!$A$4:$AB$7,18,FALSE),IF(ABS(G8-VLOOKUP(C8,'Valeurs Règlement Campagne'!$A$4:$AB$7,19,FALSE))<=2,VLOOKUP(C8,'Valeurs Règlement Campagne'!$A$4:$AB$7,19,FALSE),"")))="",FALSE,IF(COUNTIFS($C$6:C8,C8,$E$6:E8,"Connues",$G$6:G8,">="&(IF(ABS(G8-VLOOKUP(C8,'Valeurs Règlement Campagne'!$A$4:$AB$7,17,FALSE))<=2,VLOOKUP(C8,'Valeurs Règlement Campagne'!$A$4:$AB$7,17,FALSE),IF(ABS(G8-VLOOKUP(C8,'Valeurs Règlement Campagne'!$A$4:$AB$7,18,FALSE))<=2,VLOOKUP(C8,'Valeurs Règlement Campagne'!$A$4:$AB$7,18,FALSE),IF(ABS(G8-VLOOKUP(C8,'Valeurs Règlement Campagne'!$A$4:$AB$7,19,FALSE))<=2,VLOOKUP(C8,'Valeurs Règlement Campagne'!$A$4:$AB$7,19,FALSE),"")))-2),$G$6:G8,"<="&(IF(ABS(G8-VLOOKUP(C8,'Valeurs Règlement Campagne'!$A$4:$AB$7,17,FALSE))<=2,VLOOKUP(C8,'Valeurs Règlement Campagne'!$A$4:$AB$7,17,FALSE),IF(ABS(G8-VLOOKUP(C8,'Valeurs Règlement Campagne'!$A$4:$AB$7,18,FALSE))<=2,VLOOKUP(C8,'Valeurs Règlement Campagne'!$A$4:$AB$7,18,FALSE),IF(ABS(G8-VLOOKUP(C8,'Valeurs Règlement Campagne'!$A$4:$AB$7,19,FALSE))<=2,VLOOKUP(C8,'Valeurs Règlement Campagne'!$A$4:$AB$7,19,FALSE),"")))+2))>(IF(VLOOKUP(C8,'Valeurs Règlement Campagne'!$A$4:$AB$7,17,FALSE)=IF(ABS(G8-VLOOKUP(C8,'Valeurs Règlement Campagne'!$A$4:$AB$7,17,FALSE))<=2,VLOOKUP(C8,'Valeurs Règlement Campagne'!$A$4:$AB$7,17,FALSE),IF(ABS(G8-VLOOKUP(C8,'Valeurs Règlement Campagne'!$A$4:$AB$7,18,FALSE))<=2,VLOOKUP(C8,'Valeurs Règlement Campagne'!$A$4:$AB$7,18,FALSE),IF(ABS(G8-VLOOKUP(C8,'Valeurs Règlement Campagne'!$A$4:$AB$7,19,FALSE))<=2,VLOOKUP(C8,'Valeurs Règlement Campagne'!$A$4:$AB$7,19,FALSE),""))),1,0)+IF(VLOOKUP(C8,'Valeurs Règlement Campagne'!$A$4:$AB$7,18,FALSE)=IF(ABS(G8-VLOOKUP(C8,'Valeurs Règlement Campagne'!$A$4:$AB$7,17,FALSE))<=2,VLOOKUP(C8,'Valeurs Règlement Campagne'!$A$4:$AB$7,17,FALSE),IF(ABS(G8-VLOOKUP(C8,'Valeurs Règlement Campagne'!$A$4:$AB$7,18,FALSE))<=2,VLOOKUP(C8,'Valeurs Règlement Campagne'!$A$4:$AB$7,18,FALSE),IF(ABS(G8-VLOOKUP(C8,'Valeurs Règlement Campagne'!$A$4:$AB$7,19,FALSE))<=2,VLOOKUP(C8,'Valeurs Règlement Campagne'!$A$4:$AB$7,19,FALSE),""))),1,0)+IF(VLOOKUP(C8,'Valeurs Règlement Campagne'!$A$4:$AB$7,19,FALSE)=IF(ABS(G8-VLOOKUP(C8,'Valeurs Règlement Campagne'!$A$4:$AB$7,17,FALSE))<=2,VLOOKUP(C8,'Valeurs Règlement Campagne'!$A$4:$AB$7,17,FALSE),IF(ABS(G8-VLOOKUP(C8,'Valeurs Règlement Campagne'!$A$4:$AB$7,18,FALSE))<=2,VLOOKUP(C8,'Valeurs Règlement Campagne'!$A$4:$AB$7,18,FALSE),IF(ABS(G8-VLOOKUP(C8,'Valeurs Règlement Campagne'!$A$4:$AB$7,19,FALSE))<=2,VLOOKUP(C8,'Valeurs Règlement Campagne'!$A$4:$AB$7,19,FALSE),""))),1,0)),"Doublon",TRUE)),IF(IF(G8=VLOOKUP(C8,'Valeurs Règlement Campagne'!$A$4:$AB$7,17,FALSE),VLOOKUP(C8,'Valeurs Règlement Campagne'!$A$4:$AB$7,17,FALSE),IF(G8=VLOOKUP(C8,'Valeurs Règlement Campagne'!$A$4:$AB$7,18,FALSE),VLOOKUP(C8,'Valeurs Règlement Campagne'!$A$4:$AB$7,18,FALSE),IF(G8=VLOOKUP(C8,'Valeurs Règlement Campagne'!$A$4:$AB$7,19,FALSE),VLOOKUP(C8,'Valeurs Règlement Campagne'!$A$4:$AB$7,19,FALSE),"")))="",FALSE,IF(COUNTIFS($C$6:C8,C8,$E$6:E8,"Connues",$G$6:G8,IF(G8=VLOOKUP(C8,'Valeurs Règlement Campagne'!$A$4:$AB$7,17,FALSE),VLOOKUP(C8,'Valeurs Règlement Campagne'!$A$4:$AB$7,17,FALSE),IF(G8=VLOOKUP(C8,'Valeurs Règlement Campagne'!$A$4:$AB$7,18,FALSE),VLOOKUP(C8,'Valeurs Règlement Campagne'!$A$4:$AB$7,18,FALSE),IF(G8=VLOOKUP(C8,'Valeurs Règlement Campagne'!$A$4:$AB$7,19,FALSE),VLOOKUP(C8,'Valeurs Règlement Campagne'!$A$4:$AB$7,19,FALSE),""))))>(IF(VLOOKUP(C8,'Valeurs Règlement Campagne'!$A$4:$AB$7,17,FALSE)=IF(G8=VLOOKUP(C8,'Valeurs Règlement Campagne'!$A$4:$AB$7,17,FALSE),VLOOKUP(C8,'Valeurs Règlement Campagne'!$A$4:$AB$7,17,FALSE),IF(G8=VLOOKUP(C8,'Valeurs Règlement Campagne'!$A$4:$AB$7,18,FALSE),VLOOKUP(C8,'Valeurs Règlement Campagne'!$A$4:$AB$7,18,FALSE),IF(G8=VLOOKUP(C8,'Valeurs Règlement Campagne'!$A$4:$AB$7,19,FALSE),VLOOKUP(C8,'Valeurs Règlement Campagne'!$A$4:$AB$7,19,FALSE),""))),1,0)+IF(VLOOKUP(C8,'Valeurs Règlement Campagne'!$A$4:$AB$7,18,FALSE)=IF(G8=VLOOKUP(C8,'Valeurs Règlement Campagne'!$A$4:$AB$7,17,FALSE),VLOOKUP(C8,'Valeurs Règlement Campagne'!$A$4:$AB$7,17,FALSE),IF(G8=VLOOKUP(C8,'Valeurs Règlement Campagne'!$A$4:$AB$7,18,FALSE),VLOOKUP(C8,'Valeurs Règlement Campagne'!$A$4:$AB$7,18,FALSE),IF(G8=VLOOKUP(C8,'Valeurs Règlement Campagne'!$A$4:$AB$7,19,FALSE),VLOOKUP(C8,'Valeurs Règlement Campagne'!$A$4:$AB$7,19,FALSE),""))),1,0)+IF(VLOOKUP(C8,'Valeurs Règlement Campagne'!$A$4:$AB$7,19,FALSE)=IF(G8=VLOOKUP(C8,'Valeurs Règlement Campagne'!$A$4:$AB$7,17,FALSE),VLOOKUP(C8,'Valeurs Règlement Campagne'!$A$4:$AB$7,17,FALSE),IF(G8=VLOOKUP(C8,'Valeurs Règlement Campagne'!$A$4:$AB$7,18,FALSE),VLOOKUP(C8,'Valeurs Règlement Campagne'!$A$4:$AB$7,18,FALSE),IF(G8=VLOOKUP(C8,'Valeurs Règlement Campagne'!$A$4:$AB$7,19,FALSE),VLOOKUP(C8,'Valeurs Règlement Campagne'!$A$4:$AB$7,19,FALSE),""))),1,0)),"Doublon",TRUE)))," "))))," ")} | W8: {=IFERROR(IF(OR(C8="",C8=" ")," ",IF(NOT(ISNUMBER(H8))," ",IF(E8="Inconnues",AND(H8>=P8,H8<=Q8),IF(E8="Connues",IF('Valeurs Règlement Campagne'!$L$14="OUI",IF(IF(ABS(H8-VLOOKUP(C8,'Valeurs Règlement Campagne'!$A$4:$AB$7,20,FALSE))<=2,VLOOKUP(C8,'Valeurs Règlement Campagne'!$A$4:$AB$7,20,FALSE),IF(ABS(H8-VLOOKUP(C8,'Valeurs Règlement Campagne'!$A$4:$AB$7,21,FALSE))<=2,VLOOKUP(C8,'Valeurs Règlement Campagne'!$A$4:$AB$7,21,FALSE),IF(ABS(H8-VLOOKUP(C8,'Valeurs Règlement Campagne'!$A$4:$AB$7,22,FALSE))<=2,VLOOKUP(C8,'Valeurs Règlement Campagne'!$A$4:$AB$7,22,FALSE),"")))="",FALSE,IF(COUNTIFS($C$6:C8,C8,$E$6:E8,"Connues",$H$6:H8,">="&(IF(ABS(H8-VLOOKUP(C8,'Valeurs Règlement Campagne'!$A$4:$AB$7,20,FALSE))<=2,VLOOKUP(C8,'Valeurs Règlement Campagne'!$A$4:$AB$7,20,FALSE),IF(ABS(H8-VLOOKUP(C8,'Valeurs Règlement Campagne'!$A$4:$AB$7,21,FALSE))<=2,VLOOKUP(C8,'Valeurs Règlement Campagne'!$A$4:$AB$7,21,FALSE),IF(ABS(H8-VLOOKUP(C8,'Valeurs Règlement Campagne'!$A$4:$AB$7,22,FALSE))<=2,VLOOKUP(C8,'Valeurs Règlement Campagne'!$A$4:$AB$7,22,FALSE),"")))-2),$H$6:H8,"<="&(IF(ABS(H8-VLOOKUP(C8,'Valeurs Règlement Campagne'!$A$4:$AB$7,20,FALSE))<=2,VLOOKUP(C8,'Valeurs Règlement Campagne'!$A$4:$AB$7,20,FALSE),IF(ABS(H8-VLOOKUP(C8,'Valeurs Règlement Campagne'!$A$4:$AB$7,21,FALSE))<=2,VLOOKUP(C8,'Valeurs Règlement Campagne'!$A$4:$AB$7,21,FALSE),IF(ABS(H8-VLOOKUP(C8,'Valeurs Règlement Campagne'!$A$4:$AB$7,22,FALSE))<=2,VLOOKUP(C8,'Valeurs Règlement Campagne'!$A$4:$AB$7,22,FALSE),"")))+2))>(IF(VLOOKUP(C8,'Valeurs Règlement Campagne'!$A$4:$AB$7,20,FALSE)=IF(ABS(H8-VLOOKUP(C8,'Valeurs Règlement Campagne'!$A$4:$AB$7,20,FALSE))<=2,VLOOKUP(C8,'Valeurs Règlement Campagne'!$A$4:$AB$7,20,FALSE),IF(ABS(H8-VLOOKUP(C8,'Valeurs Règlement Campagne'!$A$4:$AB$7,21,FALSE))<=2,VLOOKUP(C8,'Valeurs Règlement Campagne'!$A$4:$AB$7,21,FALSE),IF(ABS(H8-VLOOKUP(C8,'Valeurs Règlement Campagne'!$A$4:$AB$7,22,FALSE))<=2,VLOOKUP(C8,'Valeurs Règlement Campagne'!$A$4:$AB$7,22,FALSE),""))),1,0)+IF(VLOOKUP(C8,'Valeurs Règlement Campagne'!$A$4:$AB$7,21,FALSE)=IF(ABS(H8-VLOOKUP(C8,'Valeurs Règlement Campagne'!$A$4:$AB$7,20,FALSE))<=2,VLOOKUP(C8,'Valeurs Règlement Campagne'!$A$4:$AB$7,20,FALSE),IF(ABS(H8-VLOOKUP(C8,'Valeurs Règlement Campagne'!$A$4:$AB$7,21,FALSE))<=2,VLOOKUP(C8,'Valeurs Règlement Campagne'!$A$4:$AB$7,21,FALSE),IF(ABS(H8-VLOOKUP(C8,'Valeurs Règlement Campagne'!$A$4:$AB$7,22,FALSE))<=2,VLOOKUP(C8,'Valeurs Règlement Campagne'!$A$4:$AB$7,22,FALSE),""))),1,0)+IF(VLOOKUP(C8,'Valeurs Règlement Campagne'!$A$4:$AB$7,22,FALSE)=IF(ABS(H8-VLOOKUP(C8,'Valeurs Règlement Campagne'!$A$4:$AB$7,20,FALSE))<=2,VLOOKUP(C8,'Valeurs Règlement Campagne'!$A$4:$AB$7,20,FALSE),IF(ABS(H8-VLOOKUP(C8,'Valeurs Règlement Campagne'!$A$4:$AB$7,21,FALSE))<=2,VLOOKUP(C8,'Valeurs Règlement Campagne'!$A$4:$AB$7,21,FALSE),IF(ABS(H8-VLOOKUP(C8,'Valeurs Règlement Campagne'!$A$4:$AB$7,22,FALSE))<=2,VLOOKUP(C8,'Valeurs Règlement Campagne'!$A$4:$AB$7,22,FALSE),""))),1,0)),"Doublon",TRUE)),IF(IF(H8=VLOOKUP(C8,'Valeurs Règlement Campagne'!$A$4:$AB$7,20,FALSE),VLOOKUP(C8,'Valeurs Règlement Campagne'!$A$4:$AB$7,20,FALSE),IF(H8=VLOOKUP(C8,'Valeurs Règlement Campagne'!$A$4:$AB$7,21,FALSE),VLOOKUP(C8,'Valeurs Règlement Campagne'!$A$4:$AB$7,21,FALSE),IF(H8=VLOOKUP(C8,'Valeurs Règlement Campagne'!$A$4:$AB$7,22,FALSE),VLOOKUP(C8,'Valeurs Règlement Campagne'!$A$4:$AB$7,22,FALSE),"")))="",FALSE,IF(COUNTIFS($C$6:C8,C8,$E$6:E8,"Connues",$H$6:H8,IF(H8=VLOOKUP(C8,'Valeurs Règlement Campagne'!$A$4:$AB$7,20,FALSE),VLOOKUP(C8,'Valeurs Règlement Campagne'!$A$4:$AB$7,20,FALSE),IF(H8=VLOOKUP(C8,'Valeurs Règlement Campagne'!$A$4:$AB$7,21,FALSE),VLOOKUP(C8,'Valeurs Règlement Campagne'!$A$4:$AB$7,21,FALSE),IF(H8=VLOOKUP(C8,'Valeurs Règlement Campagne'!$A$4:$AB$7,22,FALSE),VLOOKUP(C8,'Valeurs Règlement Campagne'!$A$4:$AB$7,22,FALSE),""))))>(IF(VLOOKUP(C8,'Valeurs Règlement Campagne'!$A$4:$AB$7,20,FALSE)=IF(H8=VLOOKUP(C8,'Valeurs Règlement Campagne'!$A$4:$AB$7,20,FALSE),VLOOKUP(C8,'Valeurs Règlement Campagne'!$A$4:$AB$7,20,FALSE),IF(H8=VLOOKUP(C8,'Valeurs Règlement Campagne'!$A$4:$AB$7,21,FALSE),VLOOKUP(C8,'Valeurs Règlement Campagne'!$A$4:$AB$7,21,FALSE),IF(H8=VLOOKUP(C8,'Valeurs Règlement Campagne'!$A$4:$AB$7,22,FALSE),VLOOKUP(C8,'Valeurs Règlement Campagne'!$A$4:$AB$7,22,FALSE),""))),1,0)+IF(VLOOKUP(C8,'Valeurs Règlement Campagne'!$A$4:$AB$7,21,FALSE)=IF(H8=VLOOKUP(C8,'Valeurs Règlement Campagne'!$A$4:$AB$7,20,FALSE),VLOOKUP(C8,'Valeurs Règlement Campagne'!$A$4:$AB$7,20,FALSE),IF(H8=VLOOKUP(C8,'Valeurs Règlement Campagne'!$A$4:$AB$7,21,FALSE),VLOOKUP(C8,'Valeurs Règlement Campagne'!$A$4:$AB$7,21,FALSE),IF(H8=VLOOKUP(C8,'Valeurs Règlement Campagne'!$A$4:$AB$7,22,FALSE),VLOOKUP(C8,'Valeurs Règlement Campagne'!$A$4:$AB$7,22,FALSE),""))),1,0)+IF(VLOOKUP(C8,'Valeurs Règlement Campagne'!$A$4:$AB$7,22,FALSE)=IF(H8=VLOOKUP(C8,'Valeurs Règlement Campagne'!$A$4:$AB$7,20,FALSE),VLOOKUP(C8,'Valeurs Règlement Campagne'!$A$4:$AB$7,20,FALSE),IF(H8=VLOOKUP(C8,'Valeurs Règlement Campagne'!$A$4:$AB$7,21,FALSE),VLOOKUP(C8,'Valeurs Règlement Campagne'!$A$4:$AB$7,21,FALSE),IF(H8=VLOOKUP(C8,'Valeurs Règlement Campagne'!$A$4:$AB$7,22,FALSE),VLOOKUP(C8,'Valeurs Règlement Campagne'!$A$4:$AB$7,22,FALSE),""))),1,0)),"Doublon",TRUE)))," "))))," ")} | X8: {=IFERROR(IF(OR(C8="",C8=" ")," ",IF(NOT(ISNUMBER(I8))," ",IF(E8="Inconnues",AND(I8>=P8,I8<=R8),IF(E8="Connues",IF('Valeurs Règlement Campagne'!$L$14="OUI",IF(IF(ABS(I8-VLOOKUP(C8,'Valeurs Règlement Campagne'!$A$4:$AB$7,23,FALSE))<=2,VLOOKUP(C8,'Valeurs Règlement Campagne'!$A$4:$AB$7,23,FALSE),IF(ABS(I8-VLOOKUP(C8,'Valeurs Règlement Campagne'!$A$4:$AB$7,24,FALSE))<=2,VLOOKUP(C8,'Valeurs Règlement Campagne'!$A$4:$AB$7,24,FALSE),IF(ABS(I8-VLOOKUP(C8,'Valeurs Règlement Campagne'!$A$4:$AB$7,25,FALSE))<=2,VLOOKUP(C8,'Valeurs Règlement Campagne'!$A$4:$AB$7,25,FALSE),"")))="",FALSE,IF(COUNTIFS($C$6:C8,C8,$E$6:E8,"Connues",$I$6:I8,">="&(IF(ABS(I8-VLOOKUP(C8,'Valeurs Règlement Campagne'!$A$4:$AB$7,23,FALSE))<=2,VLOOKUP(C8,'Valeurs Règlement Campagne'!$A$4:$AB$7,23,FALSE),IF(ABS(I8-VLOOKUP(C8,'Valeurs Règlement Campagne'!$A$4:$AB$7,24,FALSE))<=2,VLOOKUP(C8,'Valeurs Règlement Campagne'!$A$4:$AB$7,24,FALSE),IF(ABS(I8-VLOOKUP(C8,'Valeurs Règlement Campagne'!$A$4:$AB$7,25,FALSE))<=2,VLOOKUP(C8,'Valeurs Règlement Campagne'!$A$4:$AB$7,25,FALSE),"")))-2),$I$6:I8,"<="&(IF(ABS(I8-VLOOKUP(C8,'Valeurs Règlement Campagne'!$A$4:$AB$7,23,FALSE))<=2,VLOOKUP(C8,'Valeurs Règlement Campagne'!$A$4:$AB$7,23,FALSE),IF(ABS(I8-VLOOKUP(C8,'Valeurs Règlement Campagne'!$A$4:$AB$7,24,FALSE))<=2,VLOOKUP(C8,'Valeurs Règlement Campagne'!$A$4:$AB$7,24,FALSE),IF(ABS(I8-VLOOKUP(C8,'Valeurs Règlement Campagne'!$A$4:$AB$7,25,FALSE))<=2,VLOOKUP(C8,'Valeurs Règlement Campagne'!$A$4:$AB$7,25,FALSE),"")))+2))>(IF(VLOOKUP(C8,'Valeurs Règlement Campagne'!$A$4:$AB$7,23,FALSE)=IF(ABS(I8-VLOOKUP(C8,'Valeurs Règlement Campagne'!$A$4:$AB$7,23,FALSE))<=2,VLOOKUP(C8,'Valeurs Règlement Campagne'!$A$4:$AB$7,23,FALSE),IF(ABS(I8-VLOOKUP(C8,'Valeurs Règlement Campagne'!$A$4:$AB$7,24,FALSE))<=2,VLOOKUP(C8,'Valeurs Règlement Campagne'!$A$4:$AB$7,24,FALSE),IF(ABS(I8-VLOOKUP(C8,'Valeurs Règlement Campagne'!$A$4:$AB$7,25,FALSE))<=2,VLOOKUP(C8,'Valeurs Règlement Campagne'!$A$4:$AB$7,25,FALSE),""))),1,0)+IF(VLOOKUP(C8,'Valeurs Règlement Campagne'!$A$4:$AB$7,24,FALSE)=IF(ABS(I8-VLOOKUP(C8,'Valeurs Règlement Campagne'!$A$4:$AB$7,23,FALSE))<=2,VLOOKUP(C8,'Valeurs Règlement Campagne'!$A$4:$AB$7,23,FALSE),IF(ABS(I8-VLOOKUP(C8,'Valeurs Règlement Campagne'!$A$4:$AB$7,24,FALSE))<=2,VLOOKUP(C8,'Valeurs Règlement Campagne'!$A$4:$AB$7,24,FALSE),IF(ABS(I8-VLOOKUP(C8,'Valeurs Règlement Campagne'!$A$4:$AB$7,25,FALSE))<=2,VLOOKUP(C8,'Valeurs Règlement Campagne'!$A$4:$AB$7,25,FALSE),""))),1,0)+IF(VLOOKUP(C8,'Valeurs Règlement Campagne'!$A$4:$AB$7,25,FALSE)=IF(ABS(I8-VLOOKUP(C8,'Valeurs Règlement Campagne'!$A$4:$AB$7,23,FALSE))<=2,VLOOKUP(C8,'Valeurs Règlement Campagne'!$A$4:$AB$7,23,FALSE),IF(ABS(I8-VLOOKUP(C8,'Valeurs Règlement Campagne'!$A$4:$AB$7,24,FALSE))<=2,VLOOKUP(C8,'Valeurs Règlement Campagne'!$A$4:$AB$7,24,FALSE),IF(ABS(I8-VLOOKUP(C8,'Valeurs Règlement Campagne'!$A$4:$AB$7,25,FALSE))<=2,VLOOKUP(C8,'Valeurs Règlement Campagne'!$A$4:$AB$7,25,FALSE),""))),1,0)),"Doublon",TRUE)),IF(IF(I8=VLOOKUP(C8,'Valeurs Règlement Campagne'!$A$4:$AB$7,23,FALSE),VLOOKUP(C8,'Valeurs Règlement Campagne'!$A$4:$AB$7,23,FALSE),IF(I8=VLOOKUP(C8,'Valeurs Règlement Campagne'!$A$4:$AB$7,24,FALSE),VLOOKUP(C8,'Valeurs Règlement Campagne'!$A$4:$AB$7,24,FALSE),IF(I8=VLOOKUP(C8,'Valeurs Règlement Campagne'!$A$4:$AB$7,25,FALSE),VLOOKUP(C8,'Valeurs Règlement Campagne'!$A$4:$AB$7,25,FALSE),"")))="",FALSE,IF(COUNTIFS($C$6:C8,C8,$E$6:E8,"Connues",$I$6:I8,IF(I8=VLOOKUP(C8,'Valeurs Règlement Campagne'!$A$4:$AB$7,23,FALSE),VLOOKUP(C8,'Valeurs Règlement Campagne'!$A$4:$AB$7,23,FALSE),IF(I8=VLOOKUP(C8,'Valeurs Règlement Campagne'!$A$4:$AB$7,24,FALSE),VLOOKUP(C8,'Valeurs Règlement Campagne'!$A$4:$AB$7,24,FALSE),IF(I8=VLOOKUP(C8,'Valeurs Règlement Campagne'!$A$4:$AB$7,25,FALSE),VLOOKUP(C8,'Valeurs Règlement Campagne'!$A$4:$AB$7,25,FALSE),""))))>(IF(VLOOKUP(C8,'Valeurs Règlement Campagne'!$A$4:$AB$7,23,FALSE)=IF(I8=VLOOKUP(C8,'Valeurs Règlement Campagne'!$A$4:$AB$7,23,FALSE),VLOOKUP(C8,'Valeurs Règlement Campagne'!$A$4:$AB$7,23,FALSE),IF(I8=VLOOKUP(C8,'Valeurs Règlement Campagne'!$A$4:$AB$7,24,FALSE),VLOOKUP(C8,'Valeurs Règlement Campagne'!$A$4:$AB$7,24,FALSE),IF(I8=VLOOKUP(C8,'Valeurs Règlement Campagne'!$A$4:$AB$7,25,FALSE),VLOOKUP(C8,'Valeurs Règlement Campagne'!$A$4:$AB$7,25,FALSE),""))),1,0)+IF(VLOOKUP(C8,'Valeurs Règlement Campagne'!$A$4:$AB$7,24,FALSE)=IF(I8=VLOOKUP(C8,'Valeurs Règlement Campagne'!$A$4:$AB$7,23,FALSE),VLOOKUP(C8,'Valeurs Règlement Campagne'!$A$4:$AB$7,23,FALSE),IF(I8=VLOOKUP(C8,'Valeurs Règlement Campagne'!$A$4:$AB$7,24,FALSE),VLOOKUP(C8,'Valeurs Règlement Campagne'!$A$4:$AB$7,24,FALSE),IF(I8=VLOOKUP(C8,'Valeurs Règlement Campagne'!$A$4:$AB$7,25,FALSE),VLOOKUP(C8,'Valeurs Règlement Campagne'!$A$4:$AB$7,25,FALSE),""))),1,0)+IF(VLOOKUP(C8,'Valeurs Règlement Campagne'!$A$4:$AB$7,25,FALSE)=IF(I8=VLOOKUP(C8,'Valeurs Règlement Campagne'!$A$4:$AB$7,23,FALSE),VLOOKUP(C8,'Valeurs Règlement Campagne'!$A$4:$AB$7,23,FALSE),IF(I8=VLOOKUP(C8,'Valeurs Règlement Campagne'!$A$4:$AB$7,24,FALSE),VLOOKUP(C8,'Valeurs Règlement Campagne'!$A$4:$AB$7,24,FALSE),IF(I8=VLOOKUP(C8,'Valeurs Règlement Campagne'!$A$4:$AB$7,25,FALSE),VLOOKUP(C8,'Valeurs Règlement Campagne'!$A$4:$AB$7,25,FALSE),""))),1,0)),"Doublon",TRUE)))," "))))," ")} | Y8: {=IFERROR(IF(OR(C8="",C8=" ")," ",IF(NOT(ISNUMBER(J8))," ",IF(E8="Inconnues",AND(J8>=S8,J8<=T8),IF(E8="Connues",IF('Valeurs Règlement Campagne'!$L$14="OUI",IF(IF(ABS(J8-VLOOKUP(C8,'Valeurs Règlement Campagne'!$A$4:$AB$7,26,FALSE))<=2,VLOOKUP(C8,'Valeurs Règlement Campagne'!$A$4:$AB$7,26,FALSE),IF(ABS(J8-VLOOKUP(C8,'Valeurs Règlement Campagne'!$A$4:$AB$7,27,FALSE))<=2,VLOOKUP(C8,'Valeurs Règlement Campagne'!$A$4:$AB$7,27,FALSE),IF(ABS(J8-VLOOKUP(C8,'Valeurs Règlement Campagne'!$A$4:$AB$7,28,FALSE))<=2,VLOOKUP(C8,'Valeurs Règlement Campagne'!$A$4:$AB$7,28,FALSE),"")))="",FALSE,IF(COUNTIFS($C$6:C8,C8,$E$6:E8,"Connues",$J$6:J8,">="&(IF(ABS(J8-VLOOKUP(C8,'Valeurs Règlement Campagne'!$A$4:$AB$7,26,FALSE))<=2,VLOOKUP(C8,'Valeurs Règlement Campagne'!$A$4:$AB$7,26,FALSE),IF(ABS(J8-VLOOKUP(C8,'Valeurs Règlement Campagne'!$A$4:$AB$7,27,FALSE))<=2,VLOOKUP(C8,'Valeurs Règlement Campagne'!$A$4:$AB$7,27,FALSE),IF(ABS(J8-VLOOKUP(C8,'Valeurs Règlement Campagne'!$A$4:$AB$7,28,FALSE))<=2,VLOOKUP(C8,'Valeurs Règlement Campagne'!$A$4:$AB$7,28,FALSE),"")))-2),$J$6:J8,"<="&(IF(ABS(J8-VLOOKUP(C8,'Valeurs Règlement Campagne'!$A$4:$AB$7,26,FALSE))<=2,VLOOKUP(C8,'Valeurs Règlement Campagne'!$A$4:$AB$7,26,FALSE),IF(ABS(J8-VLOOKUP(C8,'Valeurs Règlement Campagne'!$A$4:$AB$7,27,FALSE))<=2,VLOOKUP(C8,'Valeurs Règlement Campagne'!$A$4:$AB$7,27,FALSE),IF(ABS(J8-VLOOKUP(C8,'Valeurs Règlement Campagne'!$A$4:$AB$7,28,FALSE))<=2,VLOOKUP(C8,'Valeurs Règlement Campagne'!$A$4:$AB$7,28,FALSE),"")))+2))>(IF(VLOOKUP(C8,'Valeurs Règlement Campagne'!$A$4:$AB$7,26,FALSE)=IF(ABS(J8-VLOOKUP(C8,'Valeurs Règlement Campagne'!$A$4:$AB$7,26,FALSE))<=2,VLOOKUP(C8,'Valeurs Règlement Campagne'!$A$4:$AB$7,26,FALSE),IF(ABS(J8-VLOOKUP(C8,'Valeurs Règlement Campagne'!$A$4:$AB$7,27,FALSE))<=2,VLOOKUP(C8,'Valeurs Règlement Campagne'!$A$4:$AB$7,27,FALSE),IF(ABS(J8-VLOOKUP(C8,'Valeurs Règlement Campagne'!$A$4:$AB$7,28,FALSE))<=2,VLOOKUP(C8,'Valeurs Règlement Campagne'!$A$4:$AB$7,28,FALSE),""))),1,0)+IF(VLOOKUP(C8,'Valeurs Règlement Campagne'!$A$4:$AB$7,27,FALSE)=IF(ABS(J8-VLOOKUP(C8,'Valeurs Règlement Campagne'!$A$4:$AB$7,26,FALSE))<=2,VLOOKUP(C8,'Valeurs Règlement Campagne'!$A$4:$AB$7,26,FALSE),IF(ABS(J8-VLOOKUP(C8,'Valeurs Règlement Campagne'!$A$4:$AB$7,27,FALSE))<=2,VLOOKUP(C8,'Valeurs Règlement Campagne'!$A$4:$AB$7,27,FALSE),IF(ABS(J8-VLOOKUP(C8,'Valeurs Règlement Campagne'!$A$4:$AB$7,28,FALSE))<=2,VLOOKUP(C8,'Valeurs Règlement Campagne'!$A$4:$AB$7,28,FALSE),""))),1,0)+IF(VLOOKUP(C8,'Valeurs Règlement Campagne'!$A$4:$AB$7,28,FALSE)=IF(ABS(J8-VLOOKUP(C8,'Valeurs Règlement Campagne'!$A$4:$AB$7,26,FALSE))<=2,VLOOKUP(C8,'Valeurs Règlement Campagne'!$A$4:$AB$7,26,FALSE),IF(ABS(J8-VLOOKUP(C8,'Valeurs Règlement Campagne'!$A$4:$AB$7,27,FALSE))<=2,VLOOKUP(C8,'Valeurs Règlement Campagne'!$A$4:$AB$7,27,FALSE),IF(ABS(J8-VLOOKUP(C8,'Valeurs Règlement Campagne'!$A$4:$AB$7,28,FALSE))<=2,VLOOKUP(C8,'Valeurs Règlement Campagne'!$A$4:$AB$7,28,FALSE),""))),1,0)),"Doublon",TRUE)),IF(IF(J8=VLOOKUP(C8,'Valeurs Règlement Campagne'!$A$4:$AB$7,26,FALSE),VLOOKUP(C8,'Valeurs Règlement Campagne'!$A$4:$AB$7,26,FALSE),IF(J8=VLOOKUP(C8,'Valeurs Règlement Campagne'!$A$4:$AB$7,27,FALSE),VLOOKUP(C8,'Valeurs Règlement Campagne'!$A$4:$AB$7,27,FALSE),IF(J8=VLOOKUP(C8,'Valeurs Règlement Campagne'!$A$4:$AB$7,28,FALSE),VLOOKUP(C8,'Valeurs Règlement Campagne'!$A$4:$AB$7,28,FALSE),"")))="",FALSE,IF(COUNTIFS($C$6:C8,C8,$E$6:E8,"Connues",$J$6:J8,IF(J8=VLOOKUP(C8,'Valeurs Règlement Campagne'!$A$4:$AB$7,26,FALSE),VLOOKUP(C8,'Valeurs Règlement Campagne'!$A$4:$AB$7,26,FALSE),IF(J8=VLOOKUP(C8,'Valeurs Règlement Campagne'!$A$4:$AB$7,27,FALSE),VLOOKUP(C8,'Valeurs Règlement Campagne'!$A$4:$AB$7,27,FALSE),IF(J8=VLOOKUP(C8,'Valeurs Règlement Campagne'!$A$4:$AB$7,28,FALSE),VLOOKUP(C8,'Valeurs Règlement Campagne'!$A$4:$AB$7,28,FALSE),""))))>(IF(VLOOKUP(C8,'Valeurs Règlement Campagne'!$A$4:$AB$7,26,FALSE)=IF(J8=VLOOKUP(C8,'Valeurs Règlement Campagne'!$A$4:$AB$7,26,FALSE),VLOOKUP(C8,'Valeurs Règlement Campagne'!$A$4:$AB$7,26,FALSE),IF(J8=VLOOKUP(C8,'Valeurs Règlement Campagne'!$A$4:$AB$7,27,FALSE),VLOOKUP(C8,'Valeurs Règlement Campagne'!$A$4:$AB$7,27,FALSE),IF(J8=VLOOKUP(C8,'Valeurs Règlement Campagne'!$A$4:$AB$7,28,FALSE),VLOOKUP(C8,'Valeurs Règlement Campagne'!$A$4:$AB$7,28,FALSE),""))),1,0)+IF(VLOOKUP(C8,'Valeurs Règlement Campagne'!$A$4:$AB$7,27,FALSE)=IF(J8=VLOOKUP(C8,'Valeurs Règlement Campagne'!$A$4:$AB$7,26,FALSE),VLOOKUP(C8,'Valeurs Règlement Campagne'!$A$4:$AB$7,26,FALSE),IF(J8=VLOOKUP(C8,'Valeurs Règlement Campagne'!$A$4:$AB$7,27,FALSE),VLOOKUP(C8,'Valeurs Règlement Campagne'!$A$4:$AB$7,27,FALSE),IF(J8=VLOOKUP(C8,'Valeurs Règlement Campagne'!$A$4:$AB$7,28,FALSE),VLOOKUP(C8,'Valeurs Règlement Campagne'!$A$4:$AB$7,28,FALSE),""))),1,0)+IF(VLOOKUP(C8,'Valeurs Règlement Campagne'!$A$4:$AB$7,28,FALSE)=IF(J8=VLOOKUP(C8,'Valeurs Règlement Campagne'!$A$4:$AB$7,26,FALSE),VLOOKUP(C8,'Valeurs Règlement Campagne'!$A$4:$AB$7,26,FALSE),IF(J8=VLOOKUP(C8,'Valeurs Règlement Campagne'!$A$4:$AB$7,27,FALSE),VLOOKUP(C8,'Valeurs Règlement Campagne'!$A$4:$AB$7,27,FALSE),IF(J8=VLOOKUP(C8,'Valeurs Règlement Campagne'!$A$4:$AB$7,28,FALSE),VLOOKUP(C8,'Valeurs Règlement Campagne'!$A$4:$AB$7,28,FALSE),""))),1,0)),"Doublon",TRUE)))," "))))," ")} | Z8: =IFERROR(IF(OR(NOT(ISNUMBER(F8)),NOT(ISNUMBER(G8)))," ",IF(OR(U8="Doublon",V8="Doublon"),"Doublon",IF(F8>=G8,IF(AND(U8=TRUE,V8=TRUE),"ok","faux"),"faux")))," ") | AB8: =IFERROR(IF(OR(NOT(ISNUMBER(G8)),NOT(ISNUMBER(H8)))," ",IF(OR(V8="Doublon",W8="Doublon"),"Doublon",IF(G8>=H8,IF(AND(V8=TRUE,W8=TRUE),"ok","faux"),"faux")))," ") | AD8: =IFERROR(IF(OR(NOT(ISNUMBER(H8)),NOT(ISNUMBER(I8)))," ",IF(OR(W8="Doublon",X8="Doublon"),"Doublon",IF(H8>=I8,IF(AND(W8=TRUE,X8=TRUE),"ok","faux"),"faux")))," ") | AF8: =IFERROR(IF(OR(NOT(ISNUMBER(H8)),NOT(ISNUMBER(J8)))," ",IF(OR(W8="Doublon",Y8="Doublon"),"Doublon",IF(H8>=J8,IF(AND(W8=TRUE,Y8=TRUE),"ok","faux"),"faux")))," ") | AH8: =IF(AND(E8="Inconnues",LEFT(C8,1)="1",ISNUMBER(I8)),"Obligatoire",IF(AND(E8="Connues",LEFT(C8,1)="1"),"Possible",IF(AND(E8="Inconnues",LEFT(C8,1)="1",NOT(ISNUMBER(I8))),"Manque orange",""))) | AI8: =IFERROR(IF(OR(C8="",C8=" ",NOT(ISNUMBER(F8))),0,IF(E8="Inconnues",IF(AND(F8>=L8,F8<=M8),0,1),IF(E8="Connues",IF('Valeurs Règlement Campagne'!$L$14="OUI",IF(IF(ABS(F8-VLOOKUP(C8,'Valeurs Règlement Campagne'!$A$4:$AB$7,14,FALSE))<=2,VLOOKUP(C8,'Valeurs Règlement Campagne'!$A$4:$AB$7,14,FALSE),IF(ABS(F8-VLOOKUP(C8,'Valeurs Règlement Campagne'!$A$4:$AB$7,15,FALSE))<=2,VLOOKUP(C8,'Valeurs Règlement Campagne'!$A$4:$AB$7,15,FALSE),IF(ABS(F8-VLOOKUP(C8,'Valeurs Règlement Campagne'!$A$4:$AB$7,16,FALSE))<=2,VLOOKUP(C8,'Valeurs Règlement Campagne'!$A$4:$AB$7,16,FALSE),"")))="",1,IF(COUNTIFS($C$6:C8,C8,$E$6:E8,"Connues",$F$6:F8,">="&(IF(ABS(F8-VLOOKUP(C8,'Valeurs Règlement Campagne'!$A$4:$AB$7,14,FALSE))<=2,VLOOKUP(C8,'Valeurs Règlement Campagne'!$A$4:$AB$7,14,FALSE),IF(ABS(F8-VLOOKUP(C8,'Valeurs Règlement Campagne'!$A$4:$AB$7,15,FALSE))<=2,VLOOKUP(C8,'Valeurs Règlement Campagne'!$A$4:$AB$7,15,FALSE),IF(ABS(F8-VLOOKUP(C8,'Valeurs Règlement Campagne'!$A$4:$AB$7,16,FALSE))<=2,VLOOKUP(C8,'Valeurs Règlement Campagne'!$A$4:$AB$7,16,FALSE),"")))-2),$F$6:F8,"<="&(IF(ABS(F8-VLOOKUP(C8,'Valeurs Règlement Campagne'!$A$4:$AB$7,14,FALSE))<=2,VLOOKUP(C8,'Valeurs Règlement Campagne'!$A$4:$AB$7,14,FALSE),IF(ABS(F8-VLOOKUP(C8,'Valeurs Règlement Campagne'!$A$4:$AB$7,15,FALSE))<=2,VLOOKUP(C8,'Valeurs Règlement Campagne'!$A$4:$AB$7,15,FALSE),IF(ABS(F8-VLOOKUP(C8,'Valeurs Règlement Campagne'!$A$4:$AB$7,16,FALSE))<=2,VLOOKUP(C8,'Valeurs Règlement Campagne'!$A$4:$AB$7,16,FALSE),"")))+2))>(IF(VLOOKUP(C8,'Valeurs Règlement Campagne'!$A$4:$AB$7,14,FALSE)=IF(ABS(F8-VLOOKUP(C8,'Valeurs Règlement Campagne'!$A$4:$AB$7,14,FALSE))<=2,VLOOKUP(C8,'Valeurs Règlement Campagne'!$A$4:$AB$7,14,FALSE),IF(ABS(F8-VLOOKUP(C8,'Valeurs Règlement Campagne'!$A$4:$AB$7,15,FALSE))<=2,VLOOKUP(C8,'Valeurs Règlement Campagne'!$A$4:$AB$7,15,FALSE),IF(ABS(F8-VLOOKUP(C8,'Valeurs Règlement Campagne'!$A$4:$AB$7,16,FALSE))<=2,VLOOKUP(C8,'Valeurs Règlement Campagne'!$A$4:$AB$7,16,FALSE),""))),1,0)+IF(VLOOKUP(C8,'Valeurs Règlement Campagne'!$A$4:$AB$7,15,FALSE)=IF(ABS(F8-VLOOKUP(C8,'Valeurs Règlement Campagne'!$A$4:$AB$7,14,FALSE))<=2,VLOOKUP(C8,'Valeurs Règlement Campagne'!$A$4:$AB$7,14,FALSE),IF(ABS(F8-VLOOKUP(C8,'Valeurs Règlement Campagne'!$A$4:$AB$7,15,FALSE))<=2,VLOOKUP(C8,'Valeurs Règlement Campagne'!$A$4:$AB$7,15,FALSE),IF(ABS(F8-VLOOKUP(C8,'Valeurs Règlement Campagne'!$A$4:$AB$7,16,FALSE))<=2,VLOOKUP(C8,'Valeurs Règlement Campagne'!$A$4:$AB$7,16,FALSE),""))),1,0)+IF(VLOOKUP(C8,'Valeurs Règlement Campagne'!$A$4:$AB$7,16,FALSE)=IF(ABS(F8-VLOOKUP(C8,'Valeurs Règlement Campagne'!$A$4:$AB$7,14,FALSE))<=2,VLOOKUP(C8,'Valeurs Règlement Campagne'!$A$4:$AB$7,14,FALSE),IF(ABS(F8-VLOOKUP(C8,'Valeurs Règlement Campagne'!$A$4:$AB$7,15,FALSE))<=2,VLOOKUP(C8,'Valeurs Règlement Campagne'!$A$4:$AB$7,15,FALSE),IF(ABS(F8-VLOOKUP(C8,'Valeurs Règlement Campagne'!$A$4:$AB$7,16,FALSE))<=2,VLOOKUP(C8,'Valeurs Règlement Campagne'!$A$4:$AB$7,16,FALSE),""))),1,0)),1,0)),IF(IF(F8=VLOOKUP(C8,'Valeurs Règlement Campagne'!$A$4:$AB$7,14,FALSE),VLOOKUP(C8,'Valeurs Règlement Campagne'!$A$4:$AB$7,14,FALSE),IF(F8=VLOOKUP(C8,'Valeurs Règlement Campagne'!$A$4:$AB$7,15,FALSE),VLOOKUP(C8,'Valeurs Règlement Campagne'!$A$4:$AB$7,15,FALSE),IF(F8=VLOOKUP(C8,'Valeurs Règlement Campagne'!$A$4:$AB$7,16,FALSE),VLOOKUP(C8,'Valeurs Règlement Campagne'!$A$4:$AB$7,16,FALSE),"")))="",1,IF(COUNTIFS($C$6:C8,C8,$E$6:E8,"Connues",$F$6:F8,IF(F8=VLOOKUP(C8,'Valeurs Règlement Campagne'!$A$4:$AB$7,14,FALSE),VLOOKUP(C8,'Valeurs Règlement Campagne'!$A$4:$AB$7,14,FALSE),IF(F8=VLOOKUP(C8,'Valeurs Règlement Campagne'!$A$4:$AB$7,15,FALSE),VLOOKUP(C8,'Valeurs Règlement Campagne'!$A$4:$AB$7,15,FALSE),IF(F8=VLOOKUP(C8,'Valeurs Règlement Campagne'!$A$4:$AB$7,16,FALSE),VLOOKUP(C8,'Valeurs Règlement Campagne'!$A$4:$AB$7,16,FALSE),""))))>(IF(VLOOKUP(C8,'Valeurs Règlement Campagne'!$A$4:$AB$7,14,FALSE)=IF(F8=VLOOKUP(C8,'Valeurs Règlement Campagne'!$A$4:$AB$7,14,FALSE),VLOOKUP(C8,'Valeurs Règlement Campagne'!$A$4:$AB$7,14,FALSE),IF(F8=VLOOKUP(C8,'Valeurs Règlement Campagne'!$A$4:$AB$7,15,FALSE),VLOOKUP(C8,'Valeurs Règlement Campagne'!$A$4:$AB$7,15,FALSE),IF(F8=VLOOKUP(C8,'Valeurs Règlement Campagne'!$A$4:$AB$7,16,FALSE),VLOOKUP(C8,'Valeurs Règlement Campagne'!$A$4:$AB$7,16,FALSE),""))),1,0)+IF(VLOOKUP(C8,'Valeurs Règlement Campagne'!$A$4:$AB$7,15,FALSE)=IF(F8=VLOOKUP(C8,'Valeurs Règlement Campagne'!$A$4:$AB$7,14,FALSE),VLOOKUP(C8,'Valeurs Règlement Campagne'!$A$4:$AB$7,14,FALSE),IF(F8=VLOOKUP(C8,'Valeurs Règlement Campagne'!$A$4:$AB$7,15,FALSE),VLOOKUP(C8,'Valeurs Règlement Campagne'!$A$4:$AB$7,15,FALSE),IF(F8=VLOOKUP(C8,'Valeurs Règlement Campagne'!$A$4:$AB$7,16,FALSE),VLOOKUP(C8,'Valeurs Règlement Campagne'!$A$4:$AB$7,16,FALSE),""))),1,0)+IF(VLOOKUP(C8,'Valeurs Règlement Campagne'!$A$4:$AB$7,16,FALSE)=IF(F8=VLOOKUP(C8,'Valeurs Règlement Campagne'!$A$4:$AB$7,14,FALSE),VLOOKUP(C8,'Valeurs Règlement Campagne'!$A$4:$AB$7,14,FALSE),IF(F8=VLOOKUP(C8,'Valeurs Règlement Campagne'!$A$4:$AB$7,15,FALSE),VLOOKUP(C8,'Valeurs Règlement Campagne'!$A$4:$AB$7,15,FALSE),IF(F8=VLOOKUP(C8,'Valeurs Règlement Campagne'!$A$4:$AB$7,16,FALSE),VLOOKUP(C8,'Valeurs Règlement Campagne'!$A$4:$AB$7,16,FALSE),""))),1,0)),1,0))),0))),0) -> 0 | AJ8: =IFERROR(IF(OR(C8="",C8=" ",NOT(ISNUMBER(G8))),0,IF(E8="Inconnues",IF(AND(G8>=N8,G8<=O8),0,1),IF(E8="Connues",IF('Valeurs Règlement Campagne'!$L$14="OUI",IF(IF(ABS(G8-VLOOKUP(C8,'Valeurs Règlement Campagne'!$A$4:$AB$7,17,FALSE))<=2,VLOOKUP(C8,'Valeurs Règlement Campagne'!$A$4:$AB$7,17,FALSE),IF(ABS(G8-VLOOKUP(C8,'Valeurs Règlement Campagne'!$A$4:$AB$7,18,FALSE))<=2,VLOOKUP(C8,'Valeurs Règlement Campagne'!$A$4:$AB$7,18,FALSE),IF(ABS(G8-VLOOKUP(C8,'Valeurs Règlement Campagne'!$A$4:$AB$7,19,FALSE))<=2,VLOOKUP(C8,'Valeurs Règlement Campagne'!$A$4:$AB$7,19,FALSE),"")))="",1,IF(COUNTIFS($C$6:C8,C8,$E$6:E8,"Connues",$G$6:G8,">="&(IF(ABS(G8-VLOOKUP(C8,'Valeurs Règlement Campagne'!$A$4:$AB$7,17,FALSE))<=2,VLOOKUP(C8,'Valeurs Règlement Campagne'!$A$4:$AB$7,17,FALSE),IF(ABS(G8-VLOOKUP(C8,'Valeurs Règlement Campagne'!$A$4:$AB$7,18,FALSE))<=2,VLOOKUP(C8,'Valeurs Règlement Campagne'!$A$4:$AB$7,18,FALSE),IF(ABS(G8-VLOOKUP(C8,'Valeurs Règlement Campagne'!$A$4:$AB$7,19,FALSE))<=2,VLOOKUP(C8,'Valeurs Règlement Campagne'!$A$4:$AB$7,19,FALSE),"")))-2),$G$6:G8,"<="&(IF(ABS(G8-VLOOKUP(C8,'Valeurs Règlement Campagne'!$A$4:$AB$7,17,FALSE))<=2,VLOOKUP(C8,'Valeurs Règlement Campagne'!$A$4:$AB$7,17,FALSE),IF(ABS(G8-VLOOKUP(C8,'Valeurs Règlement Campagne'!$A$4:$AB$7,18,FALSE))<=2,VLOOKUP(C8,'Valeurs Règlement Campagne'!$A$4:$AB$7,18,FALSE),IF(ABS(G8-VLOOKUP(C8,'Valeurs Règlement Campagne'!$A$4:$AB$7,19,FALSE))<=2,VLOOKUP(C8,'Valeurs Règlement Campagne'!$A$4:$AB$7,19,FALSE),"")))+2))>(IF(VLOOKUP(C8,'Valeurs Règlement Campagne'!$A$4:$AB$7,17,FALSE)=IF(ABS(G8-VLOOKUP(C8,'Valeurs Règlement Campagne'!$A$4:$AB$7,17,FALSE))<=2,VLOOKUP(C8,'Valeurs Règlement Campagne'!$A$4:$AB$7,17,FALSE),IF(ABS(G8-VLOOKUP(C8,'Valeurs Règlement Campagne'!$A$4:$AB$7,18,FALSE))<=2,VLOOKUP(C8,'Valeurs Règlement Campagne'!$A$4:$AB$7,18,FALSE),IF(ABS(G8-VLOOKUP(C8,'Valeurs Règlement Campagne'!$A$4:$AB$7,19,FALSE))<=2,VLOOKUP(C8,'Valeurs Règlement Campagne'!$A$4:$AB$7,19,FALSE),""))),1,0)+IF(VLOOKUP(C8,'Valeurs Règlement Campagne'!$A$4:$AB$7,18,FALSE)=IF(ABS(G8-VLOOKUP(C8,'Valeurs Règlement Campagne'!$A$4:$AB$7,17,FALSE))<=2,VLOOKUP(C8,'Valeurs Règlement Campagne'!$A$4:$AB$7,17,FALSE),IF(ABS(G8-VLOOKUP(C8,'Valeurs Règlement Campagne'!$A$4:$AB$7,18,FALSE))<=2,VLOOKUP(C8,'Valeurs Règlement Campagne'!$A$4:$AB$7,18,FALSE),IF(ABS(G8-VLOOKUP(C8,'Valeurs Règlement Campagne'!$A$4:$AB$7,19,FALSE))<=2,VLOOKUP(C8,'Valeurs Règlement Campagne'!$A$4:$AB$7,19,FALSE),""))),1,0)+IF(VLOOKUP(C8,'Valeurs Règlement Campagne'!$A$4:$AB$7,19,FALSE)=IF(ABS(G8-VLOOKUP(C8,'Valeurs Règlement Campagne'!$A$4:$AB$7,17,FALSE))<=2,VLOOKUP(C8,'Valeurs Règlement Campagne'!$A$4:$AB$7,17,FALSE),IF(ABS(G8-VLOOKUP(C8,'Valeurs Règlement Campagne'!$A$4:$AB$7,18,FALSE))<=2,VLOOKUP(C8,'Valeurs Règlement Campagne'!$A$4:$AB$7,18,FALSE),IF(ABS(G8-VLOOKUP(C8,'Valeurs Règlement Campagne'!$A$4:$AB$7,19,FALSE))<=2,VLOOKUP(C8,'Valeurs Règlement Campagne'!$A$4:$AB$7,19,FALSE),""))),1,0)),1,0)),IF(IF(G8=VLOOKUP(C8,'Valeurs Règlement Campagne'!$A$4:$AB$7,17,FALSE),VLOOKUP(C8,'Valeurs Règlement Campagne'!$A$4:$AB$7,17,FALSE),IF(G8=VLOOKUP(C8,'Valeurs Règlement Campagne'!$A$4:$AB$7,18,FALSE),VLOOKUP(C8,'Valeurs Règlement Campagne'!$A$4:$AB$7,18,FALSE),IF(G8=VLOOKUP(C8,'Valeurs Règlement Campagne'!$A$4:$AB$7,19,FALSE),VLOOKUP(C8,'Valeurs Règlement Campagne'!$A$4:$AB$7,19,FALSE),"")))="",1,IF(COUNTIFS($C$6:C8,C8,$E$6:E8,"Connues",$G$6:G8,IF(G8=VLOOKUP(C8,'Valeurs Règlement Campagne'!$A$4:$AB$7,17,FALSE),VLOOKUP(C8,'Valeurs Règlement Campagne'!$A$4:$AB$7,17,FALSE),IF(G8=VLOOKUP(C8,'Valeurs Règlement Campagne'!$A$4:$AB$7,18,FALSE),VLOOKUP(C8,'Valeurs Règlement Campagne'!$A$4:$AB$7,18,FALSE),IF(G8=VLOOKUP(C8,'Valeurs Règlement Campagne'!$A$4:$AB$7,19,FALSE),VLOOKUP(C8,'Valeurs Règlement Campagne'!$A$4:$AB$7,19,FALSE),""))))>(IF(VLOOKUP(C8,'Valeurs Règlement Campagne'!$A$4:$AB$7,17,FALSE)=IF(G8=VLOOKUP(C8,'Valeurs Règlement Campagne'!$A$4:$AB$7,17,FALSE),VLOOKUP(C8,'Valeurs Règlement Campagne'!$A$4:$AB$7,17,FALSE),IF(G8=VLOOKUP(C8,'Valeurs Règlement Campagne'!$A$4:$AB$7,18,FALSE),VLOOKUP(C8,'Valeurs Règlement Campagne'!$A$4:$AB$7,18,FALSE),IF(G8=VLOOKUP(C8,'Valeurs Règlement Campagne'!$A$4:$AB$7,19,FALSE),VLOOKUP(C8,'Valeurs Règlement Campagne'!$A$4:$AB$7,19,FALSE),""))),1,0)+IF(VLOOKUP(C8,'Valeurs Règlement Campagne'!$A$4:$AB$7,18,FALSE)=IF(G8=VLOOKUP(C8,'Valeurs Règlement Campagne'!$A$4:$AB$7,17,FALSE),VLOOKUP(C8,'Valeurs Règlement Campagne'!$A$4:$AB$7,17,FALSE),IF(G8=VLOOKUP(C8,'Valeurs Règlement Campagne'!$A$4:$AB$7,18,FALSE),VLOOKUP(C8,'Valeurs Règlement Campagne'!$A$4:$AB$7,18,FALSE),IF(G8=VLOOKUP(C8,'Valeurs Règlement Campagne'!$A$4:$AB$7,19,FALSE),VLOOKUP(C8,'Valeurs Règlement Campagne'!$A$4:$AB$7,19,FALSE),""))),1,0)+IF(VLOOKUP(C8,'Valeurs Règlement Campagne'!$A$4:$AB$7,19,FALSE)=IF(G8=VLOOKUP(C8,'Valeurs Règlement Campagne'!$A$4:$AB$7,17,FALSE),VLOOKUP(C8,'Valeurs Règlement Campagne'!$A$4:$AB$7,17,FALSE),IF(G8=VLOOKUP(C8,'Valeurs Règlement Campagne'!$A$4:$AB$7,18,FALSE),VLOOKUP(C8,'Valeurs Règlement Campagne'!$A$4:$AB$7,18,FALSE),IF(G8=VLOOKUP(C8,'Valeurs Règlement Campagne'!$A$4:$AB$7,19,FALSE),VLOOKUP(C8,'Valeurs Règlement Campagne'!$A$4:$AB$7,19,FALSE),""))),1,0)),1,0))),0))),0) -> 0 | AK8: =IFERROR(IF(OR(C8="",C8=" ",NOT(ISNUMBER(H8))),0,IF(E8="Inconnues",IF(AND(H8>=P8,H8<=Q8),0,1),IF(E8="Connues",IF('Valeurs Règlement Campagne'!$L$14="OUI",IF(IF(ABS(H8-VLOOKUP(C8,'Valeurs Règlement Campagne'!$A$4:$AB$7,20,FALSE))<=2,VLOOKUP(C8,'Valeurs Règlement Campagne'!$A$4:$AB$7,20,FALSE),IF(ABS(H8-VLOOKUP(C8,'Valeurs Règlement Campagne'!$A$4:$AB$7,21,FALSE))<=2,VLOOKUP(C8,'Valeurs Règlement Campagne'!$A$4:$AB$7,21,FALSE),IF(ABS(H8-VLOOKUP(C8,'Valeurs Règlement Campagne'!$A$4:$AB$7,22,FALSE))<=2,VLOOKUP(C8,'Valeurs Règlement Campagne'!$A$4:$AB$7,22,FALSE),"")))="",1,IF(COUNTIFS($C$6:C8,C8,$E$6:E8,"Connues",$H$6:H8,">="&(IF(ABS(H8-VLOOKUP(C8,'Valeurs Règlement Campagne'!$A$4:$AB$7,20,FALSE))<=2,VLOOKUP(C8,'Valeurs Règlement Campagne'!$A$4:$AB$7,20,FALSE),IF(ABS(H8-VLOOKUP(C8,'Valeurs Règlement Campagne'!$A$4:$AB$7,21,FALSE))<=2,VLOOKUP(C8,'Valeurs Règlement Campagne'!$A$4:$AB$7,21,FALSE),IF(ABS(H8-VLOOKUP(C8,'Valeurs Règlement Campagne'!$A$4:$AB$7,22,FALSE))<=2,VLOOKUP(C8,'Valeurs Règlement Campagne'!$A$4:$AB$7,22,FALSE),"")))-2),$H$6:H8,"<="&(IF(ABS(H8-VLOOKUP(C8,'Valeurs Règlement Campagne'!$A$4:$AB$7,20,FALSE))<=2,VLOOKUP(C8,'Valeurs Règlement Campagne'!$A$4:$AB$7,20,FALSE),IF(ABS(H8-VLOOKUP(C8,'Valeurs Règlement Campagne'!$A$4:$AB$7,21,FALSE))<=2,VLOOKUP(C8,'Valeurs Règlement Campagne'!$A$4:$AB$7,21,FALSE),IF(ABS(H8-VLOOKUP(C8,'Valeurs Règlement Campagne'!$A$4:$AB$7,22,FALSE))<=2,VLOOKUP(C8,'Valeurs Règlement Campagne'!$A$4:$AB$7,22,FALSE),"")))+2))>(IF(VLOOKUP(C8,'Valeurs Règlement Campagne'!$A$4:$AB$7,20,FALSE)=IF(ABS(H8-VLOOKUP(C8,'Valeurs Règlement Campagne'!$A$4:$AB$7,20,FALSE))<=2,VLOOKUP(C8,'Valeurs Règlement Campagne'!$A$4:$AB$7,20,FALSE),IF(ABS(H8-VLOOKUP(C8,'Valeurs Règlement Campagne'!$A$4:$AB$7,21,FALSE))<=2,VLOOKUP(C8,'Valeurs Règlement Campagne'!$A$4:$AB$7,21,FALSE),IF(ABS(H8-VLOOKUP(C8,'Valeurs Règlement Campagne'!$A$4:$AB$7,22,FALSE))<=2,VLOOKUP(C8,'Valeurs Règlement Campagne'!$A$4:$AB$7,22,FALSE),""))),1,0)+IF(VLOOKUP(C8,'Valeurs Règlement Campagne'!$A$4:$AB$7,21,FALSE)=IF(ABS(H8-VLOOKUP(C8,'Valeurs Règlement Campagne'!$A$4:$AB$7,20,FALSE))<=2,VLOOKUP(C8,'Valeurs Règlement Campagne'!$A$4:$AB$7,20,FALSE),IF(ABS(H8-VLOOKUP(C8,'Valeurs Règlement Campagne'!$A$4:$AB$7,21,FALSE))<=2,VLOOKUP(C8,'Valeurs Règlement Campagne'!$A$4:$AB$7,21,FALSE),IF(ABS(H8-VLOOKUP(C8,'Valeurs Règlement Campagne'!$A$4:$AB$7,22,FALSE))<=2,VLOOKUP(C8,'Valeurs Règlement Campagne'!$A$4:$AB$7,22,FALSE),""))),1,0)+IF(VLOOKUP(C8,'Valeurs Règlement Campagne'!$A$4:$AB$7,22,FALSE)=IF(ABS(H8-VLOOKUP(C8,'Valeurs Règlement Campagne'!$A$4:$AB$7,20,FALSE))<=2,VLOOKUP(C8,'Valeurs Règlement Campagne'!$A$4:$AB$7,20,FALSE),IF(ABS(H8-VLOOKUP(C8,'Valeurs Règlement Campagne'!$A$4:$AB$7,21,FALSE))<=2,VLOOKUP(C8,'Valeurs Règlement Campagne'!$A$4:$AB$7,21,FALSE),IF(ABS(H8-VLOOKUP(C8,'Valeurs Règlement Campagne'!$A$4:$AB$7,22,FALSE))<=2,VLOOKUP(C8,'Valeurs Règlement Campagne'!$A$4:$AB$7,22,FALSE),""))),1,0)),1,0)),IF(IF(H8=VLOOKUP(C8,'Valeurs Règlement Campagne'!$A$4:$AB$7,20,FALSE),VLOOKUP(C8,'Valeurs Règlement Campagne'!$A$4:$AB$7,20,FALSE),IF(H8=VLOOKUP(C8,'Valeurs Règlement Campagne'!$A$4:$AB$7,21,FALSE),VLOOKUP(C8,'Valeurs Règlement Campagne'!$A$4:$AB$7,21,FALSE),IF(H8=VLOOKUP(C8,'Valeurs Règlement Campagne'!$A$4:$AB$7,22,FALSE),VLOOKUP(C8,'Valeurs Règlement Campagne'!$A$4:$AB$7,22,FALSE),"")))="",1,IF(COUNTIFS($C$6:C8,C8,$E$6:E8,"Connues",$H$6:H8,IF(H8=VLOOKUP(C8,'Valeurs Règlement Campagne'!$A$4:$AB$7,20,FALSE),VLOOKUP(C8,'Valeurs Règlement Campagne'!$A$4:$AB$7,20,FALSE),IF(H8=VLOOKUP(C8,'Valeurs Règlement Campagne'!$A$4:$AB$7,21,FALSE),VLOOKUP(C8,'Valeurs Règlement Campagne'!$A$4:$AB$7,21,FALSE),IF(H8=VLOOKUP(C8,'Valeurs Règlement Campagne'!$A$4:$AB$7,22,FALSE),VLOOKUP(C8,'Valeurs Règlement Campagne'!$A$4:$AB$7,22,FALSE),""))))>(IF(VLOOKUP(C8,'Valeurs Règlement Campagne'!$A$4:$AB$7,20,FALSE)=IF(H8=VLOOKUP(C8,'Valeurs Règlement Campagne'!$A$4:$AB$7,20,FALSE),VLOOKUP(C8,'Valeurs Règlement Campagne'!$A$4:$AB$7,20,FALSE),IF(H8=VLOOKUP(C8,'Valeurs Règlement Campagne'!$A$4:$AB$7,21,FALSE),VLOOKUP(C8,'Valeurs Règlement Campagne'!$A$4:$AB$7,21,FALSE),IF(H8=VLOOKUP(C8,'Valeurs Règlement Campagne'!$A$4:$AB$7,22,FALSE),VLOOKUP(C8,'Valeurs Règlement Campagne'!$A$4:$AB$7,22,FALSE),""))),1,0)+IF(VLOOKUP(C8,'Valeurs Règlement Campagne'!$A$4:$AB$7,21,FALSE)=IF(H8=VLOOKUP(C8,'Valeurs Règlement Campagne'!$A$4:$AB$7,20,FALSE),VLOOKUP(C8,'Valeurs Règlement Campagne'!$A$4:$AB$7,20,FALSE),IF(H8=VLOOKUP(C8,'Valeurs Règlement Campagne'!$A$4:$AB$7,21,FALSE),VLOOKUP(C8,'Valeurs Règlement Campagne'!$A$4:$AB$7,21,FALSE),IF(H8=VLOOKUP(C8,'Valeurs Règlement Campagne'!$A$4:$AB$7,22,FALSE),VLOOKUP(C8,'Valeurs Règlement Campagne'!$A$4:$AB$7,22,FALSE),""))),1,0)+IF(VLOOKUP(C8,'Valeurs Règlement Campagne'!$A$4:$AB$7,22,FALSE)=IF(H8=VLOOKUP(C8,'Valeurs Règlement Campagne'!$A$4:$AB$7,20,FALSE),VLOOKUP(C8,'Valeurs Règlement Campagne'!$A$4:$AB$7,20,FALSE),IF(H8=VLOOKUP(C8,'Valeurs Règlement Campagne'!$A$4:$AB$7,21,FALSE),VLOOKUP(C8,'Valeurs Règlement Campagne'!$A$4:$AB$7,21,FALSE),IF(H8=VLOOKUP(C8,'Valeurs Règlement Campagne'!$A$4:$AB$7,22,FALSE),VLOOKUP(C8,'Valeurs Règlement Campagne'!$A$4:$AB$7,22,FALSE),""))),1,0)),1,0))),0))),0) -> 0 | AL8: =IFERROR(IF(OR(C8="",C8=" ",NOT(ISNUMBER(I8))),0,IF(E8="Inconnues",IF(AND(I8>=P8,I8<=R8),0,1),IF(E8="Connues",IF('Valeurs Règlement Campagne'!$L$14="OUI",IF(IF(ABS(I8-VLOOKUP(C8,'Valeurs Règlement Campagne'!$A$4:$AB$7,23,FALSE))<=2,VLOOKUP(C8,'Valeurs Règlement Campagne'!$A$4:$AB$7,23,FALSE),IF(ABS(I8-VLOOKUP(C8,'Valeurs Règlement Campagne'!$A$4:$AB$7,24,FALSE))<=2,VLOOKUP(C8,'Valeurs Règlement Campagne'!$A$4:$AB$7,24,FALSE),IF(ABS(I8-VLOOKUP(C8,'Valeurs Règlement Campagne'!$A$4:$AB$7,25,FALSE))<=2,VLOOKUP(C8,'Valeurs Règlement Campagne'!$A$4:$AB$7,25,FALSE),"")))="",1,IF(COUNTIFS($C$6:C8,C8,$E$6:E8,"Connues",$I$6:I8,">="&(IF(ABS(I8-VLOOKUP(C8,'Valeurs Règlement Campagne'!$A$4:$AB$7,23,FALSE))<=2,VLOOKUP(C8,'Valeurs Règlement Campagne'!$A$4:$AB$7,23,FALSE),IF(ABS(I8-VLOOKUP(C8,'Valeurs Règlement Campagne'!$A$4:$AB$7,24,FALSE))<=2,VLOOKUP(C8,'Valeurs Règlement Campagne'!$A$4:$AB$7,24,FALSE),IF(ABS(I8-VLOOKUP(C8,'Valeurs Règlement Campagne'!$A$4:$AB$7,25,FALSE))<=2,VLOOKUP(C8,'Valeurs Règlement Campagne'!$A$4:$AB$7,25,FALSE),"")))-2),$I$6:I8,"<="&(IF(ABS(I8-VLOOKUP(C8,'Valeurs Règlement Campagne'!$A$4:$AB$7,23,FALSE))<=2,VLOOKUP(C8,'Valeurs Règlement Campagne'!$A$4:$AB$7,23,FALSE),IF(ABS(I8-VLOOKUP(C8,'Valeurs Règlement Campagne'!$A$4:$AB$7,24,FALSE))<=2,VLOOKUP(C8,'Valeurs Règlement Campagne'!$A$4:$AB$7,24,FALSE),IF(ABS(I8-VLOOKUP(C8,'Valeurs Règlement Campagne'!$A$4:$AB$7,25,FALSE))<=2,VLOOKUP(C8,'Valeurs Règlement Campagne'!$A$4:$AB$7,25,FALSE),"")))+2))>(IF(VLOOKUP(C8,'Valeurs Règlement Campagne'!$A$4:$AB$7,23,FALSE)=IF(ABS(I8-VLOOKUP(C8,'Valeurs Règlement Campagne'!$A$4:$AB$7,23,FALSE))<=2,VLOOKUP(C8,'Valeurs Règlement Campagne'!$A$4:$AB$7,23,FALSE),IF(ABS(I8-VLOOKUP(C8,'Valeurs Règlement Campagne'!$A$4:$AB$7,24,FALSE))<=2,VLOOKUP(C8,'Valeurs Règlement Campagne'!$A$4:$AB$7,24,FALSE),IF(ABS(I8-VLOOKUP(C8,'Valeurs Règlement Campagne'!$A$4:$AB$7,25,FALSE))<=2,VLOOKUP(C8,'Valeurs Règlement Campagne'!$A$4:$AB$7,25,FALSE),""))),1,0)+IF(VLOOKUP(C8,'Valeurs Règlement Campagne'!$A$4:$AB$7,24,FALSE)=IF(ABS(I8-VLOOKUP(C8,'Valeurs Règlement Campagne'!$A$4:$AB$7,23,FALSE))<=2,VLOOKUP(C8,'Valeurs Règlement Campagne'!$A$4:$AB$7,23,FALSE),IF(ABS(I8-VLOOKUP(C8,'Valeurs Règlement Campagne'!$A$4:$AB$7,24,FALSE))<=2,VLOOKUP(C8,'Valeurs Règlement Campagne'!$A$4:$AB$7,24,FALSE),IF(ABS(I8-VLOOKUP(C8,'Valeurs Règlement Campagne'!$A$4:$AB$7,25,FALSE))<=2,VLOOKUP(C8,'Valeurs Règlement Campagne'!$A$4:$AB$7,25,FALSE),""))),1,0)+IF(VLOOKUP(C8,'Valeurs Règlement Campagne'!$A$4:$AB$7,25,FALSE)=IF(ABS(I8-VLOOKUP(C8,'Valeurs Règlement Campagne'!$A$4:$AB$7,23,FALSE))<=2,VLOOKUP(C8,'Valeurs Règlement Campagne'!$A$4:$AB$7,23,FALSE),IF(ABS(I8-VLOOKUP(C8,'Valeurs Règlement Campagne'!$A$4:$AB$7,24,FALSE))<=2,VLOOKUP(C8,'Valeurs Règlement Campagne'!$A$4:$AB$7,24,FALSE),IF(ABS(I8-VLOOKUP(C8,'Valeurs Règlement Campagne'!$A$4:$AB$7,25,FALSE))<=2,VLOOKUP(C8,'Valeurs Règlement Campagne'!$A$4:$AB$7,25,FALSE),""))),1,0)),1,0)),IF(IF(I8=VLOOKUP(C8,'Valeurs Règlement Campagne'!$A$4:$AB$7,23,FALSE),VLOOKUP(C8,'Valeurs Règlement Campagne'!$A$4:$AB$7,23,FALSE),IF(I8=VLOOKUP(C8,'Valeurs Règlement Campagne'!$A$4:$AB$7,24,FALSE),VLOOKUP(C8,'Valeurs Règlement Campagne'!$A$4:$AB$7,24,FALSE),IF(I8=VLOOKUP(C8,'Valeurs Règlement Campagne'!$A$4:$AB$7,25,FALSE),VLOOKUP(C8,'Valeurs Règlement Campagne'!$A$4:$AB$7,25,FALSE),"")))="",1,IF(COUNTIFS($C$6:C8,C8,$E$6:E8,"Connues",$I$6:I8,IF(I8=VLOOKUP(C8,'Valeurs Règlement Campagne'!$A$4:$AB$7,23,FALSE),VLOOKUP(C8,'Valeurs Règlement Campagne'!$A$4:$AB$7,23,FALSE),IF(I8=VLOOKUP(C8,'Valeurs Règlement Campagne'!$A$4:$AB$7,24,FALSE),VLOOKUP(C8,'Valeurs Règlement Campagne'!$A$4:$AB$7,24,FALSE),IF(I8=VLOOKUP(C8,'Valeurs Règlement Campagne'!$A$4:$AB$7,25,FALSE),VLOOKUP(C8,'Valeurs Règlement Campagne'!$A$4:$AB$7,25,FALSE),""))))>(IF(VLOOKUP(C8,'Valeurs Règlement Campagne'!$A$4:$AB$7,23,FALSE)=IF(I8=VLOOKUP(C8,'Valeurs Règlement Campagne'!$A$4:$AB$7,23,FALSE),VLOOKUP(C8,'Valeurs Règlement Campagne'!$A$4:$AB$7,23,FALSE),IF(I8=VLOOKUP(C8,'Valeurs Règlement Campagne'!$A$4:$AB$7,24,FALSE),VLOOKUP(C8,'Valeurs Règlement Campagne'!$A$4:$AB$7,24,FALSE),IF(I8=VLOOKUP(C8,'Valeurs Règlement Campagne'!$A$4:$AB$7,25,FALSE),VLOOKUP(C8,'Valeurs Règlement Campagne'!$A$4:$AB$7,25,FALSE),""))),1,0)+IF(VLOOKUP(C8,'Valeurs Règlement Campagne'!$A$4:$AB$7,24,FALSE)=IF(I8=VLOOKUP(C8,'Valeurs Règlement Campagne'!$A$4:$AB$7,23,FALSE),VLOOKUP(C8,'Valeurs Règlement Campagne'!$A$4:$AB$7,23,FALSE),IF(I8=VLOOKUP(C8,'Valeurs Règlement Campagne'!$A$4:$AB$7,24,FALSE),VLOOKUP(C8,'Valeurs Règlement Campagne'!$A$4:$AB$7,24,FALSE),IF(I8=VLOOKUP(C8,'Valeurs Règlement Campagne'!$A$4:$AB$7,25,FALSE),VLOOKUP(C8,'Valeurs Règlement Campagne'!$A$4:$AB$7,25,FALSE),""))),1,0)+IF(VLOOKUP(C8,'Valeurs Règlement Campagne'!$A$4:$AB$7,25,FALSE)=IF(I8=VLOOKUP(C8,'Valeurs Règlement Campagne'!$A$4:$AB$7,23,FALSE),VLOOKUP(C8,'Valeurs Règlement Campagne'!$A$4:$AB$7,23,FALSE),IF(I8=VLOOKUP(C8,'Valeurs Règlement Campagne'!$A$4:$AB$7,24,FALSE),VLOOKUP(C8,'Valeurs Règlement Campagne'!$A$4:$AB$7,24,FALSE),IF(I8=VLOOKUP(C8,'Valeurs Règlement Campagne'!$A$4:$AB$7,25,FALSE),VLOOKUP(C8,'Valeurs Règlement Campagne'!$A$4:$AB$7,25,FALSE),""))),1,0)),1,0))),0))),0) -> 0 | AM8: =IFERROR(IF(OR(C8="",C8=" ",NOT(ISNUMBER(J8))),0,IF(E8="Inconnues",IF(AND(J8>=S8,J8<=T8),0,1),IF(E8="Connues",IF('Valeurs Règlement Campagne'!$L$14="OUI",IF(IF(ABS(J8-VLOOKUP(C8,'Valeurs Règlement Campagne'!$A$4:$AB$7,26,FALSE))<=2,VLOOKUP(C8,'Valeurs Règlement Campagne'!$A$4:$AB$7,26,FALSE),IF(ABS(J8-VLOOKUP(C8,'Valeurs Règlement Campagne'!$A$4:$AB$7,27,FALSE))<=2,VLOOKUP(C8,'Valeurs Règlement Campagne'!$A$4:$AB$7,27,FALSE),IF(ABS(J8-VLOOKUP(C8,'Valeurs Règlement Campagne'!$A$4:$AB$7,28,FALSE))<=2,VLOOKUP(C8,'Valeurs Règlement Campagne'!$A$4:$AB$7,28,FALSE),"")))="",1,IF(COUNTIFS($C$6:C8,C8,$E$6:E8,"Connues",$J$6:J8,">="&(IF(ABS(J8-VLOOKUP(C8,'Valeurs Règlement Campagne'!$A$4:$AB$7,26,FALSE))<=2,VLOOKUP(C8,'Valeurs Règlement Campagne'!$A$4:$AB$7,26,FALSE),IF(ABS(J8-VLOOKUP(C8,'Valeurs Règlement Campagne'!$A$4:$AB$7,27,FALSE))<=2,VLOOKUP(C8,'Valeurs Règlement Campagne'!$A$4:$AB$7,27,FALSE),IF(ABS(J8-VLOOKUP(C8,'Valeurs Règlement Campagne'!$A$4:$AB$7,28,FALSE))<=2,VLOOKUP(C8,'Valeurs Règlement Campagne'!$A$4:$AB$7,28,FALSE),"")))-2),$J$6:J8,"<="&(IF(ABS(J8-VLOOKUP(C8,'Valeurs Règlement Campagne'!$A$4:$AB$7,26,FALSE))<=2,VLOOKUP(C8,'Valeurs Règlement Campagne'!$A$4:$AB$7,26,FALSE),IF(ABS(J8-VLOOKUP(C8,'Valeurs Règlement Campagne'!$A$4:$AB$7,27,FALSE))<=2,VLOOKUP(C8,'Valeurs Règlement Campagne'!$A$4:$AB$7,27,FALSE),IF(ABS(J8-VLOOKUP(C8,'Valeurs Règlement Campagne'!$A$4:$AB$7,28,FALSE))<=2,VLOOKUP(C8,'Valeurs Règlement Campagne'!$A$4:$AB$7,28,FALSE),"")))+2))>(IF(VLOOKUP(C8,'Valeurs Règlement Campagne'!$A$4:$AB$7,26,FALSE)=IF(ABS(J8-VLOOKUP(C8,'Valeurs Règlement Campagne'!$A$4:$AB$7,26,FALSE))<=2,VLOOKUP(C8,'Valeurs Règlement Campagne'!$A$4:$AB$7,26,FALSE),IF(ABS(J8-VLOOKUP(C8,'Valeurs Règlement Campagne'!$A$4:$AB$7,27,FALSE))<=2,VLOOKUP(C8,'Valeurs Règlement Campagne'!$A$4:$AB$7,27,FALSE),IF(ABS(J8-VLOOKUP(C8,'Valeurs Règlement Campagne'!$A$4:$AB$7,28,FALSE))<=2,VLOOKUP(C8,'Valeurs Règlement Campagne'!$A$4:$AB$7,28,FALSE),""))),1,0)+IF(VLOOKUP(C8,'Valeurs Règlement Campagne'!$A$4:$AB$7,27,FALSE)=IF(ABS(J8-VLOOKUP(C8,'Valeurs Règlement Campagne'!$A$4:$AB$7,26,FALSE))<=2,VLOOKUP(C8,'Valeurs Règlement Campagne'!$A$4:$AB$7,26,FALSE),IF(ABS(J8-VLOOKUP(C8,'Valeurs Règlement Campagne'!$A$4:$AB$7,27,FALSE))<=2,VLOOKUP(C8,'Valeurs Règlement Campagne'!$A$4:$AB$7,27,FALSE),IF(ABS(J8-VLOOKUP(C8,'Valeurs Règlement Campagne'!$A$4:$AB$7,28,FALSE))<=2,VLOOKUP(C8,'Valeurs Règlement Campagne'!$A$4:$AB$7,28,FALSE),""))),1,0)+IF(VLOOKUP(C8,'Valeurs Règlement Campagne'!$A$4:$AB$7,28,FALSE)=IF(ABS(J8-VLOOKUP(C8,'Valeurs Règlement Campagne'!$A$4:$AB$7,26,FALSE))<=2,VLOOKUP(C8,'Valeurs Règlement Campagne'!$A$4:$AB$7,26,FALSE),IF(ABS(J8-VLOOKUP(C8,'Valeurs Règlement Campagne'!$A$4:$AB$7,27,FALSE))<=2,VLOOKUP(C8,'Valeurs Règlement Campagne'!$A$4:$AB$7,27,FALSE),IF(ABS(J8-VLOOKUP(C8,'Valeurs Règlement Campagne'!$A$4:$AB$7,28,FALSE))<=2,VLOOKUP(C8,'Valeurs Règlement Campagne'!$A$4:$AB$7,28,FALSE),""))),1,0)),1,0)),IF(IF(J8=VLOOKUP(C8,'Valeurs Règlement Campagne'!$A$4:$AB$7,26,FALSE),VLOOKUP(C8,'Valeurs Règlement Campagne'!$A$4:$AB$7,26,FALSE),IF(J8=VLOOKUP(C8,'Valeurs Règlement Campagne'!$A$4:$AB$7,27,FALSE),VLOOKUP(C8,'Valeurs Règlement Campagne'!$A$4:$AB$7,27,FALSE),IF(J8=VLOOKUP(C8,'Valeurs Règlement Campagne'!$A$4:$AB$7,28,FALSE),VLOOKUP(C8,'Valeurs Règlement Campagne'!$A$4:$AB$7,28,FALSE),"")))="",1,IF(COUNTIFS($C$6:C8,C8,$E$6:E8,"Connues",$J$6:J8,IF(J8=VLOOKUP(C8,'Valeurs Règlement Campagne'!$A$4:$AB$7,26,FALSE),VLOOKUP(C8,'Valeurs Règlement Campagne'!$A$4:$AB$7,26,FALSE),IF(J8=VLOOKUP(C8,'Valeurs Règlement Campagne'!$A$4:$AB$7,27,FALSE),VLOOKUP(C8,'Valeurs Règlement Campagne'!$A$4:$AB$7,27,FALSE),IF(J8=VLOOKUP(C8,'Valeurs Règlement Campagne'!$A$4:$AB$7,28,FALSE),VLOOKUP(C8,'Valeurs Règlement Campagne'!$A$4:$AB$7,28,FALSE),""))))>(IF(VLOOKUP(C8,'Valeurs Règlement Campagne'!$A$4:$AB$7,26,FALSE)=IF(J8=VLOOKUP(C8,'Valeurs Règlement Campagne'!$A$4:$AB$7,26,FALSE),VLOOKUP(C8,'Valeurs Règlement Campagne'!$A$4:$AB$7,26,FALSE),IF(J8=VLOOKUP(C8,'Valeurs Règlement Campagne'!$A$4:$AB$7,27,FALSE),VLOOKUP(C8,'Valeurs Règlement Campagne'!$A$4:$AB$7,27,FALSE),IF(J8=VLOOKUP(C8,'Valeurs Règlement Campagne'!$A$4:$AB$7,28,FALSE),VLOOKUP(C8,'Valeurs Règlement Campagne'!$A$4:$AB$7,28,FALSE),""))),1,0)+IF(VLOOKUP(C8,'Valeurs Règlement Campagne'!$A$4:$AB$7,27,FALSE)=IF(J8=VLOOKUP(C8,'Valeurs Règlement Campagne'!$A$4:$AB$7,26,FALSE),VLOOKUP(C8,'Valeurs Règlement Campagne'!$A$4:$AB$7,26,FALSE),IF(J8=VLOOKUP(C8,'Valeurs Règlement Campagne'!$A$4:$AB$7,27,FALSE),VLOOKUP(C8,'Valeurs Règlement Campagne'!$A$4:$AB$7,27,FALSE),IF(J8=VLOOKUP(C8,'Valeurs Règlement Campagne'!$A$4:$AB$7,28,FALSE),VLOOKUP(C8,'Valeurs Règlement Campagne'!$A$4:$AB$7,28,FALSE),""))),1,0)+IF(VLOOKUP(C8,'Valeurs Règlement Campagne'!$A$4:$AB$7,28,FALSE)=IF(J8=VLOOKUP(C8,'Valeurs Règlement Campagne'!$A$4:$AB$7,26,FALSE),VLOOKUP(C8,'Valeurs Règlement Campagne'!$A$4:$AB$7,26,FALSE),IF(J8=VLOOKUP(C8,'Valeurs Règlement Campagne'!$A$4:$AB$7,27,FALSE),VLOOKUP(C8,'Valeurs Règlement Campagne'!$A$4:$AB$7,27,FALSE),IF(J8=VLOOKUP(C8,'Valeurs Règlement Campagne'!$A$4:$AB$7,28,FALSE),VLOOKUP(C8,'Valeurs Règlement Campagne'!$A$4:$AB$7,28,FALSE),""))),1,0)),1,0))),0))),0) -> 0
