Workbook

Sheet Organisateur
A1: Lieu - date - numéro projet :
A2: Numéro de Cible | B2: Saisie libre des informations de Localisation | C2: Choix du type de cible (liste) | E2: Saisie Distances parcours | J2: Rappel distances selon choix type | O2: Contrôle saisies distances des piquets | S2: Contrôle Distances inter-piquets
J3: Rouge | K3: Rouge | L3: Bleu | M3: Blanc | N3: Rose
E4: Rouge | F4: Bleu | G4: Blanc | H4: Rose | J4: mini | K4: maxi | L4: maxi | M4: maxi | N4: maxi | O4: Rouge | P4: Bleu | Q4: Blanc | R4: Rose | S4: Rouge | T4: Bleu | U4: Bleu | V4: Blanc | W4: Blanc | X4: Rose
A5: Exemple | B5: A droite grand chène | C5: Petit Animal | E5: 13 | F5: 6 | G5: 5 | H5: 5 | J5: =IF($C5="","",IFERROR(VLOOKUP($C5,'Valeurs Règlements Nature'!$A$5:$G$8,3,FALSE),"")) -> 5 | K5: =IF($C5="","",IFERROR(VLOOKUP($C5,'Valeurs Règlements Nature'!$A$5:$G$8,4,FALSE),"")) -> 15 | L5: =IF($C5="","",IFERROR(VLOOKUP($C5,'Valeurs Règlements Nature'!$A$5:$G$8,5,FALSE),"")) -> 15 | M5: =IF($C5="","",IFERROR(VLOOKUP($C5,'Valeurs Règlements Nature'!$A$5:$G$8,6,FALSE),"")) -> 15 | N5: =IF($C5="","",IFERROR(VLOOKUP($C5,'Valeurs Règlements Nature'!$A$5:$G$8,7,FALSE),"")) -> 10 | O5: =IF(OR($C5="",NOT(ISNUMBER(E5))),"",AND(E5>=J5,E5<=K5)) -> TRUE | P5: =IF(OR($C5="",NOT(ISNUMBER(F5))),"",AND(F5>='Valeurs Règlements Nature'!$F$17,F5<=L5)) -> TRUE | Q5: =IF(OR($C5="",NOT(ISNUMBER(G5))),"",AND(G5>='Valeurs Règlements Nature'!$F$17,G5<=M5)) -> TRUE | R5: =IF(OR($C5="",NOT(ISNUMBER(H5))),"",AND(H5>='Valeurs Règlements Nature'!$F$17,H5<=N5)) -> TRUE | S5: =IF(OR(NOT(ISNUMBER(E5)),NOT(ISNUMBER(F5))),"",IF(AND(E5>=F5,ABS(E5-F5)<='Valeurs Règlements Nature'!$F$16),"OK","Hors Fourchette")) -> OK | U5: =IF(OR(NOT(ISNUMBER(F5)),NOT(ISNUMBER(G5))),"",IF(AND(F5>=G5,ABS(F5-G5)<='Valeurs Règlements Nature'!$F$16),"OK","Hors Fourchette")) -> OK | W5: =IF(OR(NOT(ISNUMBER(G5)),NOT(ISNUMBER(H5))),"",IF(AND(G5>=H5,ABS(G5-H5)<='Valeurs Règlements Nature'!$F$16),"OK","Hors Fourchette")) -> OK
A6: 1 | J6: =IF($C6="","",IFERROR(VLOOKUP($C6,'Valeurs Règlements Nature'!$A$5:$G$8,3,FALSE),"")) | K6: =IF($C6="","",IFERROR(VLOOKUP($C6,'Valeurs Règlements Nature'!$A$5:$G$8,4,FALSE),"")) | L6: =IF($C6="","",IFERROR(VLOOKUP($C6,'Valeurs Règlements Nature'!$A$5:$G$8,5,FALSE),"")) | M6: =IF($C6="","",IFERROR(VLOOKUP($C6,'Valeurs Règlements Nature'!$A$5:$G$8,6,FALSE),"")) | N6: =IF($C6="","",IFERROR(VLOOKUP($C6,'Valeurs Règlements Nature'!$A$5:$G$8,7,FALSE),"")) | O6: =IF(OR($C6="",NOT(ISNUMBER(E6))),"",AND(E6>=J6,E6<=K6)) | P6: =IF(OR($C6="",NOT(ISNUMBER(F6))),"",AND(F6>='Valeurs Règlements Nature'!$F$17,F6<=L6)) | Q6: =IF(OR($C6="",NOT(ISNUMBER(G6))),"",AND(G6>='Valeurs Règlements Nature'!$F$17,G6<=M6)) | R6: =IF(OR($C6="",NOT(ISNUMBER(H6))),"",AND(H6>='Valeurs Règlements Nature'!$F$17,H6<=N6)) | S6: =IF(OR(NOT(ISNUMBER(E6)),NOT(ISNUMBER(F6))),"",IF(AND(E6>=F6,ABS(E6-F6)<='Valeurs Règlements Nature'!$F$16),"OK","Hors Fourchette")) | U6: =IF(OR(NOT(ISNUMBER(F6)),NOT(ISNUMBER(G6))),"",IF(AND(F6>=G6,ABS(F6-G6)<='Valeurs Règlements Nature'!$F$16),"OK","Hors Fourchette")) | W6: =IF(OR(NOT(ISNUMBER(G6)),NOT(ISNUMBER(H6))),"",IF(AND(G6>=H6,ABS(G6-H6)<='Valeurs Règlements Nature'!$F$16),"OK","Hors Fourchette"))
A7: 2 | J7: =IF($C7="","",IFERROR(VLOOKUP($C7,'Valeurs Règlements Nature'!$A$5:$G$8,3,FALSE),"")) | K7: =IF($C7="","",IFERROR(VLOOKUP($C7,'Valeurs Règlements Nature'!$A$5:$G$8,4,FALSE),"")) | L7: =IF($C7="","",IFERROR(VLOOKUP($C7,'Valeurs Règlements Nature'!$A$5:$G$8,5,FALSE),"")) | M7: =IF($C7="","",IFERROR(VLOOKUP($C7,'Valeurs Règlements Nature'!$A$5:$G$8,6,FALSE),"")) | N7: =IF($C7="","",IFERROR(VLOOKUP($C7,'Valeurs Règlements Nature'!$A$5:$G$8,7,FALSE),"")) | O7: =IF(OR($C7="",NOT(ISNUMBER(E7))),"",AND(E7>=J7,E7<=K7)) | P7: =IF(OR($C7="",NOT(ISNUMBER(F7))),"",AND(F7>='Valeurs Règlements Nature'!$F$17,F7<=L7)) | Q7: =IF(OR($C7="",NOT(ISNUMBER(G7))),"",AND(G7>='Valeurs Règlements Nature'!$F$17,G7<=M7)) | R7: =IF(OR($C7="",NOT(ISNUMBER(H7))),"",AND(H7>='Valeurs Règlements Nature'!$F$17,H7<=N7)) | S7: =IF(OR(NOT(ISNUMBER(E7)),NOT(ISNUMBER(F7))),"",IF(AND(E7>=F7,ABS(E7-F7)<='Valeurs Règlements Nature'!$F$16),"OK","Hors Fourchette")) | U7: =IF(OR(NOT(ISNUMBER(F7)),NOT(ISNUMBER(G7))),"",IF(AND(F7>=G7,ABS(F7-G7)<='Valeurs Règlements Nature'!$F$16),"OK","Hors Fourchette")) | W7: =IF(OR(NOT(ISNUMBER(G7)),NOT(ISNUMBER(H7))),"",IF(AND(G7>=H7,ABS(G7-H7)<='Valeurs Règlements Nature'!$F$16),"OK","Hors Fourchette"))
A8: 3 | J8: =IF($C8="","",IFERROR(VLOOKUP($C8,'Valeurs Règlements Nature'!$A$5:$G$8,3,FALSE),"")) | K8: =IF($C8="","",IFERROR(VLOOKUP($C8,'Valeurs Règlements Nature'!$A$5:$G$8,4,FALSE),"")) | L8: =IF($C8="","",IFERROR(VLOOKUP($C8,'Valeurs Règlements Nature'!$A$5:$G$8,5,FALSE),"")) | M8: =IF($C8="","",IFERROR(VLOOKUP($C8,'Valeurs Règlements Nature'!$A$5:$G$8,6,FALSE),"")) | N8: =IF($C8="","",IFERROR(VLOOKUP($C8,'Valeurs Règlements Nature'!$A$5:$G$8,7,FALSE),"")) | O8: =IF(OR($C8="",NOT(ISNUMBER(E8))),"",AND(E8>=J8,E8<=K8)) | P8: =IF(OR($C8="",NOT(ISNUMBER(F8))),"",AND(F8>='Valeurs Règlements Nature'!$F$17,F8<=L8)) | Q8: =IF(OR($C8="",NOT(ISNUMBER(G8))),"",AND(G8>='Valeurs Règlements Nature'!$F$17,G8<=M8)) | R8: =IF(OR($C8="",NOT(ISNUMBER(H8))),"",AND(H8>='Valeurs Règlements Nature'!$F$17,H8<=N8)) | S8: =IF(OR(NOT(ISNUMBER(E8)),NOT(ISNUMBER(F8))),"",IF(AND(E8>=F8,ABS(E8-F8)<='Valeurs Règlements Nature'!$F$16),"OK","Hors Fourchette")) | U8: =IF(OR(NOT(ISNUMBER(F8)),NOT(ISNUMBER(G8))),"",IF(AND(F8>=G8,ABS(F8-G8)<='Valeurs Règlements Nature'!$F$16),"OK","Hors Fourchette")) | W8: =IF(OR(NOT(ISNUMBER(G8)),NOT(ISNUMBER(H8))),"",IF(AND(G8>=H8,ABS(G8-H8)<='Valeurs Règlements Nature'!$F$16),"OK","Hors Fourchette"))
A9: 4 | J9: =IF($C9="","",IFERROR(VLOOKUP($C9,'Valeurs Règlements Nature'!$A$5:$G$8,3,FALSE),"")) | K9: =IF($C9="","",IFERROR(VLOOKUP($C9,'Valeurs Règlements Nature'!$A$5:$G$8,4,FALSE),"")) | L9: =IF($C9="","",IFERROR(VLOOKUP($C9,'Valeurs Règlements Nature'!$A$5:$G$8,5,FALSE),"")) | M9: =IF($C9="","",IFERROR(VLOOKUP($C9,'Valeurs Règlements Nature'!$A$5:$G$8,6,FALSE),"")) | N9: =IF($C9="","",IFERROR(VLOOKUP($C9,'Valeurs Règlements Nature'!$A$5:$G$8,7,FALSE),"")) | O9: =IF(OR($C9="",NOT(ISNUMBER(E9))),"",AND(E9>=J9,E9<=K9)) | P9: =IF(OR($C9="",NOT(ISNUMBER(F9))),"",AND(F9>='Valeurs Règlements Nature'!$F$17,F9<=L9)) | Q9: =IF(OR($C9="",NOT(ISNUMBER(G9))),"",AND(G9>='Valeurs Règlements Nature'!$F$17,G9<=M9)) | R9: =IF(OR($C9="",NOT(ISNUMBER(H9))),"",AND(H9>='Valeurs Règlements Nature'!$F$17,H9<=N9)) | S9: =IF(OR(NOT(ISNUMBER(E9)),NOT(ISNUMBER(F9))),"",IF(AND(E9>=F9,ABS(E9-F9)<='Valeurs Règlements Nature'!$F$16),"OK","Hors Fourchette")) | U9: =IF(OR(NOT(ISNUMBER(F9)),NOT(ISNUMBER(G9))),"",IF(AND(F9>=G9,ABS(F9-G9)<='Valeurs Règlements Nature'!$F$16),"OK","Hors Fourchette")) | W9: =IF(OR(NOT(ISNUMBER(G9)),NOT(ISNUMBER(H9))),"",IF(AND(G9>=H9,ABS(G9-H9)<='Valeurs Règlements Nature'!$F$16),"OK","Hors Fourchette"))
A10: 5 | J10: =IF($C10="","",IFERROR(VLOOKUP($C10,'Valeurs Règlements Nature'!$A$5:$G$8,3,FALSE),"")) | K10: =IF($C10="","",IFERROR(VLOOKUP($C10,'Valeurs Règlements Nature'!$A$5:$G$8,4,FALSE),"")) | L10: =IF($C10="","",IFERROR(VLOOKUP($C10,'Valeurs Règlements Nature'!$A$5:$G$8,5,FALSE),"")) | M10: =IF($C10="","",IFERROR(VLOOKUP($C10,'Valeurs Règlements Nature'!$A$5:$G$8,6,FALSE),"")) | N10: =IF($C10="","",IFERROR(VLOOKUP($C10,'Valeurs Règlements Nature'!$A$5:$G$8,7,FALSE),"")) | O10: =IF(OR($C10="",NOT(ISNUMBER(E10))),"",AND(E10>=J10,E10<=K10)) | P10: =IF(OR($C10="",NOT(ISNUMBER(F10))),"",AND(F10>='Valeurs Règlements Nature'!$F$17,F10<=L10)) | Q10: =IF(OR($C10="",NOT(ISNUMBER(G10))),"",AND(G10>='Valeurs Règlements Nature'!$F$17,G10<=M10)) | R10: =IF(OR($C10="",NOT(ISNUMBER(H10))),"",AND(H10>='Valeurs Règlements Nature'!$F$17,H10<=N10)) | S10: =IF(OR(NOT(ISNUMBER(E10)),NOT(ISNUMBER(F10))),"",IF(AND(E10>=F10,ABS(E10-F10)<='Valeurs Règlements Nature'!$F$16),"OK","Hors Fourchette")) | U10: =IF(OR(NOT(ISNUMBER(F10)),NOT(ISNUMBER(G10))),"",IF(AND(F10>=G10,ABS(F10-G10)<='Valeurs Règlements Nature'!$F$16),"OK","Hors Fourchette")) | W10: =IF(OR(NOT(ISNUMBER(G10)),NOT(ISNUMBER(H10))),"",IF(AND(G10>=H10,ABS(G10-H10)<='Valeurs Règlements Nature'!$F$16),"OK","Hors Fourchette"))
A11: 6 | J11: =IF($C11="","",IFERROR(VLOOKUP($C11,'Valeurs Règlements Nature'!$A$5:$G$8,3,FALSE),"")) | K11: =IF($C11="","",IFERROR(VLOOKUP($C11,'Valeurs Règlements Nature'!$A$5:$G$8,4,FALSE),"")) | L11: =IF($C11="","",IFERROR(VLOOKUP($C11,'Valeurs Règlements Nature'!$A$5:$G$8,5,FALSE),"")) | M11: =IF($C11="","",IFERROR(VLOOKUP($C11,'Valeurs Règlements Nature'!$A$5:$G$8,6,FALSE),"")) | N11: =IF($C11="","",IFERROR(VLOOKUP($C11,'Valeurs Règlements Nature'!$A$5:$G$8,7,FALSE),"")) | O11: =IF(OR($C11="",NOT(ISNUMBER(E11))),"",AND(E11>=J11,E11<=K11)) | P11: =IF(OR($C11="",NOT(ISNUMBER(F11))),"",AND(F11>='Valeurs Règlements Nature'!$F$17,F11<=L11)) | Q11: =IF(OR($C11="",NOT(ISNUMBER(G11))),"",AND(G11>='Valeurs Règlements Nature'!$F$17,G11<=M11)) | R11: =IF(OR($C11="",NOT(ISNUMBER(H11))),"",AND(H11>='Valeurs Règlements Nature'!$F$17,H11<=N11)) | S11: =IF(OR(NOT(ISNUMBER(E11)),NOT(ISNUMBER(F11))),"",IF(AND(E11>=F11,ABS(E11-F11)<='Valeurs Règlements Nature'!$F$16),"OK","Hors Fourchette")) | U11: =IF(OR(NOT(ISNUMBER(F11)),NOT(ISNUMBER(G11))),"",IF(AND(F11>=G11,ABS(F11-G11)<='Valeurs Règlements Nature'!$F$16),"OK","Hors Fourchette")) | W11: =IF(OR(NOT(ISNUMBER(G11)),NOT(ISNUMBER(H11))),"",IF(AND(G11>=H11,ABS(G11-H11)<='Valeurs Règlements Nature'!$F$16),"OK","Hors Fourchette"))
A12: 7 | J12: =IF($C12="","",IFERROR(VLOOKUP($C12,'Valeurs Règlements Nature'!$A$5:$G$8,3,FALSE),"")) | K12: =IF($C12="","",IFERROR(VLOOKUP($C12,'Valeurs Règlements Nature'!$A$5:$G$8,4,FALSE),"")) | L12: =IF($C12="","",IFERROR(VLOOKUP($C12,'Valeurs Règlements Nature'!$A$5:$G$8,5,FALSE),"")) | M12: =IF($C12="","",IFERROR(VLOOKUP($C12,'Valeurs Règlements Nature'!$A$5:$G$8,6,FALSE),"")) | N12: =IF($C12="","",IFERROR(VLOOKUP($C12,'Valeurs Règlements Nature'!$A$5:$G$8,7,FALSE),"")) | O12: =IF(OR($C12="",NOT(ISNUMBER(E12))),"",AND(E12>=J12,E12<=K12)) | P12: =IF(OR($C12="",NOT(ISNUMBER(F12))),"",AND(F12>='Valeurs Règlements Nature'!$F$17,F12<=L12)) | Q12: =IF(OR($C12="",NOT(ISNUMBER(G12))),"",AND(G12>='Valeurs Règlements Nature'!$F$17,G12<=M12)) | R12: =IF(OR($C12="",NOT(ISNUMBER(H12))),"",AND(H12>='Valeurs Règlements Nature'!$F$17,H12<=N12)) | S12: =IF(OR(NOT(ISNUMBER(E12)),NOT(ISNUMBER(F12))),"",IF(AND(E12>=F12,ABS(E12-F12)<='Valeurs Règlements Nature'!$F$16),"OK","Hors Fourchette")) | U12: =IF(OR(NOT(ISNUMBER(F12)),NOT(ISNUMBER(G12))),"",IF(AND(F12>=G12,ABS(F12-G12)<='Valeurs Règlements Nature'!$F$16),"OK","Hors Fourchette")) | W12: =IF(OR(NOT(ISNUMBER(G12)),NOT(ISNUMBER(H12))),"",IF(AND(G12>=H12,ABS(G12-H12)<='Valeurs Règlements Nature'!$F$16),"OK","Hors Fourchette"))
A13: 8 | J13: =IF($C13="","",IFERROR(VLOOKUP($C13,'Valeurs Règlements Nature'!$A$5:$G$8,3,FALSE),"")) | K13: =IF($C13="","",IFERROR(VLOOKUP($C13,'Valeurs Règlements Nature'!$A$5:$G$8,4,FALSE),"")) | L13: =IF($C13="","",IFERROR(VLOOKUP($C13,'Valeurs Règlements Nature'!$A$5:$G$8,5,FALSE),"")) | M13: =IF($C13="","",IFERROR(VLOOKUP($C13,'Valeurs Règlements Nature'!$A$5:$G$8,6,FALSE),"")) | N13: =IF($C13="","",IFERROR(VLOOKUP($C13,'Valeurs Règlements Nature'!$A$5:$G$8,7,FALSE),"")) | O13: =IF(OR($C13="",NOT(ISNUMBER(E13))),"",AND(E13>=J13,E13<=K13)) | P13: =IF(OR($C13="",NOT(ISNUMBER(F13))),"",AND(F13>='Valeurs Règlements Nature'!$F$17,F13<=L13)) | Q13: =IF(OR($C13="",NOT(ISNUMBER(G13))),"",AND(G13>='Valeurs Règlements Nature'!$F$17,G13<=M13)) | R13: =IF(OR($C13="",NOT(ISNUMBER(H13))),"",AND(H13>='Valeurs Règlements Nature'!$F$17,H13<=N13)) | S13: =IF(OR(NOT(ISNUMBER(E13)),NOT(ISNUMBER(F13))),"",IF(AND(E13>=F13,ABS(E13-F13)<='Valeurs Règlements Nature'!$F$16),"OK","Hors Fourchette")) | U13: =IF(OR(NOT(ISNUMBER(F13)),NOT(ISNUMBER(G13))),"",IF(AND(F13>=G13,ABS(F13-G13)<='Valeurs Règlements Nature'!$F$16),"OK","Hors Fourchette")) | W13: =IF(OR(NOT(ISNUMBER(G13)),NOT(ISNUMBER(H13))),"",IF(AND(G13>=H13,ABS(G13-H13)<='Valeurs Règlements Nature'!$F$16),"OK","Hors Fourchette"))
A14: 9 | J14: =IF($C14="","",IFERROR(VLOOKUP($C14,'Valeurs Règlements Nature'!$A$5:$G$8,3,FALSE),"")) | K14: =IF($C14="","",IFERROR(VLOOKUP($C14,'Valeurs Règlements Nature'!$A$5:$G$8,4,FALSE),"")) | L14: =IF($C14="","",IFERROR(VLOOKUP($C14,'Valeurs Règlements Nature'!$A$5:$G$8,5,FALSE),"")) | M14: =IF($C14="","",IFERROR(VLOOKUP($C14,'Valeurs Règlements Nature'!$A$5:$G$8,6,FALSE),"")) | N14: =IF($C14="","",IFERROR(VLOOKUP($C14,'Valeurs Règlements Nature'!$A$5:$G$8,7,FALSE),"")) | O14: =IF(OR($C14="",NOT(ISNUMBER(E14))),"",AND(E14>=J14,E14<=K14)) | P14: =IF(OR($C14="",NOT(ISNUMBER(F14))),"",AND(F14>='Valeurs Règlements Nature'!$F$17,F14<=L14)) | Q14: =IF(OR($C14="",NOT(ISNUMBER(G14))),"",AND(G14>='Valeurs Règlements Nature'!$F$17,G14<=M14)) | R14: =IF(OR($C14="",NOT(ISNUMBER(H14))),"",AND(H14>='Valeurs Règlements Nature'!$F$17,H14<=N14)) | S14: =IF(OR(NOT(ISNUMBER(E14)),NOT(ISNUMBER(F14))),"",IF(AND(E14>=F14,ABS(E14-F14)<='Valeurs Règlements Nature'!$F$16),"OK","Hors Fourchette")) | U14: =IF(OR(NOT(ISNUMBER(F14)),NOT(ISNUMBER(G14))),"",IF(AND(F14>=G14,ABS(F14-G14)<='Valeurs Règlements Nature'!$F$16),"OK","Hors Fourchette")) | W14: =IF(OR(NOT(ISNUMBER(G14)),NOT(ISNUMBER(H14))),"",IF(AND(G14>=H14,ABS(G14-H14)<='Valeurs Règlements Nature'!$F$16),"OK","Hors Fourchette"))
A15: 10 | J15: =IF($C15="","",IFERROR(VLOOKUP($C15,'Valeurs Règlements Nature'!$A$5:$G$8,3,FALSE),"")) | K15: =IF($C15="","",IFERROR(VLOOKUP($C15,'Valeurs Règlements Nature'!$A$5:$G$8,4,FALSE),"")) | L15: =IF($C15="","",IFERROR(VLOOKUP($C15,'Valeurs Règlements Nature'!$A$5:$G$8,5,FALSE),"")) | M15: =IF($C15="","",IFERROR(VLOOKUP($C15,'Valeurs Règlements Nature'!$A$5:$G$8,6,FALSE),"")) | N15: =IF($C15="","",IFERROR(VLOOKUP($C15,'Valeurs Règlements Nature'!$A$5:$G$8,7,FALSE),"")) | O15: =IF(OR($C15="",NOT(ISNUMBER(E15))),"",AND(E15>=J15,E15<=K15)) | P15: =IF(OR($C15="",NOT(ISNUMBER(F15))),"",AND(F15>='Valeurs Règlements Nature'!$F$17,F15<=L15)) | Q15: =IF(OR($C15="",NOT(ISNUMBER(G15))),"",AND(G15>='Valeurs Règlements Nature'!$F$17,G15<=M15)) | R15: =IF(OR($C15="",NOT(ISNUMBER(H15))),"",AND(H15>='Valeurs Règlements Nature'!$F$17,H15<=N15)) | S15: =IF(OR(NOT(ISNUMBER(E15)),NOT(ISNUMBER(F15))),"",IF(AND(E15>=F15,ABS(E15-F15)<='Valeurs Règlements Nature'!$F$16),"OK","Hors Fourchette")) | U15: =IF(OR(NOT(ISNUMBER(F15)),NOT(ISNUMBER(G15))),"",IF(AND(F15>=G15,ABS(F15-G15)<='Valeurs Règlements Nature'!$F$16),"OK","Hors Fourchette")) | W15: =IF(OR(NOT(ISNUMBER(G15)),NOT(ISNUMBER(H15))),"",IF(AND(G15>=H15,ABS(G15-H15)<='Valeurs Règlements Nature'!$F$16),"OK","Hors Fourchette"))
A16: 11 | J16: =IF($C16="","",IFERROR(VLOOKUP($C16,'Valeurs Règlements Nature'!$A$5:$G$8,3,FALSE),"")) | K16: =IF($C16="","",IFERROR(VLOOKUP($C16,'Valeurs Règlements Nature'!$A$5:$G$8,4,FALSE),"")) | L16: =IF($C16="","",IFERROR(VLOOKUP($C16,'Valeurs Règlements Nature'!$A$5:$G$8,5,FALSE),"")) | M16: =IF($C16="","",IFERROR(VLOOKUP($C16,'Valeurs Règlements Nature'!$A$5:$G$8,6,FALSE),"")) | N16: =IF($C16="","",IFERROR(VLOOKUP($C16,'Valeurs Règlements Nature'!$A$5:$G$8,7,FALSE),"")) | O16: =IF(OR($C16="",NOT(ISNUMBER(E16))),"",AND(E16>=J16,E16<=K16)) | P16: =IF(OR($C16="",NOT(ISNUMBER(F16))),"",AND(F16>='Valeurs Règlements Nature'!$F$17,F16<=L16)) | Q16: =IF(OR($C16="",NOT(ISNUMBER(G16))),"",AND(G16>='Valeurs Règlements Nature'!$F$17,G16<=M16)) | R16: =IF(OR($C16="",NOT(ISNUMBER(H16))),"",AND(H16>='Valeurs Règlements Nature'!$F$17,H16<=N16)) | S16: =IF(OR(NOT(ISNUMBER(E16)),NOT(ISNUMBER(F16))),"",IF(AND(E16>=F16,ABS(E16-F16)<='Valeurs Règlements Nature'!$F$16),"OK","Hors Fourchette")) | U16: =IF(OR(NOT(ISNUMBER(F16)),NOT(ISNUMBER(G16))),"",IF(AND(F16>=G16,ABS(F16-G16)<='Valeurs Règlements Nature'!$F$16),"OK","Hors Fourchette")) | W16: =IF(OR(NOT(ISNUMBER(G16)),NOT(ISNUMBER(H16))),"",IF(AND(G16>=H16,ABS(G16-H16)<='Valeurs Règlements Nature'!$F$16),"OK","Hors Fourchette"))
A17: 12 | J17: =IF($C17="","",IFERROR(VLOOKUP($C17,'Valeurs Règlements Nature'!$A$5:$G$8,3,FALSE),"")) | K17: =IF($C17="","",IFERROR(VLOOKUP($C17,'Valeurs Règlements Nature'!$A$5:$G$8,4,FALSE),"")) | L17: =IF($C17="","",IFERROR(VLOOKUP($C17,'Valeurs Règlements Nature'!$A$5:$G$8,5,FALSE),"")) | M17: =IF($C17="","",IFERROR(VLOOKUP($C17,'Valeurs Règlements Nature'!$A$5:$G$8,6,FALSE),"")) | N17: =IF($C17="","",IFERROR(VLOOKUP($C17,'Valeurs Règlements Nature'!$A$5:$G$8,7,FALSE),"")) | O17: =IF(OR($C17="",NOT(ISNUMBER(E17))),"",AND(E17>=J17,E17<=K17)) | P17: =IF(OR($C17="",NOT(ISNUMBER(F17))),"",AND(F17>='Valeurs Règlements Nature'!$F$17,F17<=L17)) | Q17: =IF(OR($C17="",NOT(ISNUMBER(G17))),"",AND(G17>='Valeurs Règlements Nature'!$F$17,G17<=M17)) | R17: =IF(OR($C17="",NOT(ISNUMBER(H17))),"",AND(H17>='Valeurs Règlements Nature'!$F$17,H17<=N17)) | S17: =IF(OR(NOT(ISNUMBER(E17)),NOT(ISNUMBER(F17))),"",IF(AND(E17>=F17,ABS(E17-F17)<='Valeurs Règlements Nature'!$F$16),"OK","Hors Fourchette")) | U17: =IF(OR(NOT(ISNUMBER(F17)),NOT(ISNUMBER(G17))),"",IF(AND(F17>=G17,ABS(F17-G17)<='Valeurs Règlements Nature'!$F$16),"OK","Hors Fourchette")) | W17: =IF(OR(NOT(ISNUMBER(G17)),NOT(ISNUMBER(H17))),"",IF(AND(G17>=H17,ABS(G17-H17)<='Valeurs Règlements Nature'!$F$16),"OK","Hors Fourchette"))
... A26: 21 | J26: =IF($C26="","",IFERROR(VLOOKUP($C26,'Valeurs Règlements Nature'!$A$5:$G$8,3,FALSE),"")) | K26: =IF($C26="","",IFERROR(VLOOKUP($C26,'Valeurs Règlements Nature'!$A$5:$G$8,4,FALSE),"")) | L26: =IF($C26="","",IFERROR(VLOOKUP($C26,'Valeurs Règlements Nature'!$A$5:$G$8,5,FALSE),"")) | M26: =IF($C26="","",IFERROR(VLOOKUP($C26,'Valeurs Règlements Nature'!$A$5:$G$8,6,FALSE),"")) | N26: =IF($C26="","",IFERROR(VLOOKUP($C26,'Valeurs Règlements Nature'!$A$5:$G$8,7,FALSE),"")) | O26: =IF(OR($C26="",NOT(ISNUMBER(E26))),"",AND(E26>=J26,E26<=K26)) | P26: =IF(OR($C26="",NOT(ISNUMBER(F26))),"",AND(F26>='Valeurs Règlements Nature'!$F$17,F26<=L26)) | Q26: =IF(OR($C26="",NOT(ISNUMBER(G26))),"",AND(G26>='Valeurs Règlements Nature'!$F$17,G26<=M26)) | R26: =IF(OR($C26="",NOT(ISNUMBER(H26))),"",AND(H26>='Valeurs Règlements Nature'!$F$17,H26<=N26)) | S26: =IF(OR(NOT(ISNUMBER(E26)),NOT(ISNUMBER(F26))),"",IF(AND(E26>=F26,ABS(E26-F26)<='Valeurs Règlements Nature'!$F$16),"OK","Hors Fourchette")) | U26: =IF(OR(NOT(ISNUMBER(F26)),NOT(ISNUMBER(G26))),"",IF(AND(F26>=G26,ABS(F26-G26)<='Valeurs Règlements Nature'!$F$16),"OK","Hors Fourchette")) | W26: =IF(OR(NOT(ISNUMBER(G26)),NOT(ISNUMBER(H26))),"",IF(AND(G26>=H26,ABS(G26-H26)<='Valeurs Règlements Nature'!$F$16),"OK","Hors Fourchette"))
B28: Nb réglementaire répartition par type | C28: Nb effectif | D28: Contrôle Nb | E28: Moyenne | F28: Moyenne | G28: Moyenne | H28: Moyenne
A29: ='Valeurs Règlements Nature'!A5 -> Petit Animal | B29: ='Valeurs Règlements Nature'!B5 -> 4 | C29: =COUNTIF($C6:$C26,A29) -> 0 | D29: =IF(C29=B29,"ok","incorrect") -> incorrect | E29: =IFERROR(AVERAGEIF($C$6:$C$26,$A29,E$6:E$26),"") | F29: =IFERROR(AVERAGEIF($C$6:$C$26,$A29,F$6:F$26),"") | G29: =IFERROR(AVERAGEIF($C$6:$C$26,$A29,G$6:G$26),"") | H29: =IFERROR(AVERAGEIF($C$6:$C$26,$A29,H$6:H$26),"") | M29: ORGANISATEUR
A30: ='Valeurs Règlements Nature'!A6 -> Petit Gibier | B30: ='Valeurs Règlements Nature'!B6 -> 6 | C30: =COUNTIF($C6:$C26,A30) -> 0 | D30: =IF(C30=B30,"ok","incorrect") -> incorrect | E30: =IFERROR(AVERAGEIF($C$6:$C$26,$A30,E$6:E$26),"") | F30: =IFERROR(AVERAGEIF($C$6:$C$26,$A30,F$6:F$26),"") | G30: =IFERROR(AVERAGEIF($C$6:$C$26,$A30,G$6:G$26),"") | H30: =IFERROR(AVERAGEIF($C$6:$C$26,$A30,H$6:H$26),"")
A31: ='Valeurs Règlements Nature'!A7 -> Moyen Gibier | B31: ='Valeurs Règlements Nature'!B7 -> 7 | C31: =COUNTIF($C6:$C26,A31) -> 0 | D31: =IF(C31=B31,"ok","incorrect") -> incorrect | E31: =IFERROR(AVERAGEIF($C$6:$C$26,$A31,E$6:E$26),"") | F31: =IFERROR(AVERAGEIF($C$6:$C$26,$A31,F$6:F$26),"") | G31: =IFERROR(AVERAGEIF($C$6:$C$26,$A31,G$6:G$26),"") | H31: =IFERROR(AVERAGEIF($C$6:$C$26,$A31,H$6:H$26),"")
A32: ='Valeurs Règlements Nature'!A8 -> Grand Gibier | B32: ='Valeurs Règlements Nature'!B8 -> 4 | C32: =COUNTIF($C6:$C26,A32) -> 0 | D32: =IF(C32=B32,"ok","incorrect") -> incorrect | E32: =IFERROR(AVERAGEIF($C$6:$C$26,$A32,E$6:E$26),"") | F32: =IFERROR(AVERAGEIF($C$6:$C$26,$A32,F$6:F$26),"") | G32: =IFERROR(AVERAGEIF($C$6:$C$26,$A32,G$6:G$26),"") | H32: =IFERROR(AVERAGEIF($C$6:$C$26,$A32,H$6:H$26),"")
B33: =SUM(B29:B32) -> 21 | E33: Total | F33: Total | G33: Total | H33: Total
E34: =SUM(E6:E26) -> 0 | F34: =SUM(F6:F26) -> 0 | G34: =SUM(G6:G26) -> 0 | H34: =SUM(H6:H26) -> 0
B35: Fourchette réglementaire Rouge | C35: ='Valeurs Règlements Nature'!C10 -> 525 | D35: ='Valeurs Règlements Nature'!D10 -> 550 | E35: =IF(COUNT(E6:E26)=0,"",IF(AND(COUNT(E6:E26)=21,E34>=C35,E34<=D35),"ok",IF(COUNT(E6:E26)<21,"incorrect","hors fourchette")))

Sheet Synthèse conformité
A1: ASSISTANT TERRAIN NATURE — SYNTHÈSE DE CONFORMITÉ 2027
A3: Projet / lieu / date | C3: =Organisateur!A1 -> Lieu - date - numéro projet :
A5: CONTRÔLE | B5: VALEUR | C5: ATTENDU | D5: STATUT | E5: ANOMALIES | F5: RÉFÉRENCE | G5: PORTÉE | H5: COMMENTAIRE
A6: Cibles renseignées | B6: =COUNTIF(Organisateur!C6:C26,"<>") -> 0 | C6: 21 | D6: =IF(B6=Organisateur!B33,"CONFORME",IF(B6=0,"À RENSEIGNER","À COMPLÉTER")) -> À RENSEIGNER | E6: =Organisateur!B33-B6 -> 21 | F6: II.5.B.1 / B.6.1 | G6: Parcours | H6: Une ligne est renseignée dès qu'un type de cible est sélectionné.
A7: Répartition des types | B7: =Organisateur!C29&" / "&Organisateur!C30&" / "&Organisateur!C31&" / "&Organisateur!C32 -> 0 / 0 / 0 / 0 | C7: 4 / 6 / 7 / 4 | D7: =IF(B6=0,"À RENSEIGNER",IF(COUNTIF(Organisateur!D29:D32,"ok")=4,"CONFORME","NON CONFORME")) -> À RENSEIGNER | E7: =SUM(ABS(Organisateur!C29-Organisateur!B29),ABS(Organisateur!C30-Organisateur!B30),ABS(Organisateur!C31-Organisateur!B31),ABS(Organisateur!C32-Organisateur!B32)) -> 21 | F7: II.5.B.6.1 | G7: Parcours | H7: Petit animal / Petit gibier / Moyen gibier / Grand gibier.
A8: Distances individuelles | B8: =COUNT(Organisateur!E6:G26)&"/"&3*Organisateur!B33&" obligatoires ; Rose "&COUNT(Organisateur!H6:H26)&"/"&Organisateur!B33 -> 0/63 obligatoires ; Rose 0/21 | C8: R/B/B complets ; Rose 0 ou 21 | D8: =IF(B6=0,"À RENSEIGNER",IF(E8>0,"NON CONFORME",IF(OR(COUNT(Organisateur!E6:G26)<3*Organisateur!B33,AND(COUNT(Organisateur!H6:H26)>0,COUNT(Organisateur!H6:H26)<Organisateur!B33)),"À COMPLÉTER","CONFORME"))) -> À RENSEIGNER | E8: =COUNTIF(Organisateur!O6:R26,FALSE) -> 0 | F8: II.5.B.5 | G8: Chaque cible | H8: Rouge selon type ; bleu/blanc/rose ≤ maxima réglementaires ; distance mini 5 m.
A9: Ordre / écart des piquets | B9: =COUNTIF(Organisateur!S6:W26,"OK")&" contrôles conformes" -> 0 contrôles conformes | C9: Ordre dégressif ; ≤7 m | D9: =IF(B6=0,"À RENSEIGNER",IF(E9=0,"CONFORME","NON CONFORME")) -> À RENSEIGNER | E9: =COUNTIF(Organisateur!S6:W26,"Hors Fourchette")+COUNTIF(Organisateur!S6:W26,"Faux") -> 0 | F9: II.5.B.3 | G9: Chaque cible | H9: Précontrôle par différence des distances cible-piquet. Vérifier le cheminement réel sur terrain si décalage latéral.
A10: Cumul des distances rouges | B10: =IF(COUNT(Organisateur!E6:E26)=0,"Non renseigné",Organisateur!E34&" m") -> Non renseigné | C10: 525 à 550 m | D10: =IF(COUNT(Organisateur!E6:E26)=0,"À RENSEIGNER",IF(COUNT(Organisateur!E6:E26)<Organisateur!B33,"À COMPLÉTER",IF(AND(Organisateur!E34>=Organisateur!C35,Organisateur!E34<=Organisateur!D35),"CONFORME","NON CONFORME"))) -> À RENSEIGNER | E10: =IF(D10="NON CONFORME",1,0) -> 0 | F10: II.5.B.5 | G10: Parcours | H10: Somme des 21 distances du pas rouge aux cibles.
A11: Zones marquantes non homologuées | B11: =COUNTIF(Arbitre!AO6:AO26,"CONFORME")&" conformes / "&COUNTIF(Arbitre!AO6:AO26,"NON CONFORME")&" anomalies" -> 0 conformes / 0 anomalies | C11: Si mesurées : conformes | D11: =IF(COUNTIF(Arbitre!AO6:AO26,"CONFORME")+COUNTIF(Arbitre!AO6:AO26,"NON CONFORME")=0,"OPTIONNEL",IF(COUNTIF(Arbitre!AO6:AO26,"NON CONFORME")=0,"CONFORME","NON CONFORME")) -> OPTIONNEL | E11: =COUNTIF(Arbitre!AO6:AO26,"NON CONFORME") -> 0 | F11: II.5.B.6.2 à B.6.5 | G11: Cible concernée | H11: Contrôle optionnel : dimensions des zones tué, surface blessée et ratio ; tolérance de traçage ±2 mm.
A13: STATUT GLOBAL DU PARCOURS | D13: =IF(B6=0,"À RENSEIGNER",IF(COUNTIF(D6:D11,"NON CONFORME")>0,"NON CONFORME",IF(COUNTIF(D6:D10,"À*")>0,"À COMPLÉTER","CONFORME"))) -> À RENSEIGNER
A16: Piquet rose : obligatoire si au moins un U11 est inscrit au plus tard 7 jours avant la compétition ; si aucun U11 n’est inscrit dans ce délai, laisser la colonne Rose vide.
A17: Le contrôle d’écart entre piquets est un précontrôle calculé à partir des distances à la cible. Le règlement impose ≤7 m par le cheminement normal entre pas successifs : vérifier sur le terrain si les piquets sont décalés latéralement.
A18: Le pas jaune doit précéder le premier pas rouge de 4 à 10 m par l’accès normal. Ce point n’est pas calculé automatiquement dans le présent classeur.

Sheet Arbitre
A1: =Organisateur!A1 -> Lieu - date - numéro projet : | Y1: Contrôleur de zones marquantes | AP1: <----- Déployer les colonnes masquées pour le calculateur de zones marquantes (cibles non homologuées FFTA)
A2: Numéro de Cible | B2: Saisie libre des informations de Cible. Reportées depuis l'onglet "Organisateur", si saisies | C2: Choix du type de cible (liste), reporté depuis "Organisateur", si possible | E2: Saisie Distances parcours reportées depuis "Organisateur", si possible | J2: Rappel distances selon choix type | O2: Contrôle saisies distances des piquets | S2: Contrôle Distances inter-piquets | Y2: ± 2 mm | Z2: Mesures en cm | AF2: Rappel Taille arc libre | AH2: Rappel Taille hors libre | AJ2: Calcul des surfaces | AM2: Ratio calculé | AN2: Surface blessée max | AO2: Contrôle zones
J3: Rouge | K3: Rouge | L3: Bleu | M3: Blanc | N3: Rose | Y3: 0.2 | Z3: Tué (Arc Libre) | AB3: Tué | AD3: zone blessé | AJ3: Tué calculé (Arc Libre) | AK3: Tué calculé | AL3: Zone blessé calculée | AN3: Maxi
E4: Rouge | F4: Bleu | G4: Blanc | H4: Rose | J4: mini | K4: maxi | L4: maxi | M4: maxi | N4: maxi | O4: Rouge | P4: Bleu | Q4: Blanc | R4: Rose | S4: Rouge | T4: Bleu | U4: Bleu | V4: Blanc | W4: Blanc | X4: Rose | Y4: Ronde ? | Z4: D | AA4: L | AB4: D | AC4: L | AD4: D | AE4: L | AF4: D | AG4: L | AH4: D | AI4: L | AM4: Ratio | AN4: Max | AO4: Statut
A5: Exemple | B5: A droite grand chène | C5: Petit Animal | E5: 13 | F5: 6 | G5: 5 | H5: 5 | J5: =IF($C5="","",IFERROR(VLOOKUP($C5,'Valeurs Règlements Nature'!$A$5:$G$8,3,FALSE),"")) -> 5 | K5: =IF($C5="","",IFERROR(VLOOKUP($C5,'Valeurs Règlements Nature'!$A$5:$G$8,4,FALSE),"")) -> 15 | L5: =IF($C5="","",IFERROR(VLOOKUP($C5,'Valeurs Règlements Nature'!$A$5:$G$8,5,FALSE),"")) -> 15 | M5: =IF($C5="","",IFERROR(VLOOKUP($C5,'Valeurs Règlements Nature'!$A$5:$G$8,6,FALSE),"")) -> 15 | N5: =IF($C5="","",IFERROR(VLOOKUP($C5,'Valeurs Règlements Nature'!$A$5:$G$8,7,FALSE),"")) -> 10 | O5: =IF(OR($C5="",NOT(ISNUMBER(E5))),"",AND(E5>=J5,E5<=K5)) -> TRUE | P5: =IF(OR($C5="",NOT(ISNUMBER(F5))),"",AND(F5>='Valeurs Règlements Nature'!$F$17,F5<=L5)) -> TRUE | Q5: =IF(OR($C5="",NOT(ISNUMBER(G5))),"",AND(G5>='Valeurs Règlements Nature'!$F$17,G5<=M5)) -> TRUE | R5: =IF(OR($C5="",NOT(ISNUMBER(H5))),"",AND(H5>='Valeurs Règlements Nature'!$F$17,H5<=N5)) -> TRUE | S5: =IF(OR(NOT(ISNUMBER(E5)),NOT(ISNUMBER(F5))),"",IF(AND(E5>=F5,ABS(E5-F5)<='Valeurs Règlements Nature'!$F$16),"OK","Hors Fourchette")) -> OK | U5: =IF(OR(NOT(ISNUMBER(F5)),NOT(ISNUMBER(G5))),"",IF(AND(F5>=G5,ABS(F5-G5)<='Valeurs Règlements Nature'!$F$16),"OK","Hors Fourchette")) -> OK | W5: =IF(OR(NOT(ISNUMBER(G5)),NOT(ISNUMBER(H5))),"",IF(AND(G5>=H5,ABS(G5-H5)<='Valeurs Règlements Nature'!$F$16),"OK","Hors Fourchette")) -> OK | Y5: Oui | Z5: 7.5 | AB5: 7.5 | AD5: 20 | AF5: =IF(OR($C5="",$Y5=""),"",IF($Y5="Oui",IFERROR(VLOOKUP($C5,'Valeurs Règlements Nature'!$A$5:$Q$8,12,FALSE),""),IFERROR(VLOOKUP($C5,'Valeurs Règlements Nature'!$A$5:$Q$8,13,FALSE),""))) -> 7.5 | AG5: =IF(OR($C5="",$Y5="Oui",$Y5=""),"",IFERROR(VLOOKUP($C5,'Valeurs Règlements Nature'!$A$5:$Q$8,14,FALSE),"")) | AH5: =IF(OR($C5="",$Y5=""),"",IF($Y5="Oui",IFERROR(VLOOKUP($C5,'Valeurs Règlements Nature'!$A$5:$Q$8,15,FALSE),""),IFERROR(VLOOKUP($C5,'Valeurs Règlements Nature'!$A$5:$Q$8,16,FALSE),""))) -> 7.5 | AI5: =IF(OR($C5="",$Y5="Oui",$Y5=""),"",IFERROR(VLOOKUP($C5,'Valeurs Règlements Nature'!$A$5:$Q$8,17,FALSE),"")) | AJ5: =IF(NOT(ISNUMBER(Z5)),"",IF($Y5="Oui",PI()*(Z5/2)^2,IF(ISNUMBER(AA5),PI()*(Z5/2)*(AA5/2),""))) -> 44.178647 | AK5: =IF(NOT(ISNUMBER(AB5)),"",IF($Y5="Oui",PI()*(AB5/2)^2,IF(ISNUMBER(AC5),PI()*(AB5/2)*(AC5/2),""))) -> 44.178647 | AL5: =IF(NOT(ISNUMBER(AD5)),"",IF($Y5="Oui",PI()*(AD5/2)^2,IF(ISNUMBER(AE5),PI()*(AD5/2)*(AE5/2),""))) -> 314.15927 | AM5: =IF(OR(AK5="",AK5=0,AL5=""),"",AL5/AK5) -> 7.1111111 | AN5: =IF($C5="","",IFERROR(VLOOKUP($C5,'Valeurs Règlements Nature'!$A$5:$K$8,9,FALSE),"")) -> 660 | AO5: =IF(OR($C5="",$Y5="",AJ5="",AK5="",AL5="",AM5=""),"",IF(AND(ABS(Z5-AF5)<=$Y$3,IF($Y5="Oui",TRUE,ABS(AA5-AG5)<=$Y$3),ABS(AB5-AH5)<=$Y$3,IF($Y5="Oui",TRUE,ABS(AC5-AI5)<=$Y$3),AL5>=IFERROR(VLOOKUP($C5,'Valeurs Règlements Nature'!$A$5:$K$8,8,FALSE),0),AL5<=AN5,AM5>=IFERROR(VLOOKUP($C5,'Valeurs Règlements Nature'!$A$5:$K$8,10,FALSE),0),AM5<=IFERROR(VLOOKUP($C5,'Valeurs Règlements Nature'!$A$5:$K$8,11,FALSE),999)),"CONFORME","NON CONFORME")) -> CONFORME
A6: 1 | B6: =IF(Organisateur!B6="","",Organisateur!B6) | C6: =IF(Organisateur!C6="","",Organisateur!C6) | E6: =IF(Organisateur!E6="","",Organisateur!E6) | F6: =IF(Organisateur!F6="","",Organisateur!F6) | G6: =IF(Organisateur!G6="","",Organisateur!G6) | H6: =IF(Organisateur!H6="","",Organisateur!H6) | J6: =IF($C6="","",IFERROR(VLOOKUP($C6,'Valeurs Règlements Nature'!$A$5:$G$8,3,FALSE),"")) | K6: =IF($C6="","",IFERROR(VLOOKUP($C6,'Valeurs Règlements Nature'!$A$5:$G$8,4,FALSE),"")) | L6: =IF($C6="","",IFERROR(VLOOKUP($C6,'Valeurs Règlements Nature'!$A$5:$G$8,5,FALSE),"")) | M6: =IF($C6="","",IFERROR(VLOOKUP($C6,'Valeurs Règlements Nature'!$A$5:$G$8,6,FALSE),"")) | N6: =IF($C6="","",IFERROR(VLOOKUP($C6,'Valeurs Règlements Nature'!$A$5:$G$8,7,FALSE),"")) | O6: =IF(OR($C6="",NOT(ISNUMBER(E6))),"",AND(E6>=J6,E6<=K6)) | P6: =IF(OR($C6="",NOT(ISNUMBER(F6))),"",AND(F6>='Valeurs Règlements Nature'!$F$17,F6<=L6)) | Q6: =IF(OR($C6="",NOT(ISNUMBER(G6))),"",AND(G6>='Valeurs Règlements Nature'!$F$17,G6<=M6)) | R6: =IF(OR($C6="",NOT(ISNUMBER(H6))),"",AND(H6>='Valeurs Règlements Nature'!$F$17,H6<=N6)) | S6: =IF(OR(NOT(ISNUMBER(E6)),NOT(ISNUMBER(F6))),"",IF(AND(E6>=F6,ABS(E6-F6)<='Valeurs Règlements Nature'!$F$16),"OK","Hors Fourchette")) | U6: =IF(OR(NOT(ISNUMBER(F6)),NOT(ISNUMBER(G6))),"",IF(AND(F6>=G6,ABS(F6-G6)<='Valeurs Règlements Nature'!$F$16),"OK","Hors Fourchette")) | W6: =IF(OR(NOT(ISNUMBER(G6)),NOT(ISNUMBER(H6))),"",IF(AND(G6>=H6,ABS(G6-H6)<='Valeurs Règlements Nature'!$F$16),"OK","Hors Fourchette")) | AF6: =IF(OR($C6="",$Y6=""),"",IF($Y6="Oui",IFERROR(VLOOKUP($C6,'Valeurs Règlements Nature'!$A$5:$Q$8,12,FALSE),""),IFERROR(VLOOKUP($C6,'Valeurs Règlements Nature'!$A$5:$Q$8,13,FALSE),""))) | AG6: =IF(OR($C6="",$Y6="Oui",$Y6=""),"",IFERROR(VLOOKUP($C6,'Valeurs Règlements Nature'!$A$5:$Q$8,14,FALSE),"")) | AH6: =IF(OR($C6="",$Y6=""),"",IF($Y6="Oui",IFERROR(VLOOKUP($C6,'Valeurs Règlements Nature'!$A$5:$Q$8,15,FALSE),""),IFERROR(VLOOKUP($C6,'Valeurs Règlements Nature'!$A$5:$Q$8,16,FALSE),""))) | AI6: =IF(OR($C6="",$Y6="Oui",$Y6=""),"",IFERROR(VLOOKUP($C6,'Valeurs Règlements Nature'!$A$5:$Q$8,17,FALSE),"")) | AJ6: =IF(NOT(ISNUMBER(Z6)),"",IF($Y6="Oui",PI()*(Z6/2)^2,IF(ISNUMBER(AA6),PI()*(Z6/2)*(AA6/2),""))) | AK6: =IF(NOT(ISNUMBER(AB6)),"",IF($Y6="Oui",PI()*(AB6/2)^2,IF(ISNUMBER(AC6),PI()*(AB6/2)*(AC6/2),""))) | AL6: =IF(NOT(ISNUMBER(AD6)),"",IF($Y6="Oui",PI()*(AD6/2)^2,IF(ISNUMBER(AE6),PI()*(AD6/2)*(AE6/2),""))) | AM6: =IF(OR(AK6="",AK6=0,AL6=""),"",AL6/AK6) | AN6: =IF($C6="","",IFERROR(VLOOKUP($C6,'Valeurs Règlements Nature'!$A$5:$K$8,9,FALSE),"")) | AO6: =IF(OR($C6="",$Y6="",AJ6="",AK6="",AL6="",AM6=""),"",IF(AND(ABS(Z6-AF6)<=$Y$3,IF($Y6="Oui",TRUE,ABS(AA6-AG6)<=$Y$3),ABS(AB6-AH6)<=$Y$3,IF($Y6="Oui",TRUE,ABS(AC6-AI6)<=$Y$3),AL6>=IFERROR(VLOOKUP($C6,'Valeurs Règlements Nature'!$A$5:$K$8,8,FALSE),0),AL6<=AN6,AM6>=IFERROR(VLOOKUP($C6,'Valeurs Règlements Nature'!$A$5:$K$8,10,FALSE),0),AM6<=IFERROR(VLOOKUP($C6,'Valeurs Règlements Nature'!$A$5:$K$8,11,FALSE),999)),"CONFORME","NON CONFORME"))
A7: 2 | B7: =IF(Organisateur!B7="","",Organisateur!B7) | C7: =IF(Organisateur!C7="","",Organisateur!C7) | E7: =IF(Organisateur!E7="","",Organisateur!E7) | F7: =IF(Organisateur!F7="","",Organisateur!F7) | G7: =IF(Organisateur!G7="","",Organisateur!G7) | H7: =IF(Organisateur!H7="","",Organisateur!H7) | J7: =IF($C7="","",IFERROR(VLOOKUP($C7,'Valeurs Règlements Nature'!$A$5:$G$8,3,FALSE),"")) | K7: =IF($C7="","",IFERROR(VLOOKUP($C7,'Valeurs Règlements Nature'!$A$5:$G$8,4,FALSE),"")) | L7: =IF($C7="","",IFERROR(VLOOKUP($C7,'Valeurs Règlements Nature'!$A$5:$G$8,5,FALSE),"")) | M7: =IF($C7="","",IFERROR(VLOOKUP($C7,'Valeurs Règlements Nature'!$A$5:$G$8,6,FALSE),"")) | N7: =IF($C7="","",IFERROR(VLOOKUP($C7,'Valeurs Règlements Nature'!$A$5:$G$8,7,FALSE),"")) | O7: =IF(OR($C7="",NOT(ISNUMBER(E7))),"",AND(E7>=J7,E7<=K7)) | P7: =IF(OR($C7="",NOT(ISNUMBER(F7))),"",AND(F7>='Valeurs Règlements Nature'!$F$17,F7<=L7)) | Q7: =IF(OR($C7="",NOT(ISNUMBER(G7))),"",AND(G7>='Valeurs Règlements Nature'!$F$17,G7<=M7)) | R7: =IF(OR($C7="",NOT(ISNUMBER(H7))),"",AND(H7>='Valeurs Règlements Nature'!$F$17,H7<=N7)) | S7: =IF(OR(NOT(ISNUMBER(E7)),NOT(ISNUMBER(F7))),"",IF(AND(E7>=F7,ABS(E7-F7)<='Valeurs Règlements Nature'!$F$16),"OK","Hors Fourchette")) | U7: =IF(OR(NOT(ISNUMBER(F7)),NOT(ISNUMBER(G7))),"",IF(AND(F7>=G7,ABS(F7-G7)<='Valeurs Règlements Nature'!$F$16),"OK","Hors Fourchette")) | W7: =IF(OR(NOT(ISNUMBER(G7)),NOT(ISNUMBER(H7))),"",IF(AND(G7>=H7,ABS(G7-H7)<='Valeurs Règlements Nature'!$F$16),"OK","Hors Fourchette")) | AF7: =IF(OR($C7="",$Y7=""),"",IF($Y7="Oui",IFERROR(VLOOKUP($C7,'Valeurs Règlements Nature'!$A$5:$Q$8,12,FALSE),""),IFERROR(VLOOKUP($C7,'Valeurs Règlements Nature'!$A$5:$Q$8,13,FALSE),""))) | AG7: =IF(OR($C7="",$Y7="Oui",$Y7=""),"",IFERROR(VLOOKUP($C7,'Valeurs Règlements Nature'!$A$5:$Q$8,14,FALSE),"")) | AH7: =IF(OR($C7="",$Y7=""),"",IF($Y7="Oui",IFERROR(VLOOKUP($C7,'Valeurs Règlements Nature'!$A$5:$Q$8,15,FALSE),""),IFERROR(VLOOKUP($C7,'Valeurs Règlements Nature'!$A$5:$Q$8,16,FALSE),""))) | AI7: =IF(OR($C7="",$Y7="Oui",$Y7=""),"",IFERROR(VLOOKUP($C7,'Valeurs Règlements Nature'!$A$5:$Q$8,17,FALSE),"")) | AJ7: =IF(NOT(ISNUMBER(Z7)),"",IF($Y7="Oui",PI()*(Z7/2)^2,IF(ISNUMBER(AA7),PI()*(Z7/2)*(AA7/2),""))) | AK7: =IF(NOT(ISNUMBER(AB7)),"",IF($Y7="Oui",PI()*(AB7/2)^2,IF(ISNUMBER(AC7),PI()*(AB7/2)*(AC7/2),""))) | AL7: =IF(NOT(ISNUMBER(AD7)),"",IF($Y7="Oui",PI()*(AD7/2)^2,IF(ISNUMBER(AE7),PI()*(AD7/2)*(AE7/2),""))) | AM7: =IF(OR(AK7="",AK7=0,AL7=""),"",AL7/AK7) | AN7: =IF($C7="","",IFERROR(VLOOKUP($C7,'Valeurs Règlements Nature'!$A$5:$K$8,9,FALSE),"")) | AO7: =IF(OR($C7="",$Y7="",AJ7="",AK7="",AL7="",AM7=""),"",IF(AND(ABS(Z7-AF7)<=$Y$3,IF($Y7="Oui",TRUE,ABS(AA7-AG7)<=$Y$3),ABS(AB7-AH7)<=$Y$3,IF($Y7="Oui",TRUE,ABS(AC7-AI7)<=$Y$3),AL7>=IFERROR(VLOOKUP($C7,'Valeurs Règlements Nature'!$A$5:$K$8,8,FALSE),0),AL7<=AN7,AM7>=IFERROR(VLOOKUP($C7,'Valeurs Règlements Nature'!$A$5:$K$8,10,FALSE),0),AM7<=IFERROR(VLOOKUP($C7,'Valeurs Règlements Nature'!$A$5:$K$8,11,FALSE),999)),"CONFORME","NON CONFORME"))
A8: 3 | B8: =IF(Organisateur!B8="","",Organisateur!B8) | C8: =IF(Organisateur!C8="","",Organisateur!C8) | E8: =IF(Organisateur!E8="","",Organisateur!E8) | F8: =IF(Organisateur!F8="","",Organisateur!F8) | G8: =IF(Organisateur!G8="","",Organisateur!G8) | H8: =IF(Organisateur!H8="","",Organisateur!H8) | J8: =IF($C8="","",IFERROR(VLOOKUP($C8,'Valeurs Règlements Nature'!$A$5:$G$8,3,FALSE),"")) | K8: =IF($C8="","",IFERROR(VLOOKUP($C8,'Valeurs Règlements Nature'!$A$5:$G$8,4,FALSE),"")) | L8: =IF($C8="","",IFERROR(VLOOKUP($C8,'Valeurs Règlements Nature'!$A$5:$G$8,5,FALSE),"")) | M8: =IF($C8="","",IFERROR(VLOOKUP($C8,'Valeurs Règlements Nature'!$A$5:$G$8,6,FALSE),"")) | N8: =IF($C8="","",IFERROR(VLOOKUP($C8,'Valeurs Règlements Nature'!$A$5:$G$8,7,FALSE),"")) | O8: =IF(OR($C8="",NOT(ISNUMBER(E8))),"",AND(E8>=J8,E8<=K8)) | P8: =IF(OR($C8="",NOT(ISNUMBER(F8))),"",AND(F8>='Valeurs Règlements Nature'!$F$17,F8<=L8)) | Q8: =IF(OR($C8="",NOT(ISNUMBER(G8))),"",AND(G8>='Valeurs Règlements Nature'!$F$17,G8<=M8)) | R8: =IF(OR($C8="",NOT(ISNUMBER(H8))),"",AND(H8>='Valeurs Règlements Nature'!$F$17,H8<=N8)) | S8: =IF(OR(NOT(ISNUMBER(E8)),NOT(ISNUMBER(F8))),"",IF(AND(E8>=F8,ABS(E8-F8)<='Valeurs Règlements Nature'!$F$16),"OK","Hors Fourchette")) | U8: =IF(OR(NOT(ISNUMBER(F8)),NOT(ISNUMBER(G8))),"",IF(AND(F8>=G8,ABS(F8-G8)<='Valeurs Règlements Nature'!$F$16),"OK","Hors Fourchette")) | W8: =IF(OR(NOT(ISNUMBER(G8)),NOT(ISNUMBER(H8))),"",IF(AND(G8>=H8,ABS(G8-H8)<='Valeurs Règlements Nature'!$F$16),"OK","Hors Fourchette")) | AF8: =IF(OR($C8="",$Y8=""),"",IF($Y8="Oui",IFERROR(VLOOKUP($C8,'Valeurs Règlements Nature'!$A$5:$Q$8,12,FALSE),""),IFERROR(VLOOKUP($C8,'Valeurs Règlements Nature'!$A$5:$Q$8,13,FALSE),""))) | AG8: =IF(OR($C8="",$Y8="Oui",$Y8=""),"",IFERROR(VLOOKUP($C8,'Valeurs Règlements Nature'!$A$5:$Q$8,14,FALSE),"")) | AH8: =IF(OR($C8="",$Y8=""),"",IF($Y8="Oui",IFERROR(VLOOKUP($C8,'Valeurs Règlements Nature'!$A$5:$Q$8,15,FALSE),""),IFERROR(VLOOKUP($C8,'Valeurs Règlements Nature'!$A$5:$Q$8,16,FALSE),""))) | AI8: =IF(OR($C8="",$Y8="Oui",$Y8=""),"",IFERROR(VLOOKUP($C8,'Valeurs Règlements Nature'!$A$5:$Q$8,17,FALSE),"")) | AJ8: =IF(NOT(ISNUMBER(Z8)),"",IF($Y8="Oui",PI()*(Z8/2)^2,IF(ISNUMBER(AA8),PI()*(Z8/2)*(AA8/2),""))) | AK8: =IF(NOT(ISNUMBER(AB8)),"",IF($Y8="Oui",PI()*(AB8/2)^2,IF(ISNUMBER(AC8),PI()*(AB8/2)*(AC8/2),""))) | AL8: =IF(NOT(ISNUMBER(AD8)),"",IF($Y8="Oui",PI()*(AD8/2)^2,IF(ISNUMBER(AE8),PI()*(AD8/2)*(AE8/2),""))) | AM8: =IF(OR(AK8="",AK8=0,AL8=""),"",AL8/AK8) | AN8: =IF($C8="","",IFERROR(VLOOKUP($C8,'Valeurs Règlements Nature'!$A$5:$K$8,9,FALSE),"")) | AO8: =IF(OR($C8="",$Y8="",AJ8="",AK8="",AL8="",AM8=""),"",IF(AND(ABS(Z8-AF8)<=$Y$3,IF($Y8="Oui",TRUE,ABS(AA8-AG8)<=$Y$3),ABS(AB8-AH8)<=$Y$3,IF($Y8="Oui",TRUE,ABS(AC8-AI8)<=$Y$3),AL8>=IFERROR(VLOOKUP($C8,'Valeurs Règlements Nature'!$A$5:$K$8,8,FALSE),0),AL8<=AN8,AM8>=IFERROR(VLOOKUP($C8,'Valeurs Règlements Nature'!$A$5:$K$8,10,FALSE),0),AM8<=IFERROR(VLOOKUP($C8,'Valeurs Règlements Nature'!$A$5:$K$8,11,FALSE),999)),"CONFORME","NON CONFORME"))
A9: 4 | B9: =IF(Organisateur!B9="","",Organisateur!B9) | C9: =IF(Organisateur!C9="","",Organisateur!C9) | E9: =IF(Organisateur!E9="","",Organisateur!E9) | F9: =IF(Organisateur!F9="","",Organisateur!F9) | G9: =IF(Organisateur!G9="","",Organisateur!G9) | H9: =IF(Organisateur!H9="","",Organisateur!H9) | J9: =IF($C9="","",IFERROR(VLOOKUP($C9,'Valeurs Règlements Nature'!$A$5:$G$8,3,FALSE),"")) | K9: =IF($C9="","",IFERROR(VLOOKUP($C9,'Valeurs Règlements Nature'!$A$5:$G$8,4,FALSE),"")) | L9: =IF($C9="","",IFERROR(VLOOKUP($C9,'Valeurs Règlements Nature'!$A$5:$G$8,5,FALSE),"")) | M9: =IF($C9="","",IFERROR(VLOOKUP($C9,'Valeurs Règlements Nature'!$A$5:$G$8,6,FALSE),"")) | N9: =IF($C9="","",IFERROR(VLOOKUP($C9,'Valeurs Règlements Nature'!$A$5:$G$8,7,FALSE),"")) | O9: =IF(OR($C9="",NOT(ISNUMBER(E9))),"",AND(E9>=J9,E9<=K9)) | P9: =IF(OR($C9="",NOT(ISNUMBER(F9))),"",AND(F9>='Valeurs Règlements Nature'!$F$17,F9<=L9)) | Q9: =IF(OR($C9="",NOT(ISNUMBER(G9))),"",AND(G9>='Valeurs Règlements Nature'!$F$17,G9<=M9)) | R9: =IF(OR($C9="",NOT(ISNUMBER(H9))),"",AND(H9>='Valeurs Règlements Nature'!$F$17,H9<=N9)) | S9: =IF(OR(NOT(ISNUMBER(E9)),NOT(ISNUMBER(F9))),"",IF(AND(E9>=F9,ABS(E9-F9)<='Valeurs Règlements Nature'!$F$16),"OK","Hors Fourchette")) | U9: =IF(OR(NOT(ISNUMBER(F9)),NOT(ISNUMBER(G9))),"",IF(AND(F9>=G9,ABS(F9-G9)<='Valeurs Règlements Nature'!$F$16),"OK","Hors Fourchette")) | W9: =IF(OR(NOT(ISNUMBER(G9)),NOT(ISNUMBER(H9))),"",IF(AND(G9>=H9,ABS(G9-H9)<='Valeurs Règlements Nature'!$F$16),"OK","Hors Fourchette")) | AF9: =IF(OR($C9="",$Y9=""),"",IF($Y9="Oui",IFERROR(VLOOKUP($C9,'Valeurs Règlements Nature'!$A$5:$Q$8,12,FALSE),""),IFERROR(VLOOKUP($C9,'Valeurs Règlements Nature'!$A$5:$Q$8,13,FALSE),""))) | AG9: =IF(OR($C9="",$Y9="Oui",$Y9=""),"",IFERROR(VLOOKUP($C9,'Valeurs Règlements Nature'!$A$5:$Q$8,14,FALSE),"")) | AH9: =IF(OR($C9="",$Y9=""),"",IF($Y9="Oui",IFERROR(VLOOKUP($C9,'Valeurs Règlements Nature'!$A$5:$Q$8,15,FALSE),""),IFERROR(VLOOKUP($C9,'Valeurs Règlements Nature'!$A$5:$Q$8,16,FALSE),""))) | AI9: =IF(OR($C9="",$Y9="Oui",$Y9=""),"",IFERROR(VLOOKUP($C9,'Valeurs Règlements Nature'!$A$5:$Q$8,17,FALSE),"")) | AJ9: =IF(NOT(ISNUMBER(Z9)),"",IF($Y9="Oui",PI()*(Z9/2)^2,IF(ISNUMBER(AA9),PI()*(Z9/2)*(AA9/2),""))) | AK9: =IF(NOT(ISNUMBER(AB9)),"",IF($Y9="Oui",PI()*(AB9/2)^2,IF(ISNUMBER(AC9),PI()*(AB9/2)*(AC9/2),""))) | AL9: =IF(NOT(ISNUMBER(AD9)),"",IF($Y9="Oui",PI()*(AD9/2)^2,IF(ISNUMBER(AE9),PI()*(AD9/2)*(AE9/2),""))) | AM9: =IF(OR(AK9="",AK9=0,AL9=""),"",AL9/AK9) | AN9: =IF($C9="","",IFERROR(VLOOKUP($C9,'Valeurs Règlements Nature'!$A$5:$K$8,9,FALSE),"")) | AO9: =IF(OR($C9="",$Y9="",AJ9="",AK9="",AL9="",AM9=""),"",IF(AND(ABS(Z9-AF9)<=$Y$3,IF($Y9="Oui",TRUE,ABS(AA9-AG9)<=$Y$3),ABS(AB9-AH9)<=$Y$3,IF($Y9="Oui",TRUE,ABS(AC9-AI9)<=$Y$3),AL9>=IFERROR(VLOOKUP($C9,'Valeurs Règlements Nature'!$A$5:$K$8,8,FALSE),0),AL9<=AN9,AM9>=IFERROR(VLOOKUP($C9,'Valeurs Règlements Nature'!$A$5:$K$8,10,FALSE),0),AM9<=IFERROR(VLOOKUP($C9,'Valeurs Règlements Nature'!$A$5:$K$8,11,FALSE),999)),"CONFORME","NON CONFORME"))
A10: 5 | B10: =IF(Organisateur!B10="","",Organisateur!B10) | C10: =IF(Organisateur!C10="","",Organisateur!C10) | E10: =IF(Organisateur!E10="","",Organisateur!E10) | F10: =IF(Organisateur!F10="","",Organisateur!F10) | G10: =IF(Organisateur!G10="","",Organisateur!G10) | H10: =IF(Organisateur!H10="","",Organisateur!H10) | J10: =IF($C10="","",IFERROR(VLOOKUP($C10,'Valeurs Règlements Nature'!$A$5:$G$8,3,FALSE),"")) | K10: =IF($C10="","",IFERROR(VLOOKUP($C10,'Valeurs Règlements Nature'!$A$5:$G$8,4,FALSE),"")) | L10: =IF($C10="","",IFERROR(VLOOKUP($C10,'Valeurs Règlements Nature'!$A$5:$G$8,5,FALSE),"")) | M10: =IF($C10="","",IFERROR(VLOOKUP($C10,'Valeurs Règlements Nature'!$A$5:$G$8,6,FALSE),"")) | N10: =IF($C10="","",IFERROR(VLOOKUP($C10,'Valeurs Règlements Nature'!$A$5:$G$8,7,FALSE),"")) | O10: =IF(OR($C10="",NOT(ISNUMBER(E10))),"",AND(E10>=J10,E10<=K10)) | P10: =IF(OR($C10="",NOT(ISNUMBER(F10))),"",AND(F10>='Valeurs Règlements Nature'!$F$17,F10<=L10)) | Q10: =IF(OR($C10="",NOT(ISNUMBER(G10))),"",AND(G10>='Valeurs Règlements Nature'!$F$17,G10<=M10)) | R10: =IF(OR($C10="",NOT(ISNUMBER(H10))),"",AND(H10>='Valeurs Règlements Nature'!$F$17,H10<=N10)) | S10: =IF(OR(NOT(ISNUMBER(E10)),NOT(ISNUMBER(F10))),"",IF(AND(E10>=F10,ABS(E10-F10)<='Valeurs Règlements Nature'!$F$16),"OK","Hors Fourchette")) | U10: =IF(OR(NOT(ISNUMBER(F10)),NOT(ISNUMBER(G10))),"",IF(AND(F10>=G10,ABS(F10-G10)<='Valeurs Règlements Nature'!$F$16),"OK","Hors Fourchette")) | W10: =IF(OR(NOT(ISNUMBER(G10)),NOT(ISNUMBER(H10))),"",IF(AND(G10>=H10,ABS(G10-H10)<='Valeurs Règlements Nature'!$F$16),"OK","Hors Fourchette")) | AF10: =IF(OR($C10="",$Y10=""),"",IF($Y10="Oui",IFERROR(VLOOKUP($C10,'Valeurs Règlements Nature'!$A$5:$Q$8,12,FALSE),""),IFERROR(VLOOKUP($C10,'Valeurs Règlements Nature'!$A$5:$Q$8,13,FALSE),""))) | AG10: =IF(OR($C10="",$Y10="Oui",$Y10=""),"",IFERROR(VLOOKUP($C10,'Valeurs Règlements Nature'!$A$5:$Q$8,14,FALSE),"")) | AH10: =IF(OR($C10="",$Y10=""),"",IF($Y10="Oui",IFERROR(VLOOKUP($C10,'Valeurs Règlements Nature'!$A$5:$Q$8,15,FALSE),""),IFERROR(VLOOKUP($C10,'Valeurs Règlements Nature'!$A$5:$Q$8,16,FALSE),""))) | AI10: =IF(OR($C10="",$Y10="Oui",$Y10=""),"",IFERROR(VLOOKUP($C10,'Valeurs Règlements Nature'!$A$5:$Q$8,17,FALSE),"")) | AJ10: =IF(NOT(ISNUMBER(Z10)),"",IF($Y10="Oui",PI()*(Z10/2)^2,IF(ISNUMBER(AA10),PI()*(Z10/2)*(AA10/2),""))) | AK10: =IF(NOT(ISNUMBER(AB10)),"",IF($Y10="Oui",PI()*(AB10/2)^2,IF(ISNUMBER(AC10),PI()*(AB10/2)*(AC10/2),""))) | AL10: =IF(NOT(ISNUMBER(AD10)),"",IF($Y10="Oui",PI()*(AD10/2)^2,IF(ISNUMBER(AE10),PI()*(AD10/2)*(AE10/2),""))) | AM10: =IF(OR(AK10="",AK10=0,AL10=""),"",AL10/AK10) | AN10: =IF($C10="","",IFERROR(VLOOKUP($C10,'Valeurs Règlements Nature'!$A$5:$K$8,9,FALSE),"")) | AO10: =IF(OR($C10="",$Y10="",AJ10="",AK10="",AL10="",AM10=""),"",IF(AND(ABS(Z10-AF10)<=$Y$3,IF($Y10="Oui",TRUE,ABS(AA10-AG10)<=$Y$3),ABS(AB10-AH10)<=$Y$3,IF($Y10="Oui",TRUE,ABS(AC10-AI10)<=$Y$3),AL10>=IFERROR(VLOOKUP($C10,'Valeurs Règlements Nature'!$A$5:$K$8,8,FALSE),0),AL10<=AN10,AM10>=IFERROR(VLOOKUP($C10,'Valeurs Règlements Nature'!$A$5:$K$8,10,FALSE),0),AM10<=IFERROR(VLOOKUP($C10,'Valeurs Règlements Nature'!$A$5:$K$8,11,FALSE),999)),"CONFORME","NON CONFORME"))
A11: 6 | B11: =IF(Organisateur!B11="","",Organisateur!B11) | C11: =IF(Organisateur!C11="","",Organisateur!C11) | E11: =IF(Organisateur!E11="","",Organisateur!E11) | F11: =IF(Organisateur!F11="","",Organisateur!F11) | G11: =IF(Organisateur!G11="","",Organisateur!G11) | H11: =IF(Organisateur!H11="","",Organisateur!H11) | J11: =IF($C11="","",IFERROR(VLOOKUP($C11,'Valeurs Règlements Nature'!$A$5:$G$8,3,FALSE),"")) | K11: =IF($C11="","",IFERROR(VLOOKUP($C11,'Valeurs Règlements Nature'!$A$5:$G$8,4,FALSE),"")) | L11: =IF($C11="","",IFERROR(VLOOKUP($C11,'Valeurs Règlements Nature'!$A$5:$G$8,5,FALSE),"")) | M11: =IF($C11="","",IFERROR(VLOOKUP($C11,'Valeurs Règlements Nature'!$A$5:$G$8,6,FALSE),"")) | N11: =IF($C11="","",IFERROR(VLOOKUP($C11,'Valeurs Règlements Nature'!$A$5:$G$8,7,FALSE),"")) | O11: =IF(OR($C11="",NOT(ISNUMBER(E11))),"",AND(E11>=J11,E11<=K11)) | P11: =IF(OR($C11="",NOT(ISNUMBER(F11))),"",AND(F11>='Valeurs Règlements Nature'!$F$17,F11<=L11)) | Q11: =IF(OR($C11="",NOT(ISNUMBER(G11))),"",AND(G11>='Valeurs Règlements Nature'!$F$17,G11<=M11)) | R11: =IF(OR($C11="",NOT(ISNUMBER(H11))),"",AND(H11>='Valeurs Règlements Nature'!$F$17,H11<=N11)) | S11: =IF(OR(NOT(ISNUMBER(E11)),NOT(ISNUMBER(F11))),"",IF(AND(E11>=F11,ABS(E11-F11)<='Valeurs Règlements Nature'!$F$16),"OK","Hors Fourchette")) | U11: =IF(OR(NOT(ISNUMBER(F11)),NOT(ISNUMBER(G11))),"",IF(AND(F11>=G11,ABS(F11-G11)<='Valeurs Règlements Nature'!$F$16),"OK","Hors Fourchette")) | W11: =IF(OR(NOT(ISNUMBER(G11)),NOT(ISNUMBER(H11))),"",IF(AND(G11>=H11,ABS(G11-H11)<='Valeurs Règlements Nature'!$F$16),"OK","Hors Fourchette")) | AF11: =IF(OR($C11="",$Y11=""),"",IF($Y11="Oui",IFERROR(VLOOKUP($C11,'Valeurs Règlements Nature'!$A$5:$Q$8,12,FALSE),""),IFERROR(VLOOKUP($C11,'Valeurs Règlements Nature'!$A$5:$Q$8,13,FALSE),""))) | AG11: =IF(OR($C11="",$Y11="Oui",$Y11=""),"",IFERROR(VLOOKUP($C11,'Valeurs Règlements Nature'!$A$5:$Q$8,14,FALSE),"")) | AH11: =IF(OR($C11="",$Y11=""),"",IF($Y11="Oui",IFERROR(VLOOKUP($C11,'Valeurs Règlements Nature'!$A$5:$Q$8,15,FALSE),""),IFERROR(VLOOKUP($C11,'Valeurs Règlements Nature'!$A$5:$Q$8,16,FALSE),""))) | AI11: =IF(OR($C11="",$Y11="Oui",$Y11=""),"",IFERROR(VLOOKUP($C11,'Valeurs Règlements Nature'!$A$5:$Q$8,17,FALSE),"")) | AJ11: =IF(NOT(ISNUMBER(Z11)),"",IF($Y11="Oui",PI()*(Z11/2)^2,IF(ISNUMBER(AA11),PI()*(Z11/2)*(AA11/2),""))) | AK11: =IF(NOT(ISNUMBER(AB11)),"",IF($Y11="Oui",PI()*(AB11/2)^2,IF(ISNUMBER(AC11),PI()*(AB11/2)*(AC11/2),""))) | AL11: =IF(NOT(ISNUMBER(AD11)),"",IF($Y11="Oui",PI()*(AD11/2)^2,IF(ISNUMBER(AE11),PI()*(AD11/2)*(AE11/2),""))) | AM11: =IF(OR(AK11="",AK11=0,AL11=""),"",AL11/AK11) | AN11: =IF($C11="","",IFERROR(VLOOKUP($C11,'Valeurs Règlements Nature'!$A$5:$K$8,9,FALSE),"")) | AO11: =IF(OR($C11="",$Y11="",AJ11="",AK11="",AL11="",AM11=""),"",IF(AND(ABS(Z11-AF11)<=$Y$3,IF($Y11="Oui",TRUE,ABS(AA11-AG11)<=$Y$3),ABS(AB11-AH11)<=$Y$3,IF($Y11="Oui",TRUE,ABS(AC11-AI11)<=$Y$3),AL11>=IFERROR(VLOOKUP($C11,'Valeurs Règlements Nature'!$A$5:$K$8,8,FALSE),0),AL11<=AN11,AM11>=IFERROR(VLOOKUP($C11,'Valeurs Règlements Nature'!$A$5:$K$8,10,FALSE),0),AM11<=IFERROR(VLOOKUP($C11,'Valeurs Règlements Nature'!$A$5:$K$8,11,FALSE),999)),"CONFORME","NON CONFORME"))
A12: 7 | B12: =IF(Organisateur!B12="","",Organisateur!B12) | C12: =IF(Organisateur!C12="","",Organisateur!C12) | E12: =IF(Organisateur!E12="","",Organisateur!E12) | F12: =IF(Organisateur!F12="","",Organisateur!F12) | G12: =IF(Organisateur!G12="","",Organisateur!G12) | H12: =IF(Organisateur!H12="","",Organisateur!H12) | J12: =IF($C12="","",IFERROR(VLOOKUP($C12,'Valeurs Règlements Nature'!$A$5:$G$8,3,FALSE),"")) | K12: =IF($C12="","",IFERROR(VLOOKUP($C12,'Valeurs Règlements Nature'!$A$5:$G$8,4,FALSE),"")) | L12: =IF($C12="","",IFERROR(VLOOKUP($C12,'Valeurs Règlements Nature'!$A$5:$G$8,5,FALSE),"")) | M12: =IF($C12="","",IFERROR(VLOOKUP($C12,'Valeurs Règlements Nature'!$A$5:$G$8,6,FALSE),"")) | N12: =IF($C12="","",IFERROR(VLOOKUP($C12,'Valeurs Règlements Nature'!$A$5:$G$8,7,FALSE),"")) | O12: =IF(OR($C12="",NOT(ISNUMBER(E12))),"",AND(E12>=J12,E12<=K12)) | P12: =IF(OR($C12="",NOT(ISNUMBER(F12))),"",AND(F12>='Valeurs Règlements Nature'!$F$17,F12<=L12)) | Q12: =IF(OR($C12="",NOT(ISNUMBER(G12))),"",AND(G12>='Valeurs Règlements Nature'!$F$17,G12<=M12)) | R12: =IF(OR($C12="",NOT(ISNUMBER(H12))),"",AND(H12>='Valeurs Règlements Nature'!$F$17,H12<=N12)) | S12: =IF(OR(NOT(ISNUMBER(E12)),NOT(ISNUMBER(F12))),"",IF(AND(E12>=F12,ABS(E12-F12)<='Valeurs Règlements Nature'!$F$16),"OK","Hors Fourchette")) | U12: =IF(OR(NOT(ISNUMBER(F12)),NOT(ISNUMBER(G12))),"",IF(AND(F12>=G12,ABS(F12-G12)<='Valeurs Règlements Nature'!$F$16),"OK","Hors Fourchette")) | W12: =IF(OR(NOT(ISNUMBER(G12)),NOT(ISNUMBER(H12))),"",IF(AND(G12>=H12,ABS(G12-H12)<='Valeurs Règlements Nature'!$F$16),"OK","Hors Fourchette")) | AF12: =IF(OR($C12="",$Y12=""),"",IF($Y12="Oui",IFERROR(VLOOKUP($C12,'Valeurs Règlements Nature'!$A$5:$Q$8,12,FALSE),""),IFERROR(VLOOKUP($C12,'Valeurs Règlements Nature'!$A$5:$Q$8,13,FALSE),""))) | AG12: =IF(OR($C12="",$Y12="Oui",$Y12=""),"",IFERROR(VLOOKUP($C12,'Valeurs Règlements Nature'!$A$5:$Q$8,14,FALSE),"")) | AH12: =IF(OR($C12="",$Y12=""),"",IF($Y12="Oui",IFERROR(VLOOKUP($C12,'Valeurs Règlements Nature'!$A$5:$Q$8,15,FALSE),""),IFERROR(VLOOKUP($C12,'Valeurs Règlements Nature'!$A$5:$Q$8,16,FALSE),""))) | AI12: =IF(OR($C12="",$Y12="Oui",$Y12=""),"",IFERROR(VLOOKUP($C12,'Valeurs Règlements Nature'!$A$5:$Q$8,17,FALSE),"")) | AJ12: =IF(NOT(ISNUMBER(Z12)),"",IF($Y12="Oui",PI()*(Z12/2)^2,IF(ISNUMBER(AA12),PI()*(Z12/2)*(AA12/2),""))) | AK12: =IF(NOT(ISNUMBER(AB12)),"",IF($Y12="Oui",PI()*(AB12/2)^2,IF(ISNUMBER(AC12),PI()*(AB12/2)*(AC12/2),""))) | AL12: =IF(NOT(ISNUMBER(AD12)),"",IF($Y12="Oui",PI()*(AD12/2)^2,IF(ISNUMBER(AE12),PI()*(AD12/2)*(AE12/2),""))) | AM12: =IF(OR(AK12="",AK12=0,AL12=""),"",AL12/AK12) | AN12: =IF($C12="","",IFERROR(VLOOKUP($C12,'Valeurs Règlements Nature'!$A$5:$K$8,9,FALSE),"")) | AO12: =IF(OR($C12="",$Y12="",AJ12="",AK12="",AL12="",AM12=""),"",IF(AND(ABS(Z12-AF12)<=$Y$3,IF($Y12="Oui",TRUE,ABS(AA12-AG12)<=$Y$3),ABS(AB12-AH12)<=$Y$3,IF($Y12="Oui",TRUE,ABS(AC12-AI12)<=$Y$3),AL12>=IFERROR(VLOOKUP($C12,'Valeurs Règlements Nature'!$A$5:$K$8,8,FALSE),0),AL12<=AN12,AM12>=IFERROR(VLOOKUP($C12,'Valeurs Règlements Nature'!$A$5:$K$8,10,FALSE),0),AM12<=IFERROR(VLOOKUP($C12,'Valeurs Règlements Nature'!$A$5:$K$8,11,FALSE),999)),"CONFORME","NON CONFORME"))
A13: 8 | B13: =IF(Organisateur!B13="","",Organisateur!B13) | C13: =IF(Organisateur!C13="","",Organisateur!C13) | E13: =IF(Organisateur!E13="","",Organisateur!E13) | F13: =IF(Organisateur!F13="","",Organisateur!F13) | G13: =IF(Organisateur!G13="","",Organisateur!G13) | H13: =IF(Organisateur!H13="","",Organisateur!H13) | J13: =IF($C13="","",IFERROR(VLOOKUP($C13,'Valeurs Règlements Nature'!$A$5:$G$8,3,FALSE),"")) | K13: =IF($C13="","",IFERROR(VLOOKUP($C13,'Valeurs Règlements Nature'!$A$5:$G$8,4,FALSE),"")) | L13: =IF($C13="","",IFERROR(VLOOKUP($C13,'Valeurs Règlements Nature'!$A$5:$G$8,5,FALSE),"")) | M13: =IF($C13="","",IFERROR(VLOOKUP($C13,'Valeurs Règlements Nature'!$A$5:$G$8,6,FALSE),"")) | N13: =IF($C13="","",IFERROR(VLOOKUP($C13,'Valeurs Règlements Nature'!$A$5:$G$8,7,FALSE),"")) | O13: =IF(OR($C13="",NOT(ISNUMBER(E13))),"",AND(E13>=J13,E13<=K13)) | P13: =IF(OR($C13="",NOT(ISNUMBER(F13))),"",AND(F13>='Valeurs Règlements Nature'!$F$17,F13<=L13)) | Q13: =IF(OR($C13="",NOT(ISNUMBER(G13))),"",AND(G13>='Valeurs Règlements Nature'!$F$17,G13<=M13)) | R13: =IF(OR($C13="",NOT(ISNUMBER(H13))),"",AND(H13>='Valeurs Règlements Nature'!$F$17,H13<=N13)) | S13: =IF(OR(NOT(ISNUMBER(E13)),NOT(ISNUMBER(F13))),"",IF(AND(E13>=F13,ABS(E13-F13)<='Valeurs Règlements Nature'!$F$16),"OK","Hors Fourchette")) | U13: =IF(OR(NOT(ISNUMBER(F13)),NOT(ISNUMBER(G13))),"",IF(AND(F13>=G13,ABS(F13-G13)<='Valeurs Règlements Nature'!$F$16),"OK","Hors Fourchette")) | W13: =IF(OR(NOT(ISNUMBER(G13)),NOT(ISNUMBER(H13))),"",IF(AND(G13>=H13,ABS(G13-H13)<='Valeurs Règlements Nature'!$F$16),"OK","Hors Fourchette")) | AF13: =IF(OR($C13="",$Y13=""),"",IF($Y13="Oui",IFERROR(VLOOKUP($C13,'Valeurs Règlements Nature'!$A$5:$Q$8,12,FALSE),""),IFERROR(VLOOKUP($C13,'Valeurs Règlements Nature'!$A$5:$Q$8,13,FALSE),""))) | AG13: =IF(OR($C13="",$Y13="Oui",$Y13=""),"",IFERROR(VLOOKUP($C13,'Valeurs Règlements Nature'!$A$5:$Q$8,14,FALSE),"")) | AH13: =IF(OR($C13="",$Y13=""),"",IF($Y13="Oui",IFERROR(VLOOKUP($C13,'Valeurs Règlements Nature'!$A$5:$Q$8,15,FALSE),""),IFERROR(VLOOKUP($C13,'Valeurs Règlements Nature'!$A$5:$Q$8,16,FALSE),""))) | AI13: =IF(OR($C13="",$Y13="Oui",$Y13=""),"",IFERROR(VLOOKUP($C13,'Valeurs Règlements Nature'!$A$5:$Q$8,17,FALSE),"")) | AJ13: =IF(NOT(ISNUMBER(Z13)),"",IF($Y13="Oui",PI()*(Z13/2)^2,IF(ISNUMBER(AA13),PI()*(Z13/2)*(AA13/2),""))) | AK13: =IF(NOT(ISNUMBER(AB13)),"",IF($Y13="Oui",PI()*(AB13/2)^2,IF(ISNUMBER(AC13),PI()*(AB13/2)*(AC13/2),""))) | AL13: =IF(NOT(ISNUMBER(AD13)),"",IF($Y13="Oui",PI()*(AD13/2)^2,IF(ISNUMBER(AE13),PI()*(AD13/2)*(AE13/2),""))) | AM13: =IF(OR(AK13="",AK13=0,AL13=""),"",AL13/AK13) | AN13: =IF($C13="","",IFERROR(VLOOKUP($C13,'Valeurs Règlements Nature'!$A$5:$K$8,9,FALSE),"")) | AO13: =IF(OR($C13="",$Y13="",AJ13="",AK13="",AL13="",AM13=""),"",IF(AND(ABS(Z13-AF13)<=$Y$3,IF($Y13="Oui",TRUE,ABS(AA13-AG13)<=$Y$3),ABS(AB13-AH13)<=$Y$3,IF($Y13="Oui",TRUE,ABS(AC13-AI13)<=$Y$3),AL13>=IFERROR(VLOOKUP($C13,'Valeurs Règlements Nature'!$A$5:$K$8,8,FALSE),0),AL13<=AN13,AM13>=IFERROR(VLOOKUP($C13,'Valeurs Règlements Nature'!$A$5:$K$8,10,FALSE),0),AM13<=IFERROR(VLOOKUP($C13,'Valeurs Règlements Nature'!$A$5:$K$8,11,FALSE),999)),"CONFORME","NON CONFORME"))
A14: 9 | B14: =IF(Organisateur!B14="","",Organisateur!B14) | C14: =IF(Organisateur!C14="","",Organisateur!C14) | E14: =IF(Organisateur!E14="","",Organisateur!E14) | F14: =IF(Organisateur!F14="","",Organisateur!F14) | G14: =IF(Organisateur!G14="","",Organisateur!G14) | H14: =IF(Organisateur!H14="","",Organisateur!H14) | J14: =IF($C14="","",IFERROR(VLOOKUP($C14,'Valeurs Règlements Nature'!$A$5:$G$8,3,FALSE),"")) | K14: =IF($C14="","",IFERROR(VLOOKUP($C14,'Valeurs Règlements Nature'!$A$5:$G$8,4,FALSE),"")) | L14: =IF($C14="","",IFERROR(VLOOKUP($C14,'Valeurs Règlements Nature'!$A$5:$G$8,5,FALSE),"")) | M14: =IF($C14="","",IFERROR(VLOOKUP($C14,'Valeurs Règlements Nature'!$A$5:$G$8,6,FALSE),"")) | N14: =IF($C14="","",IFERROR(VLOOKUP($C14,'Valeurs Règlements Nature'!$A$5:$G$8,7,FALSE),"")) | O14: =IF(OR($C14="",NOT(ISNUMBER(E14))),"",AND(E14>=J14,E14<=K14)) | P14: =IF(OR($C14="",NOT(ISNUMBER(F14))),"",AND(F14>='Valeurs Règlements Nature'!$F$17,F14<=L14)) | Q14: =IF(OR($C14="",NOT(ISNUMBER(G14))),"",AND(G14>='Valeurs Règlements Nature'!$F$17,G14<=M14)) | R14: =IF(OR($C14="",NOT(ISNUMBER(H14))),"",AND(H14>='Valeurs Règlements Nature'!$F$17,H14<=N14)) | S14: =IF(OR(NOT(ISNUMBER(E14)),NOT(ISNUMBER(F14))),"",IF(AND(E14>=F14,ABS(E14-F14)<='Valeurs Règlements Nature'!$F$16),"OK","Hors Fourchette")) | U14: =IF(OR(NOT(ISNUMBER(F14)),NOT(ISNUMBER(G14))),"",IF(AND(F14>=G14,ABS(F14-G14)<='Valeurs Règlements Nature'!$F$16),"OK","Hors Fourchette")) | W14: =IF(OR(NOT(ISNUMBER(G14)),NOT(ISNUMBER(H14))),"",IF(AND(G14>=H14,ABS(G14-H14)<='Valeurs Règlements Nature'!$F$16),"OK","Hors Fourchette")) | AF14: =IF(OR($C14="",$Y14=""),"",IF($Y14="Oui",IFERROR(VLOOKUP($C14,'Valeurs Règlements Nature'!$A$5:$Q$8,12,FALSE),""),IFERROR(VLOOKUP($C14,'Valeurs Règlements Nature'!$A$5:$Q$8,13,FALSE),""))) | AG14: =IF(OR($C14="",$Y14="Oui",$Y14=""),"",IFERROR(VLOOKUP($C14,'Valeurs Règlements Nature'!$A$5:$Q$8,14,FALSE),"")) | AH14: =IF(OR($C14="",$Y14=""),"",IF($Y14="Oui",IFERROR(VLOOKUP($C14,'Valeurs Règlements Nature'!$A$5:$Q$8,15,FALSE),""),IFERROR(VLOOKUP($C14,'Valeurs Règlements Nature'!$A$5:$Q$8,16,FALSE),""))) | AI14: =IF(OR($C14="",$Y14="Oui",$Y14=""),"",IFERROR(VLOOKUP($C14,'Valeurs Règlements Nature'!$A$5:$Q$8,17,FALSE),"")) | AJ14: =IF(NOT(ISNUMBER(Z14)),"",IF($Y14="Oui",PI()*(Z14/2)^2,IF(ISNUMBER(AA14),PI()*(Z14/2)*(AA14/2),""))) | AK14: =IF(NOT(ISNUMBER(AB14)),"",IF($Y14="Oui",PI()*(AB14/2)^2,IF(ISNUMBER(AC14),PI()*(AB14/2)*(AC14/2),""))) | AL14: =IF(NOT(ISNUMBER(AD14)),"",IF($Y14="Oui",PI()*(AD14/2)^2,IF(ISNUMBER(AE14),PI()*(AD14/2)*(AE14/2),""))) | AM14: =IF(OR(AK14="",AK14=0,AL14=""),"",AL14/AK14) | AN14: =IF($C14="","",IFERROR(VLOOKUP($C14,'Valeurs Règlements Nature'!$A$5:$K$8,9,FALSE),"")) | AO14: =IF(OR($C14="",$Y14="",AJ14="",AK14="",AL14="",AM14=""),"",IF(AND(ABS(Z14-AF14)<=$Y$3,IF($Y14="Oui",TRUE,ABS(AA14-AG14)<=$Y$3),ABS(AB14-AH14)<=$Y$3,IF($Y14="Oui",TRUE,ABS(AC14-AI14)<=$Y$3),AL14>=IFERROR(VLOOKUP($C14,'Valeurs Règlements Nature'!$A$5:$K$8,8,FALSE),0),AL14<=AN14,AM14>=IFERROR(VLOOKUP($C14,'Valeurs Règlements Nature'!$A$5:$K$8,10,FALSE),0),AM14<=IFERROR(VLOOKUP($C14,'Valeurs Règlements Nature'!$A$5:$K$8,11,FALSE),999)),"CONFORME","NON CONFORME"))
A15: 10 | B15: =IF(Organisateur!B15="","",Organisateur!B15) | C15: =IF(Organisateur!C15="","",Organisateur!C15) | E15: =IF(Organisateur!E15="","",Organisateur!E15) | F15: =IF(Organisateur!F15="","",Organisateur!F15) | G15: =IF(Organisateur!G15="","",Organisateur!G15) | H15: =IF(Organisateur!H15="","",Organisateur!H15) | J15: =IF($C15="","",IFERROR(VLOOKUP($C15,'Valeurs Règlements Nature'!$A$5:$G$8,3,FALSE),"")) | K15: =IF($C15="","",IFERROR(VLOOKUP($C15,'Valeurs Règlements Nature'!$A$5:$G$8,4,FALSE),"")) | L15: =IF($C15="","",IFERROR(VLOOKUP($C15,'Valeurs Règlements Nature'!$A$5:$G$8,5,FALSE),"")) | M15: =IF($C15="","",IFERROR(VLOOKUP($C15,'Valeurs Règlements Nature'!$A$5:$G$8,6,FALSE),"")) | N15: =IF($C15="","",IFERROR(VLOOKUP($C15,'Valeurs Règlements Nature'!$A$5:$G$8,7,FALSE),"")) | O15: =IF(OR($C15="",NOT(ISNUMBER(E15))),"",AND(E15>=J15,E15<=K15)) | P15: =IF(OR($C15="",NOT(ISNUMBER(F15))),"",AND(F15>='Valeurs Règlements Nature'!$F$17,F15<=L15)) | Q15: =IF(OR($C15="",NOT(ISNUMBER(G15))),"",AND(G15>='Valeurs Règlements Nature'!$F$17,G15<=M15)) | R15: =IF(OR($C15="",NOT(ISNUMBER(H15))),"",AND(H15>='Valeurs Règlements Nature'!$F$17,H15<=N15)) | S15: =IF(OR(NOT(ISNUMBER(E15)),NOT(ISNUMBER(F15))),"",IF(AND(E15>=F15,ABS(E15-F15)<='Valeurs Règlements Nature'!$F$16),"OK","Hors Fourchette")) | U15: =IF(OR(NOT(ISNUMBER(F15)),NOT(ISNUMBER(G15))),"",IF(AND(F15>=G15,ABS(F15-G15)<='Valeurs Règlements Nature'!$F$16),"OK","Hors Fourchette")) | W15: =IF(OR(NOT(ISNUMBER(G15)),NOT(ISNUMBER(H15))),"",IF(AND(G15>=H15,ABS(G15-H15)<='Valeurs Règlements Nature'!$F$16),"OK","Hors Fourchette")) | AF15: =IF(OR($C15="",$Y15=""),"",IF($Y15="Oui",IFERROR(VLOOKUP($C15,'Valeurs Règlements Nature'!$A$5:$Q$8,12,FALSE),""),IFERROR(VLOOKUP($C15,'Valeurs Règlements Nature'!$A$5:$Q$8,13,FALSE),""))) | AG15: =IF(OR($C15="",$Y15="Oui",$Y15=""),"",IFERROR(VLOOKUP($C15,'Valeurs Règlements Nature'!$A$5:$Q$8,14,FALSE),"")) | AH15: =IF(OR($C15="",$Y15=""),"",IF($Y15="Oui",IFERROR(VLOOKUP($C15,'Valeurs Règlements Nature'!$A$5:$Q$8,15,FALSE),""),IFERROR(VLOOKUP($C15,'Valeurs Règlements Nature'!$A$5:$Q$8,16,FALSE),""))) | AI15: =IF(OR($C15="",$Y15="Oui",$Y15=""),"",IFERROR(VLOOKUP($C15,'Valeurs Règlements Nature'!$A$5:$Q$8,17,FALSE),"")) | AJ15: =IF(NOT(ISNUMBER(Z15)),"",IF($Y15="Oui",PI()*(Z15/2)^2,IF(ISNUMBER(AA15),PI()*(Z15/2)*(AA15/2),""))) | AK15: =IF(NOT(ISNUMBER(AB15)),"",IF($Y15="Oui",PI()*(AB15/2)^2,IF(ISNUMBER(AC15),PI()*(AB15/2)*(AC15/2),""))) | AL15: =IF(NOT(ISNUMBER(AD15)),"",IF($Y15="Oui",PI()*(AD15/2)^2,IF(ISNUMBER(AE15),PI()*(AD15/2)*(AE15/2),""))) | AM15: =IF(OR(AK15="",AK15=0,AL15=""),"",AL15/AK15) | AN15: =IF($C15="","",IFERROR(VLOOKUP($C15,'Valeurs Règlements Nature'!$A$5:$K$8,9,FALSE),"")) | AO15: =IF(OR($C15="",$Y15="",AJ15="",AK15="",AL15="",AM15=""),"",IF(AND(ABS(Z15-AF15)<=$Y$3,IF($Y15="Oui",TRUE,ABS(AA15-AG15)<=$Y$3),ABS(AB15-AH15)<=$Y$3,IF($Y15="Oui",TRUE,ABS(AC15-AI15)<=$Y$3),AL15>=IFERROR(VLOOKUP($C15,'Valeurs Règlements Nature'!$A$5:$K$8,8,FALSE),0),AL15<=AN15,AM15>=IFERROR(VLOOKUP($C15,'Valeurs Règlements Nature'!$A$5:$K$8,10,FALSE),0),AM15<=IFERROR(VLOOKUP($C15,'Valeurs Règlements Nature'!$A$5:$K$8,11,FALSE),999)),"CONFORME","NON CONFORME"))
A16: 11 | B16: =IF(Organisateur!B16="","",Organisateur!B16) | C16: =IF(Organisateur!C16="","",Organisateur!C16) | E16: =IF(Organisateur!E16="","",Organisateur!E16) | F16: =IF(Organisateur!F16="","",Organisateur!F16) | G16: =IF(Organisateur!G16="","",Organisateur!G16) | H16: =IF(Organisateur!H16="","",Organisateur!H16) | J16: =IF($C16="","",IFERROR(VLOOKUP($C16,'Valeurs Règlements Nature'!$A$5:$G$8,3,FALSE),"")) | K16: =IF($C16="","",IFERROR(VLOOKUP($C16,'Valeurs Règlements Nature'!$A$5:$G$8,4,FALSE),"")) | L16: =IF($C16="","",IFERROR(VLOOKUP($C16,'Valeurs Règlements Nature'!$A$5:$G$8,5,FALSE),"")) | M16: =IF($C16="","",IFERROR(VLOOKUP($C16,'Valeurs Règlements Nature'!$A$5:$G$8,6,FALSE),"")) | N16: =IF($C16="","",IFERROR(VLOOKUP($C16,'Valeurs Règlements Nature'!$A$5:$G$8,7,FALSE),"")) | O16: =IF(OR($C16="",NOT(ISNUMBER(E16))),"",AND(E16>=J16,E16<=K16)) | P16: =IF(OR($C16="",NOT(ISNUMBER(F16))),"",AND(F16>='Valeurs Règlements Nature'!$F$17,F16<=L16)) | Q16: =IF(OR($C16="",NOT(ISNUMBER(G16))),"",AND(G16>='Valeurs Règlements Nature'!$F$17,G16<=M16)) | R16: =IF(OR($C16="",NOT(ISNUMBER(H16))),"",AND(H16>='Valeurs Règlements Nature'!$F$17,H16<=N16)) | S16: =IF(OR(NOT(ISNUMBER(E16)),NOT(ISNUMBER(F16))),"",IF(AND(E16>=F16,ABS(E16-F16)<='Valeurs Règlements Nature'!$F$16),"OK","Hors Fourchette")) | U16: =IF(OR(NOT(ISNUMBER(F16)),NOT(ISNUMBER(G16))),"",IF(AND(F16>=G16,ABS(F16-G16)<='Valeurs Règlements Nature'!$F$16),"OK","Hors Fourchette")) | W16: =IF(OR(NOT(ISNUMBER(G16)),NOT(ISNUMBER(H16))),"",IF(AND(G16>=H16,ABS(G16-H16)<='Valeurs Règlements Nature'!$F$16),"OK","Hors Fourchette")) | AF16: =IF(OR($C16="",$Y16=""),"",IF($Y16="Oui",IFERROR(VLOOKUP($C16,'Valeurs Règlements Nature'!$A$5:$Q$8,12,FALSE),""),IFERROR(VLOOKUP($C16,'Valeurs Règlements Nature'!$A$5:$Q$8,13,FALSE),""))) | AG16: =IF(OR($C16="",$Y16="Oui",$Y16=""),"",IFERROR(VLOOKUP($C16,'Valeurs Règlements Nature'!$A$5:$Q$8,14,FALSE),"")) | AH16: =IF(OR($C16="",$Y16=""),"",IF($Y16="Oui",IFERROR(VLOOKUP($C16,'Valeurs Règlements Nature'!$A$5:$Q$8,15,FALSE),""),IFERROR(VLOOKUP($C16,'Valeurs Règlements Nature'!$A$5:$Q$8,16,FALSE),""))) | AI16: =IF(OR($C16="",$Y16="Oui",$Y16=""),"",IFERROR(VLOOKUP($C16,'Valeurs Règlements Nature'!$A$5:$Q$8,17,FALSE),"")) | AJ16: =IF(NOT(ISNUMBER(Z16)),"",IF($Y16="Oui",PI()*(Z16/2)^2,IF(ISNUMBER(AA16),PI()*(Z16/2)*(AA16/2),""))) | AK16: =IF(NOT(ISNUMBER(AB16)),"",IF($Y16="Oui",PI()*(AB16/2)^2,IF(ISNUMBER(AC16),PI()*(AB16/2)*(AC16/2),""))) | AL16: =IF(NOT(ISNUMBER(AD16)),"",IF($Y16="Oui",PI()*(AD16/2)^2,IF(ISNUMBER(AE16),PI()*(AD16/2)*(AE16/2),""))) | AM16: =IF(OR(AK16="",AK16=0,AL16=""),"",AL16/AK16) | AN16: =IF($C16="","",IFERROR(VLOOKUP($C16,'Valeurs Règlements Nature'!$A$5:$K$8,9,FALSE),"")) | AO16: =IF(OR($C16="",$Y16="",AJ16="",AK16="",AL16="",AM16=""),"",IF(AND(ABS(Z16-AF16)<=$Y$3,IF($Y16="Oui",TRUE,ABS(AA16-AG16)<=$Y$3),ABS(AB16-AH16)<=$Y$3,IF($Y16="Oui",TRUE,ABS(AC16-AI16)<=$Y$3),AL16>=IFERROR(VLOOKUP($C16,'Valeurs Règlements Nature'!$A$5:$K$8,8,FALSE),0),AL16<=AN16,AM16>=IFERROR(VLOOKUP($C16,'Valeurs Règlements Nature'!$A$5:$K$8,10,FALSE),0),AM16<=IFERROR(VLOOKUP($C16,'Valeurs Règlements Nature'!$A$5:$K$8,11,FALSE),999)),"CONFORME","NON CONFORME"))
A17: 12 | B17: =IF(Organisateur!B17="","",Organisateur!B17) | C17: =IF(Organisateur!C17="","",Organisateur!C17) | E17: =IF(Organisateur!E17="","",Organisateur!E17) | F17: =IF(Organisateur!F17="","",Organisateur!F17) | G17: =IF(Organisateur!G17="","",Organisateur!G17) | H17: =IF(Organisateur!H17="","",Organisateur!H17) | J17: =IF($C17="","",IFERROR(VLOOKUP($C17,'Valeurs Règlements Nature'!$A$5:$G$8,3,FALSE),"")) | K17: =IF($C17="","",IFERROR(VLOOKUP($C17,'Valeurs Règlements Nature'!$A$5:$G$8,4,FALSE),"")) | L17: =IF($C17="","",IFERROR(VLOOKUP($C17,'Valeurs Règlements Nature'!$A$5:$G$8,5,FALSE),"")) | M17: =IF($C17="","",IFERROR(VLOOKUP($C17,'Valeurs Règlements Nature'!$A$5:$G$8,6,FALSE),"")) | N17: =IF($C17="","",IFERROR(VLOOKUP($C17,'Valeurs Règlements Nature'!$A$5:$G$8,7,FALSE),"")) | O17: =IF(OR($C17="",NOT(ISNUMBER(E17))),"",AND(E17>=J17,E17<=K17)) | P17: =IF(OR($C17="",NOT(ISNUMBER(F17))),"",AND(F17>='Valeurs Règlements Nature'!$F$17,F17<=L17)) | Q17: =IF(OR($C17="",NOT(ISNUMBER(G17))),"",AND(G17>='Valeurs Règlements Nature'!$F$17,G17<=M17)) | R17: =IF(OR($C17="",NOT(ISNUMBER(H17))),"",AND(H17>='Valeurs Règlements Nature'!$F$17,H17<=N17)) | S17: =IF(OR(NOT(ISNUMBER(E17)),NOT(ISNUMBER(F17))),"",IF(AND(E17>=F17,ABS(E17-F17)<='Valeurs Règlements Nature'!$F$16),"OK","Hors Fourchette")) | U17: =IF(OR(NOT(ISNUMBER(F17)),NOT(ISNUMBER(G17))),"",IF(AND(F17>=G17,ABS(F17-G17)<='Valeurs Règlements Nature'!$F$16),"OK","Hors Fourchette")) | W17: =IF(OR(NOT(ISNUMBER(G17)),NOT(ISNUMBER(H17))),"",IF(AND(G17>=H17,ABS(G17-H17)<='Valeurs Règlements Nature'!$F$16),"OK","Hors Fourchette")) | AF17: =IF(OR($C17="",$Y17=""),"",IF($Y17="Oui",IFERROR(VLOOKUP($C17,'Valeurs Règlements Nature'!$A$5:$Q$8,12,FALSE),""),IFERROR(VLOOKUP($C17,'Valeurs Règlements Nature'!$A$5:$Q$8,13,FALSE),""))) | AG17: =IF(OR($C17="",$Y17="Oui",$Y17=""),"",IFERROR(VLOOKUP($C17,'Valeurs Règlements Nature'!$A$5:$Q$8,14,FALSE),"")) | AH17: =IF(OR($C17="",$Y17=""),"",IF($Y17="Oui",IFERROR(VLOOKUP($C17,'Valeurs Règlements Nature'!$A$5:$Q$8,15,FALSE),""),IFERROR(VLOOKUP($C17,'Valeurs Règlements Nature'!$A$5:$Q$8,16,FALSE),""))) | AI17: =IF(OR($C17="",$Y17="Oui",$Y17=""),"",IFERROR(VLOOKUP($C17,'Valeurs Règlements Nature'!$A$5:$Q$8,17,FALSE),"")) | AJ17: =IF(NOT(ISNUMBER(Z17)),"",IF($Y17="Oui",PI()*(Z17/2)^2,IF(ISNUMBER(AA17),PI()*(Z17/2)*(AA17/2),""))) | AK17: =IF(NOT(ISNUMBER(AB17)),"",IF($Y17="Oui",PI()*(AB17/2)^2,IF(ISNUMBER(AC17),PI()*(AB17/2)*(AC17/2),""))) | AL17: =IF(NOT(ISNUMBER(AD17)),"",IF($Y17="Oui",PI()*(AD17/2)^2,IF(ISNUMBER(AE17),PI()*(AD17/2)*(AE17/2),""))) | AM17: =IF(OR(AK17="",AK17=0,AL17=""),"",AL17/AK17) | AN17: =IF($C17="","",IFERROR(VLOOKUP($C17,'Valeurs Règlements Nature'!$A$5:$K$8,9,FALSE),"")) | AO17: =IF(OR($C17="",$Y17="",AJ17="",AK17="",AL17="",AM17=""),"",IF(AND(ABS(Z17-AF17)<=$Y$3,IF($Y17="Oui",TRUE,ABS(AA17-AG17)<=$Y$3),ABS(AB17-AH17)<=$Y$3,IF($Y17="Oui",TRUE,ABS(AC17-AI17)<=$Y$3),AL17>=IFERROR(VLOOKUP($C17,'Valeurs Règlements Nature'!$A$5:$K$8,8,FALSE),0),AL17<=AN17,AM17>=IFERROR(VLOOKUP($C17,'Valeurs Règlements Nature'!$A$5:$K$8,10,FALSE),0),AM17<=IFERROR(VLOOKUP($C17,'Valeurs Règlements Nature'!$A$5:$K$8,11,FALSE),999)),"CONFORME","NON CONFORME"))
... A26: 21 | B26: =IF(Organisateur!B26="","",Organisateur!B26) | C26: =IF(Organisateur!C26="","",Organisateur!C26) | E26: =IF(Organisateur!E26="","",Organisateur!E26) | F26: =IF(Organisateur!F26="","",Organisateur!F26) | G26: =IF(Organisateur!G26="","",Organisateur!G26) | H26: =IF(Organisateur!H26="","",Organisateur!H26) | J26: =IF($C26="","",IFERROR(VLOOKUP($C26,'Valeurs Règlements Nature'!$A$5:$G$8,3,FALSE),"")) | K26: =IF($C26="","",IFERROR(VLOOKUP($C26,'Valeurs Règlements Nature'!$A$5:$G$8,4,FALSE),"")) | L26: =IF($C26="","",IFERROR(VLOOKUP($C26,'Valeurs Règlements Nature'!$A$5:$G$8,5,FALSE),"")) | M26: =IF($C26="","",IFERROR(VLOOKUP($C26,'Valeurs Règlements Nature'!$A$5:$G$8,6,FALSE),"")) | N26: =IF($C26="","",IFERROR(VLOOKUP($C26,'Valeurs Règlements Nature'!$A$5:$G$8,7,FALSE),"")) | O26: =IF(OR($C26="",NOT(ISNUMBER(E26))),"",AND(E26>=J26,E26<=K26)) | P26: =IF(OR($C26="",NOT(ISNUMBER(F26))),"",AND(F26>='Valeurs Règlements Nature'!$F$17,F26<=L26)) | Q26: =IF(OR($C26="",NOT(ISNUMBER(G26))),"",AND(G26>='Valeurs Règlements Nature'!$F$17,G26<=M26)) | R26: =IF(OR($C26="",NOT(ISNUMBER(H26))),"",AND(H26>='Valeurs Règlements Nature'!$F$17,H26<=N26)) | S26: =IF(OR(NOT(ISNUMBER(E26)),NOT(ISNUMBER(F26))),"",IF(AND(E26>=F26,ABS(E26-F26)<='Valeurs Règlements Nature'!$F$16),"OK","Hors Fourchette")) | U26: =IF(OR(NOT(ISNUMBER(F26)),NOT(ISNUMBER(G26))),"",IF(AND(F26>=G26,ABS(F26-G26)<='Valeurs Règlements Nature'!$F$16),"OK","Hors Fourchette")) | W26: =IF(OR(NOT(ISNUMBER(G26)),NOT(ISNUMBER(H26))),"",IF(AND(G26>=H26,ABS(G26-H26)<='Valeurs Règlements Nature'!$F$16),"OK","Hors Fourchette")) | AF26: =IF(OR($C26="",$Y26=""),"",IF($Y26="Oui",IFERROR(VLOOKUP($C26,'Valeurs Règlements Nature'!$A$5:$Q$8,12,FALSE),""),IFERROR(VLOOKUP($C26,'Valeurs Règlements Nature'!$A$5:$Q$8,13,FALSE),""))) | AG26: =IF(OR($C26="",$Y26="Oui",$Y26=""),"",IFERROR(VLOOKUP($C26,'Valeurs Règlements Nature'!$A$5:$Q$8,14,FALSE),"")) | AH26: =IF(OR($C26="",$Y26=""),"",IF($Y26="Oui",IFERROR(VLOOKUP($C26,'Valeurs Règlements Nature'!$A$5:$Q$8,15,FALSE),""),IFERROR(VLOOKUP($C26,'Valeurs Règlements Nature'!$A$5:$Q$8,16,FALSE),""))) | AI26: =IF(OR($C26="",$Y26="Oui",$Y26=""),"",IFERROR(VLOOKUP($C26,'Valeurs Règlements Nature'!$A$5:$Q$8,17,FALSE),"")) | AJ26: =IF(NOT(ISNUMBER(Z26)),"",IF($Y26="Oui",PI()*(Z26/2)^2,IF(ISNUMBER(AA26),PI()*(Z26/2)*(AA26/2),""))) | AK26: =IF(NOT(ISNUMBER(AB26)),"",IF($Y26="Oui",PI()*(AB26/2)^2,IF(ISNUMBER(AC26),PI()*(AB26/2)*(AC26/2),""))) | AL26: =IF(NOT(ISNUMBER(AD26)),"",IF($Y26="Oui",PI()*(AD26/2)^2,IF(ISNUMBER(AE26),PI()*(AD26/2)*(AE26/2),""))) | AM26: =IF(OR(AK26="",AK26=0,AL26=""),"",AL26/AK26) | AN26: =IF($C26="","",IFERROR(VLOOKUP($C26,'Valeurs Règlements Nature'!$A$5:$K$8,9,FALSE),"")) | AO26: =IF(OR($C26="",$Y26="",AJ26="",AK26="",AL26="",AM26=""),"",IF(AND(ABS(Z26-AF26)<=$Y$3,IF($Y26="Oui",TRUE,ABS(AA26-AG26)<=$Y$3),ABS(AB26-AH26)<=$Y$3,IF($Y26="Oui",TRUE,ABS(AC26-AI26)<=$Y$3),AL26>=IFERROR(VLOOKUP($C26,'Valeurs Règlements Nature'!$A$5:$K$8,8,FALSE),0),AL26<=AN26,AM26>=IFERROR(VLOOKUP($C26,'Valeurs Règlements Nature'!$A$5:$K$8,10,FALSE),0),AM26<=IFERROR(VLOOKUP($C26,'Valeurs Règlements Nature'!$A$5:$K$8,11,FALSE),999)),"CONFORME","NON CONFORME"))
B28: Nb réglementaire répartition par type | C28: Nb effectif | D28: Contrôle Nb | E28: Moyenne | F28: Moyenne | G28: Moyenne | H28: Moyenne
A29: ='Valeurs Règlements Nature'!A5 -> Petit Animal | B29: ='Valeurs Règlements Nature'!B5 -> 4 | C29: =COUNTIF($C6:$C26,A29) -> 0 | D29: =IF(C29=B29,"ok","incorrect") -> incorrect | E29: =IFERROR(AVERAGEIF($C$6:$C$26,$A29,E$6:E$26),"") | F29: =IFERROR(AVERAGEIF($C$6:$C$26,$A29,F$6:F$26),"") | G29: =IFERROR(AVERAGEIF($C$6:$C$26,$A29,G$6:G$26),"") | H29: =IFERROR(AVERAGEIF($C$6:$C$26,$A29,H$6:H$26),"") | S29: ARBITRE
A30: ='Valeurs Règlements Nature'!A6 -> Petit Gibier | B30: ='Valeurs Règlements Nature'!B6 -> 6 | C30: =COUNTIF($C6:$C26,A30) -> 0 | D30: =IF(C30=B30,"ok","incorrect") -> incorrect | E30: =IFERROR(AVERAGEIF($C$6:$C$26,$A30,E$6:E$26),"") | F30: =IFERROR(AVERAGEIF($C$6:$C$26,$A30,F$6:F$26),"") | G30: =IFERROR(AVERAGEIF($C$6:$C$26,$A30,G$6:G$26),"") | H30: =IFERROR(AVERAGEIF($C$6:$C$26,$A30,H$6:H$26),"")
A31: ='Valeurs Règlements Nature'!A7 -> Moyen Gibier | B31: ='Valeurs Règlements Nature'!B7 -> 7 | C31: =COUNTIF($C6:$C26,A31) -> 0 | D31: =IF(C31=B31,"ok","incorrect") -> incorrect | E31: =IFERROR(AVERAGEIF($C$6:$C$26,$A31,E$6:E$26),"") | F31: =IFERROR(AVERAGEIF($C$6:$C$26,$A31,F$6:F$26),"") | G31: =IFERROR(AVERAGEIF($C$6:$C$26,$A31,G$6:G$26),"") | H31: =IFERROR(AVERAGEIF($C$6:$C$26,$A31,H$6:H$26),"")
A32: ='Valeurs Règlements Nature'!A8 -> Grand Gibier | B32: ='Valeurs Règlements Nature'!B8 -> 4 | C32: =COUNTIF($C6:$C26,A32) -> 0 | D32: =IF(C32=B32,"ok","incorrect") -> incorrect | E32: =IFERROR(AVERAGEIF($C$6:$C$26,$A32,E$6:E$26),"") | F32: =IFERROR(AVERAGEIF($C$6:$C$26,$A32,F$6:F$26),"") | G32: =IFERROR(AVERAGEIF($C$6:$C$26,$A32,G$6:G$26),"") | H32: =IFERROR(AVERAGEIF($C$6:$C$26,$A32,H$6:H$26),"")
B33: =SUM(B29:B32) -> 21 | E33: Total | F33: Total | G33: Total | H33: Total
E34: =SUM(E6:E26) -> 0 | F34: =SUM(F6:F26) -> 0 | G34: =SUM(G6:G26) -> 0 | H34: =SUM(H6:H26) -> 0
B35: Fourchette réglementaire Rouge | C35: ='Valeurs Règlements Nature'!C10 -> 525 | D35: ='Valeurs Règlements Nature'!D10 -> 550 | E35: =IF(COUNT(E6:E26)=0,"",IF(AND(COUNT(E6:E26)=21,E34>=C35,E34<=D35),"ok",IF(COUNT(E6:E26)<21,"incorrect","hors fourchette")))

Sheet Valeurs Règlements Nature
A1: Règlements sportifs et Arbitrage | C1: 46265 | H1: Surface zone Blessé | L1: Surface Zone Tué
A2: Tableau Règle Nature | H2: Mini | I2: Maxi | J2: Nbre de fois | L2: Arc Libre | O2: Hors Arc Libre
A3: Nature : 21 cibles | C3: Pas Rouge | E3: Pas bleu | F3: Pas Blanc | G3: Pas Rose | L3: Zone Ronde | M3: Zone Ovale | O3: Zone Ronde | P3: Zone Ovale
A4: Cible | B4: Nombre | C4: Mini | D4: Maxi | E4: Maxi | F4: Maxi | G4: Maxi | J4: Mini | K4: Maxi | M4: D | N4: L | P4: D | Q4: L
A5: Petit Animal | B5: 4 | C5: 5 | D5: 15 | E5: 15 | F5: 15 | G5: 10 | H5: 176 | I5: 660 | J5: 4 | K5: 15 | L5: 7.5 | M5: 6 | N5: 9.5 | O5: 7.5 | P5: 6 | Q5: 9.5
A6: Petit Gibier | B6: 6 | C6: 15 | D6: 25 | E6: 20 | F6: 15 | G6: 10 | H6: 704 | I6: 1584 | J6: 4 | K6: 9 | L6: 7.5 | M6: 6 | N6: 9.5 | O6: 15 | P6: 11.5 | Q6: 18
A7: Moyen Gibier | B7: 7 | C7: 20 | D7: 35 | E7: 30 | F7: 25 | G7: 15 | H7: 1590 | I7: 3582 | J7: 4 | K7: 9 | L7: 15 | M7: 11.5 | N7: 18 | O7: 22.5 | P7: 18 | Q7: 27.5
A8: Grand Gibier | B8: 4 | C8: 30 | D8: 40 | E8: 35 | F8: 30 | G8: 20 | H8: 2828 | I8: 7777 | J8: 4 | K8: 11 | L8: 15 | M8: 11.5 | N8: 18 | O8: 30 | P8: 22.5 | Q8: 36
B9: =SUM(B5:B8) -> 21
A10: Total distance | B10: officiel | C10: 525 | D10: 550
A12: Oui
A13: Non
B15: Pas Jaune compris entre | D15: 4 | E15: et | F15: 10 | H15: du pas rouge
B16: Pas de tir éloignés entre eux au maximum de | F16: 7
B17: Distance minimum du pas de tir blanc à la cible de | F17: 5
